Felt | Verdi |
AlreadyApplied | True |
Aperture | 4.0 |
ApertureValue | 4.0 |
ApproximateFocusDistance | 9.77 |
AutoLateralCA | 0 |
AutoWhiteVersion | 134348800 |
BitsPerSample | 8 |
Blacks2012 | +17 |
BlueHue | -14 |
BlueSaturation | +100 |
CameraProfile | Adobe Standard |
CircGradBasedCorrActive | true |
CircGradBasedCorrAmount | 1.000000 |
CircGradBasedCorrBrightness | 0.000000 |
CircGradBasedCorrClarity2012 (1) | 0.000000 |
CircGradBasedCorrClarity2012 (10) | -0.195400 |
CircGradBasedCorrClarity2012 (2) | 0.310340 |
CircGradBasedCorrClarity2012 (6) | -0.238100 |
CircGradBasedCorrClarity2012 (7) | -0.761900 |
CircGradBasedCorrClarity2012 (9) | 0.218390 |
CircGradBasedCorrClarity2012 | -0.380950 |
CircGradBasedCorrContrast2012 (1) | -0.310340 |
CircGradBasedCorrContrast2012 (10) | -0.172410 |
CircGradBasedCorrContrast2012 (5) | -0.666670 |
CircGradBasedCorrContrast2012 (6) | -0.523810 |
CircGradBasedCorrContrast2012 (7) | -0.547620 |
CircGradBasedCorrContrast2012 (8) | 0.595240 |
CircGradBasedCorrContrast2012 | 0.000000 |
CircGradBasedCorrDefringe | 0.000000 |
CircGradBasedCorrExposure2012 (2) | 0.080500 |
CircGradBasedCorrExposure2012 (3) | 0.126500 |
CircGradBasedCorrExposure2012 (4) | 0.034500 |
CircGradBasedCorrExposure2012 (8) | -0.166750 |
CircGradBasedCorrExposure2012 (9) | 0.149500 |
CircGradBasedCorrExposure2012 | 0.000000 |
CircGradBasedCorrHighlights2012 (3) | 0.264370 |
CircGradBasedCorrHighlights2012 (8) | -0.595240 |
CircGradBasedCorrHighlights2012 | 0.000000 |
CircGradBasedCorrHue | 168.000000 |
CircGradBasedCorrLuminanceNoise (10) | 0.356320 |
CircGradBasedCorrLuminanceNoise (2) | 0.000000 |
CircGradBasedCorrLuminanceNoise (9) | 0.517240 |
CircGradBasedCorrLuminanceNoise | 0.380950 |
CircGradBasedCorrMaskAngle (2) | -44.220400 |
CircGradBasedCorrMaskAngle (8) | 5.161520 |
CircGradBasedCorrMaskAngle (9) | 42.208000 |
CircGradBasedCorrMaskAngle | 0.000000 |
CircGradBasedCorrMaskBottom (1) | 0.573771 |
CircGradBasedCorrMaskBottom (10) | 0.290984 |
CircGradBasedCorrMaskBottom (2) | 0.364060 |
CircGradBasedCorrMaskBottom (3) | 0.954918 |
CircGradBasedCorrMaskBottom (4) | 0.463115 |
CircGradBasedCorrMaskBottom (5) | 0.128676 |
CircGradBasedCorrMaskBottom (6) | 1.158090 |
CircGradBasedCorrMaskBottom (7) | 0.154412 |
CircGradBasedCorrMaskBottom (8) | 0.312939 |
CircGradBasedCorrMaskBottom (9) | 0.447356 |
CircGradBasedCorrMaskBottom | 0.494810 |
CircGradBasedCorrMaskFeather (6) | +60 |
CircGradBasedCorrMaskFeather | +73 |
CircGradBasedCorrMaskFlipped | true |
CircGradBasedCorrMaskLeft (1) | 0.043716 |
CircGradBasedCorrMaskLeft (10) | 0.157104 |
CircGradBasedCorrMaskLeft (2) | 0.159338 |
CircGradBasedCorrMaskLeft (3) | 0.346995 |
CircGradBasedCorrMaskLeft (4) | 0.158470 |
CircGradBasedCorrMaskLeft (5) | 0.618873 |
CircGradBasedCorrMaskLeft (6) | 0.634804 |
CircGradBasedCorrMaskLeft (7) | 0.661765 |
CircGradBasedCorrMaskLeft (8) | 0.334134 |
CircGradBasedCorrMaskLeft (9) | 0.374098 |
CircGradBasedCorrMaskLeft | 0.555939 |
CircGradBasedCorrMaskMidpoint | +50 |
CircGradBasedCorrMaskRight (1) | 0.202186 |
CircGradBasedCorrMaskRight (10) | 0.312842 |
CircGradBasedCorrMaskRight (2) | 0.455417 |
CircGradBasedCorrMaskRight (3) | 0.445355 |
CircGradBasedCorrMaskRight (4) | 0.300546 |
CircGradBasedCorrMaskRight (5) | 0.905637 |
CircGradBasedCorrMaskRight (6) | 1.014710 |
CircGradBasedCorrMaskRight (7) | 0.928922 |
CircGradBasedCorrMaskRight (8) | 0.634003 |
CircGradBasedCorrMaskRight (9) | 0.360233 |
CircGradBasedCorrMaskRight | 0.809689 |
CircGradBasedCorrMaskRoundness | 0 |
CircGradBasedCorrMaskTop (1) | 0.024591 |
CircGradBasedCorrMaskTop (10) | 0.118852 |
CircGradBasedCorrMaskTop (2) | 0.201512 |
CircGradBasedCorrMaskTop (3) | 0.807377 |
CircGradBasedCorrMaskTop (4) | 0.127049 |
CircGradBasedCorrMaskTop (5) | -0.069853 |
CircGradBasedCorrMaskTop (6) | 0.683823 |
CircGradBasedCorrMaskTop (7) | -0.084559 |
CircGradBasedCorrMaskTop (8) | 0.102502 |
CircGradBasedCorrMaskTop (9) | 0.284481 |
CircGradBasedCorrMaskTop | 0.190311 |
CircGradBasedCorrMaskValue | 1.000000 |
CircGradBasedCorrMaskVersion | +2 |
CircGradBasedCorrMaskWhat | Mask/CircularGradient |
CircGradBasedCorrMoire | 0.000000 |
CircGradBasedCorrSaturation | 0.000000 |
CircGradBasedCorrShadows2012 (1) | 0.678160 |
CircGradBasedCorrShadows2012 (10) | 0.287360 |
CircGradBasedCorrShadows2012 (3) | 0.494250 |
CircGradBasedCorrShadows2012 (4) | 0.425290 |
CircGradBasedCorrShadows2012 (5) | 0.000000 |
CircGradBasedCorrShadows2012 | 0.690480 |
CircGradBasedCorrSharpness (3) | 0.000000 |
CircGradBasedCorrSharpness (5) | -0.642860 |
CircGradBasedCorrSharpness (6) | -0.809520 |
CircGradBasedCorrSharpness (7) | -0.476190 |
CircGradBasedCorrSharpness (9) | 0.241380 |
CircGradBasedCorrSharpness | -0.166670 |
CircGradBasedCorrTemperature | 0.000000 |
CircGradBasedCorrTint | 0.000000 |
CircGradBasedCorrWhat | Correction |
CircleOfConfusion | 0.031 mm |
Clarity2012 | +24 |
ColorComponents | 3 |
ColorNoiseReduction | 25 |
ColorNoiseReductionDetail | 50 |
ColorNoiseReductionSmoothness | 50 |
ColorSpace | sRGB |
ColorTemperature | 3786 |
ColorTransform | YCbCr |
Contrast2012 | 0 |
ConvertToGrayscale | True |
CreateDate (1) | 2014:06:12 16:06:53.84 |
CreateDate | 2014:06:12 16:06:53 |
CreatorTool | Adobe Photoshop Lightroom 5.0 (Windows) |
CustomRendered | Normal |
DateCreated (1) | 2014:06:12 |
DateCreated | 2014:06:12 16:06:53.84 |
DateTimeOriginal | 2014:06:12 16:06:53 |
DOF | 2.63 m (8.63 - 11.26 m) |
Exposure2012 | -0.12 |
ExposureCompensation | -1 |
ExposureMode | Auto |
ExposureProgram | Aperture-priority AE |
ExposureTime | 1/180 |
Firmware | 2.0.9 |
Flash | Off, Did not fire |
FlashCompensation | 0 |
FNumber | 4.0 |
FocalLength | 95.0 mm |
FocalLength35efl | 95.0 mm (35 mm equivalent: 92.7 mm) |
Format | image/jpeg |
FOV | 22.0 deg |
GradientBasedCorrActive | true |
GradientBasedCorrAmount | 1.000000 |
GradientBasedCorrBrightness | 0.000000 |
GradientBasedCorrClarity2012 | 0.000000 |
GradientBasedCorrContrast2012 | 0.000000 |
GradientBasedCorrDefringe | 0.000000 |
GradientBasedCorrExposure2012 | -0.126500 |
GradientBasedCorrHighlights2012 | -0.632180 |
GradientBasedCorrHue | 168.000000 |
GradientBasedCorrLuminanceNoise | 0.000000 |
GradientBasedCorrMaskFullX | 0.448087 |
GradientBasedCorrMaskFullY | 1.053280 |
GradientBasedCorrMaskValue | 1.000000 |
GradientBasedCorrMaskWhat | Mask/Gradient |
GradientBasedCorrMaskZeroX | 0.465847 |
GradientBasedCorrMaskZeroY | 0.698770 |
GradientBasedCorrMoire | 0.000000 |
GradientBasedCorrSaturation | 0.000000 |
GradientBasedCorrShadows2012 | -0.885060 |
GradientBasedCorrSharpness | 0.000000 |
GradientBasedCorrTemperature | 0.000000 |
GradientBasedCorrTint | 0.000000 |
GradientBasedCorrWhat | Correction |
GrainAmount | 27 |
GrainFrequency | 50 |
GrainSize | 38 |
GrayMixerAqua | +100 |
GrayMixerBlue | +100 |
GrayMixerGreen | -38 |
GrayMixerMagenta | -100 |
GrayMixerOrange | -51 |
GrayMixerPurple | -58 |
GrayMixerRed | -100 |
GrayMixerYellow | -100 |
GreenHue | -52 |
GreenSaturation | +100 |
HasCrop | False |
HasSettings | True |
Highlights2012 | -52 |
HyperfocalDistance | 73.29 m |
ImageHeight | 5616 |
ImageNumber | 0 |
ImageSize | 3744x5616 |
ImageWidth | 3744 |
ISO | 640 |
Lens | EF70-200mm f/2.8L IS II USM |
LensID (1) | 251 |
LensID | Canon EF 70-200mm f/2.8L IS II USM |
LensInfo | 70-200mm f/? |
LensManualDistortionAmount | 0 |
LensModel | EF70-200mm f/2.8L IS II USM |
LensProfileEnable | 0 |
LensProfileSetup | LensDefaults |
LightValue | 8.8 |
LuminanceNoiseReductionContrast | 20 |
LuminanceNoiseReductionDetail | 36 |
LuminanceSmoothing | 23 |
Make | Canon |
MaxApertureValue | 2.8 |
Megapixels | 21.0 |
MeteringMode | Center-weighted average |
Model | Canon EOS 5D Mark II |
ModifyDate (1) | 2014:06:13 03:41:14+02:00 |
ModifyDate | 2014:06:13 03:41:14 |
ParametricDarks | 0 |
ParametricHighlights | 0 |
ParametricHighlightSplit | 75 |
ParametricLights | 0 |
ParametricMidtoneSplit | 50 |
ParametricShadows | 0 |
ParametricShadowSplit | 25 |
PerspectiveAspect | 0 |
PerspectiveHorizontal | 0 |
PerspectiveRotate | 0.0 |
PerspectiveScale | 100 |
PerspectiveUpright | 0 |
PerspectiveVertical | 0 |
PostCropVignetteAmount | 0 |
ProcessVersion | 6.7 |
ProfileDescription | sRGB IEC61966-2.1 |
RedHue | +26 |
RedSaturation | +79 |
ScaleFactor35efl | 1.0 |
SceneCaptureType | Standard |
SerialNumber | 2931502773 |
Shadows2012 | +7 |
ShadowTint | -19 |
SharpenDetail | 25 |
SharpenEdgeMasking | 30 |
SharpenRadius | +1.0 |
Sharpness | 25 |
ShutterSpeed | 1/180 |
ShutterSpeedValue | 1/180 |
Software | Adobe Photoshop Lightroom 5.0 (Windows) |
SplitToningBalance | 0 |
SplitToningHighlightHue | 0 |
SplitToningHighlightSaturation | 0 |
SplitToningShadowHue | 189 |
SplitToningShadowSaturation | 0 |
Tint | +11 |
ToneCurveName2012 | Custom |
ToneCurvePV2012 | 0, 23, 51, 47, 93, 84, 145, 142, 207, 191, 255, 255 |
ToneCurvePV2012Blue | 0, 0, 255, 255 |
ToneCurvePV2012Green | 0, 0, 255, 255 |
ToneCurvePV2012Red | 0, 0, 255, 255 |
Version | 8.2 |
VignetteAmount | 0 |
WhiteBalance (1) | Custom |
WhiteBalance | Auto |
Whites2012 | 0 |