Felt | Verdi |
AlreadyApplied | True |
Aperture | 10.0 |
ApertureValue | 10.0 |
ApproximateFocusDistance | 4294967295 |
Artist | Jon Olav Nesvold |
AutoLateralCA | 1 |
AutoWhiteVersion | 134348800 |
BitsPerSample | 8 |
Blacks2012 | -65 |
BlueHue | 0 |
BlueSaturation | 0 |
By-line | Jon Olav Nesvold |
CameraProfile | Adobe Standard |
CFAPattern | [Red,Green][Green,Blue] |
CircleOfConfusion | 0.030 mm |
Clarity2012 | +24 |
ColorComponents | 3 |
ColorNoiseReduction | 68 |
ColorNoiseReductionDetail | 50 |
ColorNoiseReductionSmoothness | 50 |
ColorTemperature | 6973 |
ColorTransform | YCbCr |
Contrast | Normal |
Contrast2012 | +22 |
ConvertToGrayscale | False |
Copyright | Jon Olav Nesvold |
CopyrightNotice | Jon Olav Nesvold |
CreateDate (1) | 2015:05:26 20:29:47.20 |
CreateDate | 2015:05:26 20:29:47 |
Creator | Jon Olav Nesvold |
CreatorTool | Adobe Photoshop Lightroom 5.7.1 (Macintosh) |
CropAngle | -0.503119 |
CropBottom | 0.955253 |
CropConstrainToWarp | 0 |
CropLeft | 0.000665 |
CropRight | 0.999335 |
CropTop | 0.058607 |
CustomRendered | Normal |
DateCreated (1) | 2015:05:26 |
DateCreated | 2015:05:26 20:29:47.20 |
DateTimeOriginal | 2015:05:26 20:29:47 |
DefringeGreenAmount | 0 |
DefringeGreenHueHi | 60 |
DefringeGreenHueLo | 40 |
DefringePurpleAmount | 0 |
DefringePurpleHueHi | 70 |
DefringePurpleHueLo | 30 |
DigitalZoomRatio | 1 |
DOF | inf (4.08 m - inf) |
Exposure2012 | +0.35 |
ExposureCompensation | 0 |
ExposureMode | Manual |
ExposureProgram | Manual |
ExposureTime | 1/13 |
Flash | Off, Did not fire |
FNumber | 10.0 |
FocalLength | 35.0 mm |
FocalLength35efl | 35.0 mm (35 mm equivalent: 35.0 mm) |
FocalLengthIn35mmFormat | 35 mm |
Format | image/jpeg |
FOV | 54.4 deg |
GainControl | None |
GradientBasedCorrActive | true |
GradientBasedCorrAmount | 1.000000 |
GradientBasedCorrBrightness | 0.000000 |
GradientBasedCorrClarity2012 | -0.128336 |
GradientBasedCorrContrast2012 (1) | 0.336903 |
GradientBasedCorrContrast2012 | 0.000000 |
GradientBasedCorrDefringe | 0.000000 |
GradientBasedCorrExposure2012 (1) | -0.025983 |
GradientBasedCorrExposure2012 | -0.032040 |
GradientBasedCorrHighlights2012 | -0.505355 |
GradientBasedCorrHue | 240.000000 |
GradientBasedCorrLuminanceNoise | 0.000000 |
GradientBasedCorrMaskFullX (1) | 0.507518 |
GradientBasedCorrMaskFullX | 0.515527 |
GradientBasedCorrMaskFullY (1) | 0.104850 |
GradientBasedCorrMaskFullY | 1.019060 |
GradientBasedCorrMaskValue | 1.000000 |
GradientBasedCorrMaskWhat | Mask/Gradient |
GradientBasedCorrMaskZeroX (1) | 0.501752 |
GradientBasedCorrMaskZeroX | 0.517153 |
GradientBasedCorrMaskZeroY (1) | 0.742074 |
GradientBasedCorrMaskZeroY | 0.212363 |
GradientBasedCorrMoire | 0.000000 |
GradientBasedCorrSaturation (3) | 0.295295 |
GradientBasedCorrSaturation | 0.000000 |
GradientBasedCorrShadows2012 | 0.000000 |
GradientBasedCorrSharpness | 0.000000 |
GradientBasedCorrTemperature | 0.000000 |
GradientBasedCorrTint | 0.000000 |
GradientBasedCorrWhat | Correction |
GrainAmount | 0 |
GreenHue | 0 |
GreenSaturation | 0 |
HasCrop | True |
HasSettings | True |
Highlights2012 | -100 |
HueAdjustmentAqua | 0 |
HueAdjustmentBlue | 0 |
HueAdjustmentGreen | -16 |
HueAdjustmentMagenta | 0 |
HueAdjustmentOrange | +10 |
HueAdjustmentPurple | 0 |
HueAdjustmentRed | 0 |
HueAdjustmentYellow | 0 |
HyperfocalDistance | 4.08 m |
ImageHeight | 4469 |
ImageNumber | 15842 |
ImageSize | 7311x4469 |
ImageWidth | 7311 |
ISO | 100 |
Lens | 35.0 mm f/1.4 |
LensID (1) | 145 |
LensID | Sigma 35mm F1.4 DG HSM |
LensInfo | 35mm f/1.4 |
LensManualDistortionAmount | 0 |
LensModel | 35.0 mm f/1.4 |
LensProfileChromaticAberrationScale | 100 |
LensProfileDistortionScale | 100 |
LensProfileEnable | 1 |
LensProfileFilename | NIKON CORPORATION (SIGMA 35mm F1.4 DG HSM A012) - RAW.lcp |
LensProfileName | Adobe (SIGMA 35mm F1.4 DG HSM A012, NIKON CORPORATION) |
LensProfileSetup | LensDefaults |
LensProfileVignettingScale | 100 |
LightSource | Shade |
LightValue | 10.3 |
LuminanceAdjustmentAqua | 0 |
LuminanceAdjustmentBlue | 0 |
LuminanceAdjustmentGreen | +47 |
LuminanceAdjustmentMagenta | -27 |
LuminanceAdjustmentOrange | -11 |
LuminanceAdjustmentPurple | -40 |
LuminanceAdjustmentRed | 0 |
LuminanceAdjustmentYellow | 0 |
LuminanceSmoothing | 0 |
Make | NIKON CORPORATION |
MaxApertureValue | 1.4 |
Megapixels | 32.7 |
MeteringMode | Multi-segment |
Model | NIKON D800 |
ModifyDate (1) | 2015:06:03 12:19:50+02:00 |
ModifyDate | 2015:06:03 12:19:50 |
PaintCorrectionActive | true |
PaintCorrectionAmount | 1.000000 |
PaintCorrectionBrightness | 0.000000 |
PaintCorrectionClarity2012 | 0.400105 |
PaintCorrectionContrast2012 | 0.000000 |
PaintCorrectionDefringe | 0.000000 |
PaintCorrectionExposure2012 | 0.173718 |
PaintCorrectionHighlights2012 | 0.000000 |
PaintCorrectionHue | 240.000000 |
PaintCorrectionLuminanceNoise | 0.000000 |
PaintCorrectionMaskCenterWeight (5) | 0.550997 |
PaintCorrectionMaskCenterWeight | 1.000000 |
PaintCorrectionMaskFlow | 1.000000 |
PaintCorrectionMaskRadius (1) | 0.014147 |
PaintCorrectionMaskRadius (10) | 0.013995 |
PaintCorrectionMaskRadius (11) | 0.023642 |
PaintCorrectionMaskRadius (12) | 0.023656 |
PaintCorrectionMaskRadius (13) | 0.023380 |
PaintCorrectionMaskRadius (14) | 0.023396 |
PaintCorrectionMaskRadius (15) | 0.023406 |
PaintCorrectionMaskRadius (16) | 0.023415 |
PaintCorrectionMaskRadius (17) | 0.023438 |
PaintCorrectionMaskRadius (18) | 0.023466 |
PaintCorrectionMaskRadius (19) | 0.023534 |
PaintCorrectionMaskRadius (2) | 0.014037 |
PaintCorrectionMaskRadius (20) | 0.023549 |
PaintCorrectionMaskRadius (23) | 0.023370 |
PaintCorrectionMaskRadius (24) | 0.023371 |
PaintCorrectionMaskRadius (25) | 0.023693 |
PaintCorrectionMaskRadius (26) | 0.023700 |
PaintCorrectionMaskRadius (27) | 0.023600 |
PaintCorrectionMaskRadius (28) | 0.023567 |
PaintCorrectionMaskRadius (29) | 0.023634 |
PaintCorrectionMaskRadius (3) | 0.013973 |
PaintCorrectionMaskRadius (30) | 0.023641 |
PaintCorrectionMaskRadius (31) | 0.023648 |
PaintCorrectionMaskRadius (32) | 0.023619 |
PaintCorrectionMaskRadius (33) | 0.023597 |
PaintCorrectionMaskRadius (34) | 0.026103 |
PaintCorrectionMaskRadius (35) | 0.026092 |
PaintCorrectionMaskRadius (36) | 0.026459 |
PaintCorrectionMaskRadius (37) | 0.008116 |
PaintCorrectionMaskRadius (38) | 0.005683 |
PaintCorrectionMaskRadius (39) | 0.005679 |
PaintCorrectionMaskRadius (4) | 0.014107 |
PaintCorrectionMaskRadius (40) | 0.005674 |
PaintCorrectionMaskRadius (41) | 0.005676 |
PaintCorrectionMaskRadius (44) | 0.005656 |
PaintCorrectionMaskRadius (45) | 0.005658 |
PaintCorrectionMaskRadius (46) | 0.005665 |
PaintCorrectionMaskRadius (47) | 0.005666 |
PaintCorrectionMaskRadius (5) | 0.014145 |
PaintCorrectionMaskRadius (50) | 0.005655 |
PaintCorrectionMaskRadius (51) | 0.005634 |
PaintCorrectionMaskRadius (52) | 0.005630 |
PaintCorrectionMaskRadius (53) | 0.005608 |
PaintCorrectionMaskRadius (54) | 0.005611 |
PaintCorrectionMaskRadius (55) | 0.005632 |
PaintCorrectionMaskRadius (6) | 0.014097 |
PaintCorrectionMaskRadius (7) | 0.013987 |
PaintCorrectionMaskRadius (8) | 0.013941 |
PaintCorrectionMaskRadius (9) | 0.013938 |
PaintCorrectionMaskRadius | 0.005643 |
PaintCorrectionMaskValue (7) | 1.000000 |
PaintCorrectionMaskValue | 0.000000 |
PaintCorrectionMaskWhat | Mask/Paint |
PaintCorrectionMoire | 0.000000 |
PaintCorrectionSaturation | 0.000000 |
PaintCorrectionShadows2012 | 0.851211 |
PaintCorrectionSharpness | 0.000000 |
PaintCorrectionTemperature | 0.000000 |
PaintCorrectionTint | 0.000000 |
PaintCorrectionWhat | Correction |
ParametricDarks | 0 |
ParametricHighlights | 0 |
ParametricHighlightSplit | 75 |
ParametricLights | 0 |
ParametricMidtoneSplit | 50 |
ParametricShadows | 0 |
ParametricShadowSplit | 25 |
PerspectiveAspect | 0 |
PerspectiveHorizontal | 0 |
PerspectiveRotate | 0.0 |
PerspectiveScale | 100 |
PerspectiveUpright | 0 |
PerspectiveVertical | 0 |
PostCropVignetteAmount | 0 |
ProcessVersion | 6.7 |
ProfileDescription | sRGB IEC61966-2.1 |
RedHue | 0 |
RedSaturation | 0 |
Rights | Jon Olav Nesvold |
Saturation (1) | +4 |
Saturation | Normal |
SaturationAdjustmentAqua | +25 |
SaturationAdjustmentBlue | +18 |
SaturationAdjustmentGreen | +12 |
SaturationAdjustmentMagenta | +34 |
SaturationAdjustmentOrange | +43 |
SaturationAdjustmentPurple | +27 |
SaturationAdjustmentRed | +14 |
SaturationAdjustmentYellow | +19 |
ScaleFactor35efl | 1.0 |
SceneCaptureType | Landscape |
SceneType | Directly photographed |
SensingMethod | One-chip color area |
SensitivityType | Recommended Exposure Index |
SerialNumber | 6042024 |
Shadows2012 | +100 |
ShadowTint | 0 |
SharpenDetail | 25 |
SharpenEdgeMasking | 90 |
SharpenRadius | +1.0 |
Sharpness (1) | 56 |
Sharpness | Normal |
ShutterSpeed | 1/13 |
ShutterSpeedValue | 1/13 |
Software | Adobe Photoshop Lightroom 5.7.1 (Macintosh) |
SplitToningBalance | 0 |
SplitToningHighlightHue | 0 |
SplitToningHighlightSaturation | 0 |
SplitToningShadowHue | 0 |
SplitToningShadowSaturation | 0 |
SubjectDistanceRange | Unknown |
Tint | +20 |
ToneCurve | 0, 0, 255, 255 |
ToneCurveBlue | 0, 0, 255, 255 |
ToneCurveGreen | 0, 0, 255, 255 |
ToneCurveName | Linear |
ToneCurveName2012 | Linear |
ToneCurvePV2012 | 0, 0, 255, 255 |
ToneCurvePV2012Blue | 0, 0, 255, 255 |
ToneCurvePV2012Green | 0, 0, 255, 255 |
ToneCurvePV2012Red | 0, 0, 255, 255 |
ToneCurveRed | 0, 0, 255, 255 |
Version | 8.7.1 |
Vibrance | +4 |
VignetteAmount | 0 |
WhiteBalance (1) | Custom |
WhiteBalance | Manual |
Whites2012 | +8 |