Felt | Verdi |
AlreadyApplied | True |
Aperture | 8.0 |
ApertureValue | 8.0 |
ApproximateFocusDistance | 4294967295 |
Artist | Jon Olav Nesvold |
AutoLateralCA | 1 |
AutoWhiteVersion | 134348800 |
BitsPerSample | 8 |
Blacks2012 | -28 |
BlueHue | 0 |
BlueSaturation | 0 |
By-line | Jon Olav Nesvold |
CameraProfile | Adobe Standard |
CFAPattern | [Red,Green][Green,Blue] |
CircGradBasedCorrActive | true |
CircGradBasedCorrAmount | 1.000000 |
CircGradBasedCorrBrightness | 0.000000 |
CircGradBasedCorrClarity2012 | 0.172314 |
CircGradBasedCorrContrast2012 | 0.118416 |
CircGradBasedCorrDefringe | 0.000000 |
CircGradBasedCorrExposure2012 | 0.176527 |
CircGradBasedCorrHue | 240.000000 |
CircGradBasedCorrMaskAngle | 3.317170 |
CircGradBasedCorrMaskBottom | 0.648697 |
CircGradBasedCorrMaskFeather | +50 |
CircGradBasedCorrMaskFlipped | true |
CircGradBasedCorrMaskLeft | -0.393999 |
CircGradBasedCorrMaskMidpoint | +50 |
CircGradBasedCorrMaskRight | 1.100150 |
CircGradBasedCorrMaskRoundness | 0 |
CircGradBasedCorrMaskTop | 0.328818 |
CircGradBasedCorrMaskValue | 1.000000 |
CircGradBasedCorrMaskVersion | +2 |
CircGradBasedCorrMoire | 0.000000 |
CircGradBasedCorrSaturation | 0.000000 |
CircGradBasedCorrShadows2012 | 0.000000 |
CircGradBasedCorrSharpness | 0.000000 |
CircGradBasedCorrTemperature | 0.000000 |
CircGradBasedCorrTint | 0.000000 |
CircGradBasedCorrWhat | Correction |
CircleOfConfusion | 0.030 mm |
Clarity2012 | -12 |
ColorComponents | 3 |
ColorNoiseReduction | 45 |
ColorNoiseReductionDetail | 50 |
ColorNoiseReductionSmoothness | 50 |
ColorTemperature | 5050 |
ColorTransform | YCbCr |
Contrast | Normal |
Contrast2012 | +16 |
ConvertToGrayscale | False |
Copyright | Jon Olav Nesvold |
CopyrightNotice | Jon Olav Nesvold |
CreateDate (1) | 2015:05:26 19:56:22.50 |
CreateDate | 2015:05:26 19:56:22 |
Creator | Jon Olav Nesvold |
CropAngle | 3.09386 |
CropBottom | 0.913221 |
CropConstrainToWarp | 0 |
CropLeft | 0.042079 |
CropRight | 0.959284 |
CropTop | 0.032439 |
CustomRendered | Normal |
DateCreated (1) | 2015:05:26 |
DateCreated | 2015:05:26 19:56:22.50 |
DateTimeOriginal | 2015:05:26 19:56:22 |
DefringeGreenAmount | 0 |
DefringeGreenHueHi | 60 |
DefringeGreenHueLo | 40 |
DefringePurpleAmount | 0 |
DefringePurpleHueHi | 70 |
DefringePurpleHueLo | 30 |
DigitalZoomRatio | 1 |
DOF | inf (7.34 m - inf) |
Exposure2012 | -0.10 |
ExposureCompensation | 0 |
ExposureMode | Manual |
ExposureProgram | Manual |
ExposureTime | 1/100 |
Flash | Off, Did not fire |
FNumber | 8.0 |
FocalLength | 42.0 mm |
FocalLengthIn35mmFormat | 42 mm |
Format | image/jpeg |
FOV | 46.4 deg |
GainControl | Low gain up |
GradientBasedCorrActive | true |
GradientBasedCorrAmount | 1.000000 |
GradientBasedCorrBrightness | 0.000000 |
GradientBasedCorrClarity2012 | 0.030021 |
GradientBasedCorrContrast2012 | 0.000000 |
GradientBasedCorrDefringe | 0.000000 |
GradientBasedCorrExposure2012 | -0.059867 |
GradientBasedCorrHue | 240.000000 |
GradientBasedCorrMaskFullX (1) | 0.528898 |
GradientBasedCorrMaskFullX (2) | 0.363872 |
GradientBasedCorrMaskFullX (3) | 0.519026 |
GradientBasedCorrMaskFullX (4) | 0.481912 |
GradientBasedCorrMaskFullX (5) | 0.744273 |
GradientBasedCorrMaskFullX | 0.505423 |
GradientBasedCorrMaskFullY (1) | 0.131989 |
GradientBasedCorrMaskFullY (2) | 0.920060 |
GradientBasedCorrMaskFullY (3) | 0.194344 |
GradientBasedCorrMaskFullY (4) | 0.862904 |
GradientBasedCorrMaskFullY (5) | 0.297502 |
GradientBasedCorrMaskFullY | 0.118773 |
GradientBasedCorrMaskValue | 1.000000 |
GradientBasedCorrMaskWhat | Mask/Gradient |
GradientBasedCorrMaskZeroX (1) | 0.469934 |
GradientBasedCorrMaskZeroX (2) | 0.411615 |
GradientBasedCorrMaskZeroX (3) | 0.503423 |
GradientBasedCorrMaskZeroX (4) | 0.509900 |
GradientBasedCorrMaskZeroX (5) | 0.724382 |
GradientBasedCorrMaskZeroX | 0.493374 |
GradientBasedCorrMaskZeroY (1) | 0.739275 |
GradientBasedCorrMaskZeroY (2) | 0.004186 |
GradientBasedCorrMaskZeroY (3) | 0.516394 |
GradientBasedCorrMaskZeroY (4) | 0.651894 |
GradientBasedCorrMaskZeroY (5) | 0.646902 |
GradientBasedCorrMaskZeroY | 0.350214 |
GradientBasedCorrMoire | 0.000000 |
GradientBasedCorrSaturation | 0.000000 |
GradientBasedCorrShadows2012 | 0.000000 |
GradientBasedCorrSharpness | 0.000000 |
GradientBasedCorrTemperature | 0.000000 |
GradientBasedCorrTint | 0.000000 |
GradientBasedCorrWhat | Correction |
GrainAmount | 0 |
GreenHue | 0 |
GreenSaturation | 0 |
HasCrop | True |
HasSettings | True |
Highlights2012 | -100 |
HueAdjustmentAqua | 0 |
HueAdjustmentBlue | 0 |
HueAdjustmentGreen | 0 |
HueAdjustmentMagenta | 0 |
HueAdjustmentOrange | 0 |
HueAdjustmentPurple | 0 |
HueAdjustmentRed | 0 |
HueAdjustmentYellow | 0 |
HyperfocalDistance | 7.34 m |
ImageHeight | 3956 |
ImageNumber | 15817 |
ImageSize | 6974x3956 |
ImageWidth | 6974 |
ISO | 400 |
Lens | 24.0-85.0 mm f/3.5-4.5 |
LensID (1) | 180 |
LensInfo | 24-85mm f/3.5-4.5 |
LensManualDistortionAmount | 0 |
LensModel | 24.0-85.0 mm f/3.5-4.5 |
LensProfileChromaticAberrationScale | 100 |
LensProfileDistortionScale | 100 |
LensProfileEnable | 1 |
LensProfileSetup | LensDefaults |
LensProfileVignettingScale | 100 |
LightSource | Fine Weather |
LightValue | 10.6 |
LuminanceAdjustmentAqua | 0 |
LuminanceAdjustmentBlue | 0 |
LuminanceAdjustmentGreen | 0 |
LuminanceAdjustmentMagenta | 0 |
LuminanceAdjustmentOrange | 0 |
LuminanceAdjustmentPurple | 0 |
LuminanceAdjustmentRed | 0 |
LuminanceAdjustmentYellow | 0 |
LuminanceNoiseReductionContrast | 0 |
LuminanceNoiseReductionDetail | 50 |
LuminanceSmoothing | 10 |
Make | NIKON CORPORATION |
MaxApertureValue | 4.1 |
Megapixels | 27.6 |
MeteringMode | Multi-segment |
Model | NIKON D800 |
ModifyDate | 2015:06:03 13:27:41 |
PaintCorrectionActive | true |
PaintCorrectionAmount | 1.000000 |
PaintCorrectionBrightness | 0.000000 |
PaintCorrectionClarity2012 (1) | 0.284849 |
PaintCorrectionClarity2012 (2) | 0.146857 |
PaintCorrectionClarity2012 (3) | 0.000000 |
PaintCorrectionClarity2012 (5) | 0.157742 |
PaintCorrectionClarity2012 | 0.030021 |
PaintCorrectionContrast2012 | 0.000000 |
PaintCorrectionDefringe | 0.000000 |
PaintCorrectionExposure2012 | 0.054600 |
PaintCorrectionHighlights2012 | 0.000000 |
PaintCorrectionHue | 240.000000 |
PaintCorrectionLuminanceNoise | 0.000000 |
PaintCorrectionMaskFlow (17) | 1.000000 |
PaintCorrectionMaskFlow | 0.770731 |
PaintCorrectionMaskRadius (1) | 0.074315 |
PaintCorrectionMaskRadius (10) | 0.034942 |
PaintCorrectionMaskRadius (12) | 0.034654 |
PaintCorrectionMaskRadius (123) | 0.014932 |
PaintCorrectionMaskRadius (124) | 0.014937 |
PaintCorrectionMaskRadius (125) | 0.015176 |
PaintCorrectionMaskRadius (126) | 0.015580 |
PaintCorrectionMaskRadius (127) | 0.015771 |
PaintCorrectionMaskRadius (128) | 0.015034 |
PaintCorrectionMaskRadius (129) | 0.015231 |
PaintCorrectionMaskRadius (13) | 0.034673 |
PaintCorrectionMaskRadius (130) | 0.014923 |
PaintCorrectionMaskRadius (131) | 0.015001 |
PaintCorrectionMaskRadius (132) | 0.015258 |
PaintCorrectionMaskRadius (133) | 0.015515 |
PaintCorrectionMaskRadius (134) | 0.015335 |
PaintCorrectionMaskRadius (135) | 0.013417 |
PaintCorrectionMaskRadius (136) | 0.013225 |
PaintCorrectionMaskRadius (137) | 0.012587 |
PaintCorrectionMaskRadius (138) | 0.012496 |
PaintCorrectionMaskRadius (139) | 0.010090 |
PaintCorrectionMaskRadius (14) | 0.034989 |
PaintCorrectionMaskRadius (140) | 0.010149 |
PaintCorrectionMaskRadius (141) | 0.005466 |
PaintCorrectionMaskRadius (142) | 0.005621 |
PaintCorrectionMaskRadius (143) | 0.005412 |
PaintCorrectionMaskRadius (144) | 0.005402 |
PaintCorrectionMaskRadius (145) | 0.005418 |
PaintCorrectionMaskRadius (146) | 0.005487 |
PaintCorrectionMaskRadius (147) | 0.005490 |
PaintCorrectionMaskRadius (15) | 0.034724 |
PaintCorrectionMaskRadius (16) | 0.034988 |
PaintCorrectionMaskRadius (17) | 0.036095 |
PaintCorrectionMaskRadius (18) | 0.034723 |
PaintCorrectionMaskRadius (19) | 0.035049 |
PaintCorrectionMaskRadius (2) | 0.034694 |
PaintCorrectionMaskRadius (20) | 0.036115 |
PaintCorrectionMaskRadius (21) | 0.034682 |
PaintCorrectionMaskRadius (22) | 0.035378 |
PaintCorrectionMaskRadius (23) | 0.035371 |
PaintCorrectionMaskRadius (24) | 0.014533 |
PaintCorrectionMaskRadius (25) | 0.013024 |
PaintCorrectionMaskRadius (26) | 0.010435 |
PaintCorrectionMaskRadius (27) | 0.010460 |
PaintCorrectionMaskRadius (28) | 0.011080 |
PaintCorrectionMaskRadius (29) | 0.011101 |
PaintCorrectionMaskRadius (3) | 0.034779 |
PaintCorrectionMaskRadius (30) | 0.010484 |
PaintCorrectionMaskRadius (31) | 0.010517 |
PaintCorrectionMaskRadius (32) | 0.010565 |
PaintCorrectionMaskRadius (33) | 0.010610 |
PaintCorrectionMaskRadius (34) | 0.010735 |
PaintCorrectionMaskRadius (35) | 0.010723 |
PaintCorrectionMaskRadius (36) | 0.010692 |
PaintCorrectionMaskRadius (37) | 0.010663 |
PaintCorrectionMaskRadius (38) | 0.010722 |
PaintCorrectionMaskRadius (39) | 0.010670 |
PaintCorrectionMaskRadius (4) | 0.035209 |
PaintCorrectionMaskRadius (40) | 0.010697 |
PaintCorrectionMaskRadius (41) | 0.010653 |
PaintCorrectionMaskRadius (42) | 0.010644 |
PaintCorrectionMaskRadius (43) | 0.010734 |
PaintCorrectionMaskRadius (44) | 0.010805 |
PaintCorrectionMaskRadius (45) | 0.010787 |
PaintCorrectionMaskRadius (46) | 0.010847 |
PaintCorrectionMaskRadius (47) | 0.010973 |
PaintCorrectionMaskRadius (48) | 0.011029 |
PaintCorrectionMaskRadius (49) | 0.011078 |
PaintCorrectionMaskRadius (5) | 0.035599 |
PaintCorrectionMaskRadius (50) | 0.011163 |
PaintCorrectionMaskRadius (51) | 0.010419 |
PaintCorrectionMaskRadius (52) | 0.010420 |
PaintCorrectionMaskRadius (53) | 0.010424 |
PaintCorrectionMaskRadius (54) | 0.010516 |
PaintCorrectionMaskRadius (55) | 0.010534 |
PaintCorrectionMaskRadius (56) | 0.010472 |
PaintCorrectionMaskRadius (57) | 0.014983 |
PaintCorrectionMaskRadius (58) | 0.014995 |
PaintCorrectionMaskRadius (59) | 0.014972 |
PaintCorrectionMaskRadius (6) | 0.036283 |
PaintCorrectionMaskRadius (60) | 0.012630 |
PaintCorrectionMaskRadius (61) | 0.007098 |
PaintCorrectionMaskRadius (62) | 0.007175 |
PaintCorrectionMaskRadius (63) | 0.010492 |
PaintCorrectionMaskRadius (64) | 0.010515 |
PaintCorrectionMaskRadius (65) | 0.010474 |
PaintCorrectionMaskRadius (66) | 0.010426 |
PaintCorrectionMaskRadius (67) | 0.010429 |
PaintCorrectionMaskRadius (68) | 0.010464 |
PaintCorrectionMaskRadius (69) | 0.010658 |
PaintCorrectionMaskRadius (7) | 0.034968 |
PaintCorrectionMaskRadius (70) | 0.010876 |
PaintCorrectionMaskRadius (71) | 0.010958 |
PaintCorrectionMaskRadius (72) | 0.010572 |
PaintCorrectionMaskRadius (73) | 0.010563 |
PaintCorrectionMaskRadius (74) | 0.010441 |
PaintCorrectionMaskRadius (76) | 0.010482 |
PaintCorrectionMaskRadius (77) | 0.010840 |
PaintCorrectionMaskRadius (78) | 0.013240 |
PaintCorrectionMaskRadius (79) | 0.012648 |
PaintCorrectionMaskRadius (8) | 0.035369 |
PaintCorrectionMaskRadius (80) | 0.012597 |
PaintCorrectionMaskRadius (81) | 0.012756 |
PaintCorrectionMaskRadius (82) | 0.012871 |
PaintCorrectionMaskRadius (83) | 0.012555 |
PaintCorrectionMaskRadius (84) | 0.012715 |
PaintCorrectionMaskRadius (85) | 0.012517 |
PaintCorrectionMaskRadius (86) | 0.007121 |
PaintCorrectionMaskRadius (87) | 0.012521 |
PaintCorrectionMaskRadius (88) | 0.012523 |
PaintCorrectionMaskRadius (89) | 0.012522 |
PaintCorrectionMaskRadius (9) | 0.036003 |
PaintCorrectionMaskRadius (90) | 0.012537 |
PaintCorrectionMaskRadius (91) | 0.012543 |
PaintCorrectionMaskRadius (92) | 0.007724 |
PaintCorrectionMaskRadius (93) | 0.007713 |
PaintCorrectionMaskRadius (94) | 0.007345 |
PaintCorrectionMaskRadius (95) | 0.007291 |
PaintCorrectionMaskRadius (96) | 0.007427 |
PaintCorrectionMaskRadius (97) | 0.007311 |
PaintCorrectionMaskRadius (98) | 0.007230 |
PaintCorrectionMaskRadius (99) | 0.007217 |
PaintCorrectionMaskRadius | 0.026766 |
PaintCorrectionMaskValue (4) | 1.000000 |
PaintCorrectionMaskValue (98) | 0.000000 |
PaintCorrectionMaskValue | 0.513607 |
PaintCorrectionMaskWhat | Mask/Paint |
PaintCorrectionMoire | 0.000000 |
PaintCorrectionSaturation | 0.000000 |
PaintCorrectionShadows2012 | 0.000000 |
PaintCorrectionSharpness | 0.000000 |
PaintCorrectionTemperature | 0.000000 |
PaintCorrectionTint | 0.000000 |
PaintCorrectionWhat | Correction |
ParametricDarks | 0 |
ParametricHighlights | 0 |
ParametricHighlightSplit | 75 |
ParametricLights | 0 |
ParametricMidtoneSplit | 50 |
ParametricShadows | 0 |
ParametricShadowSplit | 25 |
PerspectiveAspect | 0 |
PerspectiveHorizontal | 0 |
PerspectiveRotate | 0.0 |
PerspectiveScale | 100 |
PerspectiveUpright | 0 |
PerspectiveVertical | 0 |
PostCropVignetteAmount | 0 |
ProcessVersion | 6.7 |
ProfileDescription | sRGB IEC61966-2.1 |
RedHue | 0 |
RedSaturation | 0 |
Rights | Jon Olav Nesvold |
Saturation (1) | -92 |
Saturation | Normal |
SaturationAdjustmentAqua | 0 |
SaturationAdjustmentBlue | 0 |
SaturationAdjustmentGreen | 0 |
SaturationAdjustmentMagenta | 0 |
SaturationAdjustmentOrange | 0 |
SaturationAdjustmentPurple | 0 |
SaturationAdjustmentRed | 0 |
SaturationAdjustmentYellow | 0 |
ScaleFactor35efl | 1.0 |
SceneCaptureType | Landscape |
SceneType | Directly photographed |
SensingMethod | One-chip color area |
SerialNumber | 6042024 |
Shadows2012 | +43 |
ShadowTint | 0 |
SharpenDetail | 25 |
SharpenEdgeMasking | 86 |
SharpenRadius | +1.0 |
Sharpness (1) | 58 |
Sharpness | Normal |
ShutterSpeed | 1/100 |
ShutterSpeedValue | 1/100 |
SplitToningBalance | 0 |
SplitToningHighlightHue | 0 |
SplitToningHighlightSaturation | 0 |
SplitToningShadowHue | 0 |
SplitToningShadowSaturation | 0 |
SubjectDistanceRange | Unknown |
Tint | +8 |
ToneCurve | 0, 0, 255, 255 |
ToneCurveBlue | 0, 0, 255, 255 |
ToneCurveGreen | 0, 0, 255, 255 |
ToneCurveName | Linear |
ToneCurveName2012 | Linear |
ToneCurvePV2012 | 0, 0, 255, 255 |
ToneCurvePV2012Blue | 0, 0, 255, 255 |
ToneCurvePV2012Green | 0, 0, 255, 255 |
ToneCurvePV2012Red | 0, 0, 255, 255 |
ToneCurveRed | 0, 0, 255, 255 |
Version | 8.7.1 |
Vibrance | 0 |
VignetteAmount | 0 |
WhiteBalance (1) | As Shot |
WhiteBalance | Manual |
Whites2012 | +15 |