Felt | Verdi |
AlreadyApplied | True |
Aperture | 22.0 |
ApertureValue | 22.0 |
ApproximateFocusDistance | 4294967295 |
AutoLateralCA | 0 |
BitsPerSample (1) | 8 8 8 |
BitsPerSample | 8 |
Blacks2012 | +8 |
BlueHue | 0 |
BlueSaturation | 0 |
Brightness | +50 |
CameraProfile | Adobe Standard |
CircleOfConfusion | 0.019 mm |
Clarity | 0 |
Clarity2012 | +44 |
ColorComponents | 3 |
ColorMode | RGB |
ColorNoiseReduction | 25 |
ColorNoiseReductionDetail | 50 |
ColorSpace | sRGB |
ColorTemperature | 7500 |
ColorTransform | YCbCr |
Contrast | +25 |
Contrast2012 | 0 |
ConvertToGrayscale | False |
CreateDate | 2015:06:11 22:57:18 |
CreatorTool | Adobe Photoshop Lightroom 4.0 (Macintosh) |
CustomRendered | Normal |
DateCreated (1) | 2015:06:11 |
DateCreated | 2015:06:11 22:57:18.003 |
DateTimeOriginal | 2015:06:11 22:57:18 |
Defringe | 0 |
DOF | inf (1.38 m - inf) |
ExifImageHeight | 3168 |
ExifImageWidth | 4752 |
Exposure | 0.00 |
Exposure2012 | -1.05 |
ExposureCompensation | 0 |
ExposureMode | Manual |
ExposureProgram | Manual |
ExposureTime | 6 |
FillLight | 0 |
Firmware | 1.0.9 |
Flash | Off, Did not fire |
FlashCompensation | 0 |
FNumber | 22.0 |
FocalLength | 24.0 mm |
FocalLength35efl | 24.0 mm (35 mm equivalent: 38.0 mm) |
Format | image/jpeg |
FOV | 50.7 deg |
GrainAmount | 0 |
GreenHue | 0 |
GreenSaturation | 0 |
HasCrop | False |
HasExtendedXMP | 636BF357245DA68DDEDA9621A07E9AD2 |
HasSettings | True |
HighlightRecovery | 0 |
Highlights2012 | -100 |
HueAdjustmentAqua | 0 |
HueAdjustmentBlue | 0 |
HueAdjustmentGreen | 0 |
HueAdjustmentMagenta | 0 |
HueAdjustmentOrange | 0 |
HueAdjustmentPurple | 0 |
HueAdjustmentRed | 0 |
HueAdjustmentYellow | 0 |
HyperfocalDistance | 1.38 m |
ICCProfileName | sRGB IEC61966-2.1 |
ImageHeight | 3168 |
ImageNumber | 0 |
ImageSize | 4752x3168 |
ImageWidth | 4752 |
ISO | 100 |
Lens | EF24-70mm f/2.8L USM |
LensID (1) | 230 |
LensID | Canon EF 24-70mm f/2.8L USM |
LensInfo | 24-70mm f/? |
LensManualDistortionAmount | 0 |
LensModel | EF24-70mm f/2.8L USM |
LensProfileChromaticAberrationScale | 100 |
LensProfileDistortionScale | 100 |
LensProfileEnable | 1 |
LensProfileFilename | Canon EOS-1Ds Mark III (Canon EF 24-70mm f2.8 L USM) - RAW.lcp |
LensProfileName | Adobe (Canon EF 24-70mm f/2.8 L USM) |
LensProfileSetup | LensDefaults |
LensProfileVignettingScale | 100 |
LightValue | 6.3 |
LuminanceAdjustmentAqua | 0 |
LuminanceAdjustmentBlue | 0 |
LuminanceAdjustmentGreen | 0 |
LuminanceAdjustmentMagenta | 0 |
LuminanceAdjustmentOrange | 0 |
LuminanceAdjustmentPurple | 0 |
LuminanceAdjustmentRed | 0 |
LuminanceAdjustmentYellow | 0 |
LuminanceSmoothing | 0 |
Make | Canon |
MaxApertureValue | 2.8 |
Megapixels | 15.1 |
MeteringMode | Multi-segment |
Model | Canon EOS 50D |
ModifyDate (1) | 2015:06:13 21:27:37+02:00 |
ModifyDate | 2015:06:13 21:27:37 |
Orientation | Horizontal (normal) |
PaintCorrectionActive | true |
PaintCorrectionAmount | 1.000000 |
PaintCorrectionBrightness | 0.000000 |
PaintCorrectionClarity2012 (2) | 0.708655 |
PaintCorrectionClarity2012 (3) | 0.275018 |
PaintCorrectionClarity2012 (4) | 1.000000 |
PaintCorrectionClarity2012 (5) | 0.826721 |
PaintCorrectionClarity2012 (6) | -1.000000 |
PaintCorrectionClarity2012 (7) | 0.840239 |
PaintCorrectionClarity2012 | 0.000000 |
PaintCorrectionContrast2012 (2) | -0.041608 |
PaintCorrectionContrast2012 (3) | 0.590239 |
PaintCorrectionContrast2012 (5) | 0.363501 |
PaintCorrectionContrast2012 (7) | 0.340765 |
PaintCorrectionContrast2012 | 0.000000 |
PaintCorrectionExposure2012 (1) | 1.000000 |
PaintCorrectionExposure2012 (2) | 0.255530 |
PaintCorrectionExposure2012 (3) | 0.464010 |
PaintCorrectionExposure2012 (5) | -0.154846 |
PaintCorrectionExposure2012 (6) | 0.501440 |
PaintCorrectionExposure2012 (7) | 0.309445 |
PaintCorrectionExposure2012 | 0.000000 |
PaintCorrectionHighlights2012 (2) | -1.000000 |
PaintCorrectionHighlights2012 (3) | 0.691801 |
PaintCorrectionHighlights2012 (6) | 1.000000 |
PaintCorrectionHighlights2012 | 0.000000 |
PaintCorrectionHue (1) | 36.289101 |
PaintCorrectionHue (2) | 0.000000 |
PaintCorrectionHue | 50.000000 |
PaintCorrectionLuminanceNoise | 0.000000 |
PaintCorrectionMaskCenterWeight (11) | 0.018269 |
PaintCorrectionMaskCenterWeight (41) | 0.000000 |
PaintCorrectionMaskCenterWeight (9) | 0.297888 |
PaintCorrectionMaskCenterWeight (97) | 0.140002 |
PaintCorrectionMaskCenterWeight | 0.117288 |
PaintCorrectionMaskFlow (103) | 0.849562 |
PaintCorrectionMaskFlow (87) | 0.826147 |
PaintCorrectionMaskFlow | 1.000000 |
PaintCorrectionMaskRadius (10) | 0.259447 |
PaintCorrectionMaskRadius (100) | 0.019689 |
PaintCorrectionMaskRadius (101) | 0.015335 |
PaintCorrectionMaskRadius (102) | 0.009058 |
PaintCorrectionMaskRadius (103) | 0.016137 |
PaintCorrectionMaskRadius (104) | 0.019634 |
PaintCorrectionMaskRadius (109) | 0.015827 |
PaintCorrectionMaskRadius (111) | 0.009293 |
PaintCorrectionMaskRadius (114) | 0.044518 |
PaintCorrectionMaskRadius (115) | 0.044593 |
PaintCorrectionMaskRadius (116) | 0.044570 |
PaintCorrectionMaskRadius (117) | 0.044464 |
PaintCorrectionMaskRadius (118) | 0.044507 |
PaintCorrectionMaskRadius (119) | 0.044508 |
PaintCorrectionMaskRadius (12) | 0.519862 |
PaintCorrectionMaskRadius (120) | 0.044468 |
PaintCorrectionMaskRadius (121) | 0.044511 |
PaintCorrectionMaskRadius (122) | 0.015638 |
PaintCorrectionMaskRadius (123) | 0.015583 |
PaintCorrectionMaskRadius (124) | 0.015655 |
PaintCorrectionMaskRadius (125) | 0.015881 |
PaintCorrectionMaskRadius (126) | 0.015896 |
PaintCorrectionMaskRadius (13) | 0.251474 |
PaintCorrectionMaskRadius (15) | 0.454886 |
PaintCorrectionMaskRadius (16) | 0.303851 |
PaintCorrectionMaskRadius (17) | 0.075890 |
PaintCorrectionMaskRadius (21) | 0.062711 |
PaintCorrectionMaskRadius (23) | 0.096469 |
PaintCorrectionMaskRadius (24) | 0.069246 |
PaintCorrectionMaskRadius (27) | 0.058727 |
PaintCorrectionMaskRadius (28) | 0.192812 |
PaintCorrectionMaskRadius (3) | 0.085071 |
PaintCorrectionMaskRadius (30) | 0.149009 |
PaintCorrectionMaskRadius (31) | 0.183479 |
PaintCorrectionMaskRadius (35) | 0.121706 |
PaintCorrectionMaskRadius (39) | 0.097137 |
PaintCorrectionMaskRadius (4) | 0.314707 |
PaintCorrectionMaskRadius (41) | 0.081392 |
PaintCorrectionMaskRadius (45) | 0.044252 |
PaintCorrectionMaskRadius (50) | 0.089398 |
PaintCorrectionMaskRadius (51) | 0.070297 |
PaintCorrectionMaskRadius (54) | 0.202271 |
PaintCorrectionMaskRadius (55) | 0.051426 |
PaintCorrectionMaskRadius (56) | 0.042203 |
PaintCorrectionMaskRadius (59) | 0.120747 |
PaintCorrectionMaskRadius (64) | 0.124689 |
PaintCorrectionMaskRadius (7) | 0.518691 |
PaintCorrectionMaskRadius (74) | 0.083289 |
PaintCorrectionMaskRadius (75) | 0.037774 |
PaintCorrectionMaskRadius (78) | 0.103545 |
PaintCorrectionMaskRadius (8) | 0.572020 |
PaintCorrectionMaskRadius (81) | 0.041098 |
PaintCorrectionMaskRadius (82) | 0.043752 |
PaintCorrectionMaskRadius (85) | 0.033453 |
PaintCorrectionMaskRadius (86) | 0.026614 |
PaintCorrectionMaskRadius (87) | 0.026569 |
PaintCorrectionMaskRadius (88) | 0.051189 |
PaintCorrectionMaskRadius (89) | 0.031080 |
PaintCorrectionMaskRadius (9) | 0.137944 |
PaintCorrectionMaskRadius (90) | 0.031112 |
PaintCorrectionMaskRadius (91) | 0.052427 |
PaintCorrectionMaskRadius (92) | 0.030983 |
PaintCorrectionMaskRadius (93) | 0.026014 |
PaintCorrectionMaskRadius (94) | 0.030726 |
PaintCorrectionMaskRadius (95) | 0.019743 |
PaintCorrectionMaskRadius (96) | 0.019618 |
PaintCorrectionMaskRadius (97) | 0.019575 |
PaintCorrectionMaskRadius (98) | 0.019774 |
PaintCorrectionMaskRadius (99) | 0.013990 |
PaintCorrectionMaskRadius | 0.015698 |
PaintCorrectionMaskValue (105) | 0.685697 |
PaintCorrectionMaskValue (108) | 0.229868 |
PaintCorrectionMaskValue (109) | 0.468578 |
PaintCorrectionMaskValue (15) | 0.470295 |
PaintCorrectionMaskValue (17) | 0.274124 |
PaintCorrectionMaskValue (19) | 0.814217 |
PaintCorrectionMaskValue (21) | 0.227893 |
PaintCorrectionMaskValue (22) | 0.866071 |
PaintCorrectionMaskValue (23) | 0.216389 |
PaintCorrectionMaskValue (25) | 0.099502 |
PaintCorrectionMaskValue (27) | 0.836968 |
PaintCorrectionMaskValue (41) | 0.920072 |
PaintCorrectionMaskValue (45) | 0.568896 |
PaintCorrectionMaskValue (47) | 0.357787 |
PaintCorrectionMaskValue (50) | 0.515153 |
PaintCorrectionMaskValue (52) | 0.253005 |
PaintCorrectionMaskValue (53) | 0.278932 |
PaintCorrectionMaskValue (6) | 0.930246 |
PaintCorrectionMaskValue (78) | 1.000000 |
PaintCorrectionMaskValue (82) | 0.759358 |
PaintCorrectionMaskValue (88) | 0.282667 |
PaintCorrectionMaskValue (93) | 0.000000 |
PaintCorrectionMaskValue (99) | 0.898781 |
PaintCorrectionMaskValue | 0.994548 |
PaintCorrectionMaskWhat | Mask/Paint |
PaintCorrectionMoire | 0.000000 |
PaintCorrectionSaturation (1) | 0.646243 |
PaintCorrectionSaturation (17) | -1.000000 |
PaintCorrectionSaturation (2) | 1.000000 |
PaintCorrectionSaturation (3) | 0.990081 |
PaintCorrectionSaturation (5) | 0.399491 |
PaintCorrectionSaturation | 0.000000 |
PaintCorrectionShadows2012 (2) | 0.096559 |
PaintCorrectionShadows2012 (3) | -0.352440 |
PaintCorrectionShadows2012 | 0.000000 |
PaintCorrectionSharpness (2) | 0.038975 |
PaintCorrectionSharpness (6) | -0.971822 |
PaintCorrectionSharpness | 0.000000 |
PaintCorrectionTemperature (1) | 1.000000 |
PaintCorrectionTemperature (2) | 0.461464 |
PaintCorrectionTemperature (3) | 0.247454 |
PaintCorrectionTemperature (4) | 0.370523 |
PaintCorrectionTemperature (8) | -0.456636 |
PaintCorrectionTemperature | 0.000000 |
PaintCorrectionTint (1) | -0.087781 |
PaintCorrectionTint | 0.000000 |
PaintCorrectionWhat | Correction |
ParametricDarks | 0 |
ParametricHighlights | 0 |
ParametricHighlightSplit | 75 |
ParametricLights | 0 |
ParametricMidtoneSplit | 50 |
ParametricShadows | 0 |
ParametricShadowSplit | 25 |
PerspectiveHorizontal | 0 |
PerspectiveRotate | 0.0 |
PerspectiveScale | 100 |
PerspectiveVertical | 0 |
PhotometricInterpretation | RGB |
PostCropVignetteAmount | 0 |
ProcessVersion | 6.7 |
ProfileDescription | sRGB IEC61966-2.1 |
RedHue | 0 |
RedSaturation | 0 |
SamplesPerPixel | 3 |
Saturation | 0 |
SaturationAdjustmentAqua | 0 |
SaturationAdjustmentBlue | 0 |
SaturationAdjustmentGreen | 0 |
SaturationAdjustmentMagenta | 0 |
SaturationAdjustmentOrange | 0 |
SaturationAdjustmentPurple | 0 |
SaturationAdjustmentRed | 0 |
SaturationAdjustmentYellow | 0 |
ScaleFactor35efl | 1.6 |
SceneCaptureType | Standard |
SerialNumber | 530350942 |
Shadows | 5 |
Shadows2012 | +46 |
ShadowTint | 0 |
SharpenDetail | 25 |
SharpenEdgeMasking | 0 |
SharpenRadius | +1.0 |
Sharpness | 60 |
ShutterSpeed | 6 |
ShutterSpeedValue | 6 |
Software | Adobe Photoshop CS6 (Macintosh) |
SplitToningBalance | 0 |
SplitToningHighlightHue | 0 |
SplitToningHighlightSaturation | 0 |
SplitToningShadowHue | 0 |
SplitToningShadowSaturation | 0 |
Tint | +30 |
ToneCurve | 0, 0, 255, 255 |
ToneCurveBlue | 0, 0, 255, 255 |
ToneCurveGreen | 0, 0, 255, 255 |
ToneCurveName | Linear |
ToneCurveName2012 | Custom |
ToneCurvePV2012 | 0, 46, 63, 69, 255, 255 |
ToneCurvePV2012Blue | 0, 0, 255, 255 |
ToneCurvePV2012Green | 0, 0, 255, 255 |
ToneCurvePV2012Red | 0, 0, 255, 255 |
ToneCurveRed | 0, 0, 255, 255 |
URL_List | |
Version | 7.0 |
Vibrance | +30 |
VignetteAmount | 0 |
WhiteBalance (1) | Auto |
WhiteBalance | Manual |
Whites2012 | +12 |