Felt | Verdi |
AlreadyApplied | True |
Aperture | 22.0 |
ApertureValue | 22.0 |
ApproximateFocusDistance | 4294967295 |
AutoLateralCA | 0 |
BitsPerSample | 8 |
BlackClip | 0.015090 |
Blacks2012 | +24 |
BlueHue | 0 |
BlueSaturation | 0 |
Brightness | 0 |
CameraProfile | Embedded |
CFAPattern | [Red,Green][Green,Blue] |
CircleOfConfusion | 0.030 mm |
Clarity | 0 |
Clarity2012 | +40 |
ColorComponents | 3 |
ColorNoiseReduction | 5 |
ColorNoiseReductionDetail | 50 |
ColorSaturation | 71.0 |
ColorTemperature | 3.0 |
ColorTransform | YCbCr |
Contrast (1) | 0 |
Contrast | Normal |
Contrast2012 | +40 |
ConvertToGrayscale | False |
CreateDate (1) | 2015:06:19 23:18:17.16 |
CreateDate | 2015:06:19 23:18:17 |
CreatorTool | Adobe Photoshop Lightroom 4.0 (Windows) |
CropAngle | -1.92625 |
CropBottom | 0.922453 |
CropConstrainToWarp | 0 |
CropHeight | 2624 |
CropLeft | 0.03458 |
CropRight | 0.985878 |
CropTop | 0.047156 |
CropUnit | pixels |
CropWidth | 3988 |
CustomRendered | Normal |
DateCreated (1) | 2015:06:19 |
DateCreated | 2015:06:19 23:18:17.16 |
DateTimeOriginal | 2015:06:19 23:18:17 |
Defringe | 0 |
DigitalZoomRatio | 1 |
DOF | inf (0.30 m - inf) |
Exposure | 0.00 |
Exposure2012 | -0.10 |
ExposureCompensation | 0 |
ExposureMode | Manual |
ExposureProgram | Manual |
ExposureTime | 0.4 |
FillLight | 0 |
Flash | No Flash |
FNumber | 22.0 |
FocalLength | 14.0 mm |
FocalLength35efl | 14.0 mm (35 mm equivalent: 14.0 mm) |
FocalLengthIn35mmFormat | 14 mm |
Format | image/jpeg |
FOV | 104.3 deg |
GainControl | None |
Gamma | 0.90 |
GrainAmount | 0 |
GreenHue | 0 |
GreenSaturation | 0 |
HasCrop | True |
HasExtendedXMP | FD29E9CDB96C4F431972759C7B0C8084 |
HasSettings | True |
HighlightRecovery | 0 |
Highlights2012 | -24 |
HighlightsSmoothing | 0.0 |
HueAdjustmentAqua | 0 |
HueAdjustmentBlue | +5 |
HueAdjustmentGreen | 0 |
HueAdjustmentMagenta | 0 |
HueAdjustmentOrange | 0 |
HueAdjustmentPurple | 0 |
HueAdjustmentRed | 0 |
HueAdjustmentYellow | 0 |
HyperfocalDistance | 0.30 m |
ImageHeight | 2624 |
ImageNumber | 27483 |
ImageSize | 3988x2624 |
ImageWidth | 3988 |
IncrementalTemperature | +7 |
IncrementalTint | 0 |
ISO | 100 |
IsPano360 | No |
Lens | 14.0-24.0 mm f/2.8 |
LensID (1) | 146 |
LensID | AF-S Zoom-Nikkor 14-24mm f/2.8G ED |
LensInfo | 14-24mm f/2.8 |
LensManualDistortionAmount | 0 |
LensModel | 14.0-24.0 mm f/2.8 |
LensProfileEnable | 0 |
LensProfileSetup | LensDefaults |
LightSource | Fine Weather |
LightValue | 10.2 |
LuminanceAdjustmentAqua | 0 |
LuminanceAdjustmentBlue | 0 |
LuminanceAdjustmentGreen | +16 |
LuminanceAdjustmentMagenta | 0 |
LuminanceAdjustmentOrange | 0 |
LuminanceAdjustmentPurple | 0 |
LuminanceAdjustmentRed | 0 |
LuminanceAdjustmentYellow | 0 |
LuminanceNoiseReductionContrast | 0 |
LuminanceNoiseReductionDetail | 50 |
LuminanceSmoothing | 3 |
Luminosity | -1.1 |
Make | NIKON CORPORATION |
MaxApertureValue | 2.8 |
Megapixels | 10.5 |
MeteringMode | Multi-segment |
Method | Details Enhancer |
Microcontrast | 1.2 |
Microsmoothing | 2.0 |
Model | NIKON D700 |
ModifyDate (1) | 2015:06:20 19:14:34+02:00 |
ModifyDate | 2015:06:20 19:14:34 |
PaintCorrectionActive | true |
PaintCorrectionAmount | 1.000000 |
PaintCorrectionBrightness | 0.000000 |
PaintCorrectionClarity2012 (5) | 0.243900 |
PaintCorrectionClarity2012 | 0.000000 |
PaintCorrectionContrast2012 | 0.000000 |
PaintCorrectionExposure2012 (3) | 1.000000 |
PaintCorrectionExposure2012 | 0.000000 |
PaintCorrectionHighlights2012 (3) | 1.000000 |
PaintCorrectionHighlights2012 | 0.000000 |
PaintCorrectionHue (1) | 243.000000 |
PaintCorrectionHue (2) | 34.000000 |
PaintCorrectionHue | 0.000000 |
PaintCorrectionLuminanceNoise (5) | 0.341460 |
PaintCorrectionLuminanceNoise | 0.000000 |
PaintCorrectionMaskCenterWeight | 0.000000 |
PaintCorrectionMaskFlow | 1.000000 |
PaintCorrectionMaskRadius (1) | 0.024272 |
PaintCorrectionMaskRadius (11) | 0.018543 |
PaintCorrectionMaskRadius (12) | 0.030109 |
PaintCorrectionMaskRadius (13) | 0.015040 |
PaintCorrectionMaskRadius (14) | 0.080645 |
PaintCorrectionMaskRadius (16) | 0.067368 |
PaintCorrectionMaskRadius (17) | 0.060889 |
PaintCorrectionMaskRadius (18) | 0.048254 |
PaintCorrectionMaskRadius (19) | 0.042097 |
PaintCorrectionMaskRadius (21) | 0.036048 |
PaintCorrectionMaskRadius (22) | 0.018540 |
PaintCorrectionMaskRadius (26) | 0.024269 |
PaintCorrectionMaskRadius (28) | 0.030105 |
PaintCorrectionMaskRadius (30) | 0.016993 |
PaintCorrectionMaskRadius (7) | 0.067377 |
PaintCorrectionMaskRadius | 0.013121 |
PaintCorrectionMaskValue | 1.000000 |
PaintCorrectionMaskWhat | Mask/Paint |
PaintCorrectionMoire | 0.000000 |
PaintCorrectionSaturation (1) | -0.292680 |
PaintCorrectionSaturation (2) | 0.030000 |
PaintCorrectionSaturation (4) | 0.020000 |
PaintCorrectionSaturation (7) | 0.048780 |
PaintCorrectionSaturation (9) | 0.243900 |
PaintCorrectionSaturation | 0.000000 |
PaintCorrectionShadows2012 (3) | 0.000000 |
PaintCorrectionShadows2012 (4) | 0.390240 |
PaintCorrectionShadows2012 (5) | -0.439020 |
PaintCorrectionShadows2012 (6) | 0.902440 |
PaintCorrectionShadows2012 | 0.341460 |
PaintCorrectionSharpness (5) | -0.048780 |
PaintCorrectionSharpness (6) | 0.000000 |
PaintCorrectionSharpness | 0.219510 |
PaintCorrectionTemperature (1) | 0.146340 |
PaintCorrectionTemperature (3) | 1.000000 |
PaintCorrectionTemperature (4) | 0.048780 |
PaintCorrectionTemperature | 0.000000 |
PaintCorrectionTint (4) | 0.195120 |
PaintCorrectionTint | 0.000000 |
PaintCorrectionWhat | Correction |
ParametricDarks | 0 |
ParametricHighlights | 0 |
ParametricHighlightSplit | 75 |
ParametricLights | 0 |
ParametricMidtoneSplit | 50 |
ParametricShadows | 0 |
ParametricShadowSplit | 25 |
PerspectiveHorizontal | 0 |
PerspectiveRotate | 0.0 |
PerspectiveScale | 100 |
PerspectiveVertical | 0 |
PostCropVignetteAmount | 0 |
ProcessVersion | 6.7 |
ProfileDescription | sRGB IEC61966-2.1 |
RedHue | 0 |
RedSaturation | 0 |
Saturation (1) | 0 |
Saturation | Normal |
SaturationAdjustmentAqua | 0 |
SaturationAdjustmentBlue | +5 |
SaturationAdjustmentGreen | +32 |
SaturationAdjustmentMagenta | 0 |
SaturationAdjustmentOrange | +5 |
SaturationAdjustmentPurple | 0 |
SaturationAdjustmentRed | 0 |
SaturationAdjustmentYellow | +5 |
SaturationHighlights | 2.0 |
SaturationShadows | 0.0 |
ScaleFactor35efl | 1.0 |
SceneCaptureType | Standard |
SceneType | Directly photographed |
SensingMethod | One-chip color area |
SerialNumber | 2038506 |
Shadows | 0 |
Shadows2012 | 0 |
ShadowsClipping | 0.0 |
ShadowsSmoothing | 11.0 |
ShadowTint | 0 |
SharpenDetail | 25 |
SharpenEdgeMasking | 43 |
SharpenRadius | +1.2 |
Sharpness (1) | 30 |
Sharpness | Normal |
ShutterSpeed | 0.4 |
ShutterSpeedValue | 0.4 |
Smoothing | -3.7 |
SmoothingMode | Slider |
Software | Adobe Photoshop Lightroom 4.0 (Windows) |
SplitToningBalance | 0 |
SplitToningHighlightHue | 0 |
SplitToningHighlightSaturation | 0 |
SplitToningShadowHue | 0 |
SplitToningShadowSaturation | 0 |
Strength | 62.0 |
SubjectDistanceRange | Unknown |
ToneCurve | 0, 0, 255, 255 |
ToneCurveBlue | 0, 0, 255, 255 |
ToneCurveGreen | 0, 0, 255, 255 |
ToneCurveName | Linear |
ToneCurveName2012 | Linear |
ToneCurvePV2012 | 0, 0, 255, 255 |
ToneCurvePV2012Blue | 0, 0, 255, 255 |
ToneCurvePV2012Green | 0, 0, 255, 255 |
ToneCurvePV2012Red | 0, 0, 255, 255 |
ToneCurveRed | 0, 0, 255, 255 |
Version (1) | 5.0 |
Version | 7.0 |
Vibrance | +22 |
VignetteAmount | +12 |
VignetteMidpoint | 50 |
WhiteBalance (1) | Custom |
WhiteBalance | Manual |
WhiteClip | 0.096657 |
Whites2012 | -7 |