Felt | Verdi |
AlreadyApplied | True |
Aperture | 13.0 |
ApertureValue | 13.0 |
ApproximateFocusDistance | 4294967295 |
AutoLateralCA | 0 |
AutoWhiteVersion | 134348800 |
BitsPerSample | 8 |
Blacks2012 | 0 |
BlueHue | 0 |
BlueSaturation | 0 |
CameraProfile | Embedded |
CFAPattern | [Red,Green][Green,Blue] |
CircleOfConfusion | 0.030 mm |
Clarity2012 | 0 |
ColorComponents | 3 |
ColorNoiseReduction | 0 |
ColorTransform | YCbCr |
Contrast | Normal |
Contrast2012 | 0 |
ConvertToGrayscale | False |
CreateDate | 2015:05:18 20:08:52 |
CreatorTool | Adobe Photoshop Lightroom 6.1 (Macintosh) |
CustomRendered | Normal |
DateCreated (1) | 2015:05:18 20:08:52.007 |
DateCreated | 2015:05:18 |
DateTimeOriginal | 2015:05:18 20:08:52 |
DefringeGreenAmount | 0 |
DefringeGreenHueHi | 60 |
DefringeGreenHueLo | 40 |
DefringePurpleAmount | 0 |
DefringePurpleHueHi | 70 |
DefringePurpleHueLo | 30 |
Dehaze | 0 |
DigitalZoomRatio | 1 |
DOF | inf (3.14 m - inf) |
Exposure2012 | +0.15 |
ExposureCompensation | +1 |
ExposureMode | Manual |
ExposureProgram | Manual |
ExposureTime | 0.8 |
Flash | No Flash |
FNumber | 13.0 |
FocalLength | 35.0 mm |
FocalLength35efl | 35.0 mm (35 mm equivalent: 35.0 mm) |
FocalLengthIn35mmFormat | 35 mm |
Format | image/jpeg |
FOV | 54.4 deg |
GainControl | None |
GrainAmount | 0 |
GreenHue | 0 |
GreenSaturation | 0 |
HasCrop | False |
HasExtendedXMP | E72D8C168E6217E126DB60B74AE884CB |
HasSettings | True |
Highlights2012 | 0 |
HueAdjustmentAqua | 0 |
HueAdjustmentBlue | 0 |
HueAdjustmentGreen | 0 |
HueAdjustmentMagenta | 0 |
HueAdjustmentOrange | 0 |
HueAdjustmentPurple | 0 |
HueAdjustmentRed | 0 |
HueAdjustmentYellow | 0 |
HyperfocalDistance | 3.14 m |
ImageHeight | 2702 |
ImageNumber | 153206 |
ImageSize | 4061x2702 |
ImageWidth | 4061 |
IncrementalTemperature | 0 |
IncrementalTint | 0 |
ISO | 100 |
Lens | 16.0-35.0 mm f/4.0 |
LensID (1) | 163 |
LensID | AF-S Nikkor 16-35mm f/4G ED VR |
LensInfo | 16-35mm f/4 |
LensManualDistortionAmount | 0 |
LensModel | 16.0-35.0 mm f/4.0 |
LensProfileEnable | 0 |
LensProfileSetup | LensDefaults |
LightSource | Fine Weather |
LightValue | 7.7 |
LuminanceAdjustmentAqua | 0 |
LuminanceAdjustmentBlue | 0 |
LuminanceAdjustmentGreen | 0 |
LuminanceAdjustmentMagenta | +20 |
LuminanceAdjustmentOrange | 0 |
LuminanceAdjustmentPurple | +40 |
LuminanceAdjustmentRed | +18 |
LuminanceAdjustmentYellow | 0 |
LuminanceSmoothing | 0 |
Make | NIKON CORPORATION |
MaxApertureValue | 4.0 |
Megapixels | 11.0 |
MeteringMode | Multi-segment |
Model | NIKON D3S |
ModifyDate (1) | 2015:06:28 16:41:20+02:00 |
ModifyDate | 2015:06:28 16:41:20 |
Orientation | Horizontal (normal) |
PaintCorrectionActive | true |
PaintCorrectionAmount | 1.000000 |
PaintCorrectionBrightness | 0.000000 |
PaintCorrectionClarity2012 | 0.003348 |
PaintCorrectionContrast2012 | 0.000000 |
PaintCorrectionDefringe | 0.000000 |
PaintCorrectionExposure2012 (1) | 0.057031 |
PaintCorrectionExposure2012 (2) | 0.013021 |
PaintCorrectionExposure2012 (3) | -0.050186 |
PaintCorrectionExposure2012 (4) | -0.071354 |
PaintCorrectionExposure2012 | 0.000000 |
PaintCorrectionHighlights2012 | 0.000000 |
PaintCorrectionHue | 166.352005 |
PaintCorrectionLocalBlacks2012 (1) | 0.024777 |
PaintCorrectionLocalBlacks2012 (4) | -0.059784 |
PaintCorrectionLocalBlacks2012 | 0.000000 |
PaintCorrectionLocalWhites2012 (1) | 0.027827 |
PaintCorrectionLocalWhites2012 (2) | -0.000558 |
PaintCorrectionLocalWhites2012 (3) | -0.004129 |
PaintCorrectionLocalWhites2012 (4) | 0.001637 |
PaintCorrectionLocalWhites2012 | 0.942597 |
PaintCorrectionLuminanceNoise | 0.000000 |
PaintCorrectionMaskCenterWeight (193) | 0.761066 |
PaintCorrectionMaskCenterWeight | 0.000000 |
PaintCorrectionMaskFlow | 1.000000 |
PaintCorrectionMaskRadius (145) | 0.002949 |
PaintCorrectionMaskRadius (15) | 0.009628 |
PaintCorrectionMaskRadius (16) | 0.002013 |
PaintCorrectionMaskRadius (190) | 0.001091 |
PaintCorrectionMaskRadius (207) | 0.007811 |
PaintCorrectionMaskRadius (218) | 0.003905 |
PaintCorrectionMaskRadius (239) | 0.002370 |
PaintCorrectionMaskRadius (273) | 0.001559 |
PaintCorrectionMaskRadius (29) | 0.003114 |
PaintCorrectionMaskRadius (366) | 0.001397 |
PaintCorrectionMaskRadius (379) | 0.004218 |
PaintCorrectionMaskRadius (387) | 0.000664 |
PaintCorrectionMaskRadius (391) | 0.005314 |
PaintCorrectionMaskRadius (396) | 0.003323 |
PaintCorrectionMaskRadius (422) | 0.007271 |
PaintCorrectionMaskRadius (430) | 0.005562 |
PaintCorrectionMaskRadius (463) | 0.003099 |
PaintCorrectionMaskRadius (468) | 0.001146 |
PaintCorrectionMaskRadius (49) | 0.006235 |
PaintCorrectionMaskRadius (5) | 0.023951 |
PaintCorrectionMaskRadius (500) | 0.002520 |
PaintCorrectionMaskRadius (507) | 0.000717 |
PaintCorrectionMaskRadius (509) | 0.001082 |
PaintCorrectionMaskRadius (512) | 0.002407 |
PaintCorrectionMaskRadius (539) | 0.002840 |
PaintCorrectionMaskRadius (540) | 0.087978 |
PaintCorrectionMaskRadius (542) | 0.005003 |
PaintCorrectionMaskRadius (548) | 0.041496 |
PaintCorrectionMaskRadius (553) | 0.040846 |
PaintCorrectionMaskRadius (577) | 0.059889 |
PaintCorrectionMaskRadius (583) | 0.013951 |
PaintCorrectionMaskRadius (614) | 0.006903 |
PaintCorrectionMaskRadius (75) | 0.003118 |
PaintCorrectionMaskRadius (76) | 0.007836 |
PaintCorrectionMaskRadius (95) | 0.005897 |
PaintCorrectionMaskRadius | 0.017145 |
PaintCorrectionMaskValue | 1.000000 |
PaintCorrectionMaskWhat | Mask/Paint |
PaintCorrectionMoire | 0.000000 |
PaintCorrectionSaturation (11) | 0.453460 |
PaintCorrectionSaturation | 0.000000 |
PaintCorrectionShadows2012 (2) | 0.137649 |
PaintCorrectionShadows2012 | 0.000000 |
PaintCorrectionSharpness | 0.001302 |
PaintCorrectionTemperature (1) | 0.079762 |
PaintCorrectionTemperature (2) | 0.001236 |
PaintCorrectionTemperature | 0.162835 |
PaintCorrectionTint (1) | -0.266071 |
PaintCorrectionTint | 0.000000 |
PaintCorrectionWhat | Correction |
ParametricDarks | 0 |
ParametricHighlights | -1 |
ParametricHighlightSplit | 75 |
ParametricLights | 0 |
ParametricMidtoneSplit | 50 |
ParametricShadows | 0 |
ParametricShadowSplit | 25 |
PerspectiveAspect | 0 |
PerspectiveHorizontal | 0 |
PerspectiveRotate | 0.0 |
PerspectiveScale | 100 |
PerspectiveUpright | 0 |
PerspectiveVertical | 0 |
PostCropVignetteAmount | 0 |
ProcessVersion | 6.7 |
ProfileDescription | sRGB IEC61966-2.1 |
Rating | 5 |
RawFileName | DSC_1455-2-9.jpg |
RedHue | 0 |
RedSaturation | 0 |
Saturation (1) | 0 |
Saturation | Normal |
SaturationAdjustmentAqua | 0 |
SaturationAdjustmentBlue | 0 |
SaturationAdjustmentGreen | 0 |
SaturationAdjustmentMagenta | -22 |
SaturationAdjustmentOrange | 0 |
SaturationAdjustmentPurple | -30 |
SaturationAdjustmentRed | -3 |
SaturationAdjustmentYellow | 0 |
ScaleFactor35efl | 1.0 |
SceneCaptureType | Standard |
SceneType | Directly photographed |
SensingMethod | One-chip color area |
SerialNumber | 2058033 |
Shadows2012 | 0 |
ShadowTint | 0 |
SharpenDetail | 25 |
SharpenEdgeMasking | 0 |
SharpenRadius | +1.0 |
Sharpness (1) | 0 |
Sharpness | Normal |
ShutterSpeed | 0.8 |
ShutterSpeedValue | 0.8 |
Software | Adobe Photoshop Lightroom 6.1 (Macintosh) |
SplitToningBalance | 0 |
SplitToningHighlightHue | 0 |
SplitToningHighlightSaturation | 0 |
SplitToningShadowHue | 0 |
SplitToningShadowSaturation | 0 |
SubjectDistanceRange | Unknown |
ToneCurve | 0, 0, 255, 255 |
ToneCurveBlue | 0, 0, 255, 255 |
ToneCurveGreen | 0, 0, 255, 255 |
ToneCurveName | Linear |
ToneCurveName2012 | Linear |
ToneCurvePV2012 | 0, 0, 255, 255 |
ToneCurvePV2012Blue | 0, 0, 255, 255 |
ToneCurvePV2012Green | 0, 0, 255, 255 |
ToneCurvePV2012Red | 0, 0, 255, 255 |
ToneCurveRed | 0, 0, 255, 255 |
ToneMapStrength | 0 |
Version | 9.1 |
Vibrance | 0 |
VignetteAmount | 0 |
WhiteBalance (1) | As Shot |
WhiteBalance | Manual |
Whites2012 | 0 |