Felt | Verdi |
AlreadyApplied | True |
Aperture | 7.1 |
ApertureValue | 7.1 |
ApproximateFocusDistance | 3.35 |
Artist | Miroslaw Okopniuk |
AutoLateralCA | 1 |
AutoWhiteVersion | 134348800 |
BitsPerSample | 8 |
Blacks2012 | -14 |
BlueHue | 0 |
BlueSaturation | 0 |
By-line | Miroslaw Okopniuk |
CameraProfile | Camera Neutral |
CFAPattern | [Red,Green][Green,Blue] |
CircleOfConfusion | 0.030 mm |
Clarity2012 | +5 |
ColorComponents | 3 |
ColorNoiseReduction | 25 |
ColorNoiseReductionDetail | 50 |
ColorNoiseReductionSmoothness | 50 |
ColorTemperature | 9000 |
ColorTransform | YCbCr |
Contrast | Normal |
Contrast2012 | 0 |
ConvertToGrayscale | False |
Copyright | All Rights Reserved |
CopyrightNotice | All Rights Reserved |
CreateDate (1) | 2015:03:14 14:32:09.38 |
CreateDate | 2015:03:14 14:32:09 |
Creator | Miroslaw Okopniuk |
CreatorTool | Adobe Photoshop Lightroom 6.1 (Windows) |
CropAngle | 0 |
CropBottom | 0.99147 |
CropConstrainToWarp | 0 |
CropLeft | 0 |
CropRight | 1 |
CropTop | 0.054988 |
CustomRendered | Normal |
DateCreated (1) | 2015:03:14 14:32:09.38 |
DateCreated | 2015:03:14 |
DateTimeOriginal | 2015:03:14 14:32:09 |
DefringeGreenAmount | 0 |
DefringeGreenHueHi | 60 |
DefringeGreenHueLo | 40 |
DefringePurpleAmount | 0 |
DefringePurpleHueHi | 70 |
DefringePurpleHueLo | 30 |
Dehaze | 0 |
DigitalZoomRatio | 1 |
DOF | inf (1.50 m - inf) |
Exposure2012 | 0.00 |
ExposureCompensation | 0 |
ExposureMode | Manual |
ExposureProgram | Manual |
ExposureTime | 1.3 |
Flash | Off, Did not fire |
FNumber | 7.1 |
FocalLength | 24.0 mm |
FocalLength35efl | 24.0 mm (35 mm equivalent: 24.0 mm) |
FocalLengthIn35mmFormat | 24 mm |
Format | image/jpeg |
FOV | 73.7 deg |
GainControl | None |
GrainAmount | 0 |
GreenHue | -15 |
GreenSaturation | +10 |
HasCrop | True |
HasExtendedXMP | 8BE4C0487C36E8E3E1B5F00A47DFC8E5 |
HasSettings | True |
Highlights2012 | -14 |
HueAdjustmentAqua | 0 |
HueAdjustmentBlue | 0 |
HueAdjustmentGreen | 0 |
HueAdjustmentMagenta | 0 |
HueAdjustmentOrange | 0 |
HueAdjustmentPurple | 0 |
HueAdjustmentRed | 0 |
HueAdjustmentYellow | 0 |
HyperfocalDistance | 2.70 m |
ImageHeight | 1200 |
ImageNumber | 630 |
ImageSize | 1920x1200 |
ImageWidth | 1920 |
ISO | 64 |
Lens | 24.0-70.0 mm f/2.8 |
LensID (1) | 147 |
LensID | AF-S Zoom-Nikkor 24-70mm f/2.8G ED |
LensInfo | 24-70mm f/2.8 |
LensManualDistortionAmount | 0 |
LensModel | 24.0-70.0 mm f/2.8 |
LensProfileChromaticAberrationScale | 100 |
LensProfileDistortionScale | 100 |
LensProfileEnable | 1 |
LensProfileFilename | NIKON D3X (Nikon FX 24-70mm f2.8 G ED) - RAW.lcp |
LensProfileName | Adobe (Nikon AF-S NIKKOR 24-70mm f/2.8G ED) |
LensProfileSetup | LensDefaults |
LensProfileVignettingScale | 100 |
LightSource | Unknown |
LightValue | 5.9 |
LuminanceAdjustmentAqua | 0 |
LuminanceAdjustmentBlue | 0 |
LuminanceAdjustmentGreen | 0 |
LuminanceAdjustmentMagenta | 0 |
LuminanceAdjustmentOrange | 0 |
LuminanceAdjustmentPurple | 0 |
LuminanceAdjustmentRed | 0 |
LuminanceAdjustmentYellow | 0 |
LuminanceSmoothing | 0 |
Make | NIKON CORPORATION |
MaxApertureValue | 2.8 |
Megapixels | 2.3 |
MeteringMode | Multi-segment |
Model | NIKON D810 |
ModifyDate (1) | 2015:07:09 22:54:27+02:00 |
ModifyDate | 2015:07:09 22:54:27 |
Orientation | Horizontal (normal) |
PaintCorrectionActive | true |
PaintCorrectionAmount | 1.000000 |
PaintCorrectionBrightness | 0.000000 |
PaintCorrectionClarity2012 | 0.000000 |
PaintCorrectionContrast2012 (1) | 0.080000 |
PaintCorrectionContrast2012 | 0.000000 |
PaintCorrectionDefringe | 0.000000 |
PaintCorrectionExposure2012 (1) | -0.037500 |
PaintCorrectionExposure2012 | -0.124000 |
PaintCorrectionHighlights2012 (1) | -0.160000 |
PaintCorrectionHighlights2012 | 0.000000 |
PaintCorrectionHue (1) | 0.000000 |
PaintCorrectionHue | 240.000000 |
PaintCorrectionLocalBlacks2012 | 0.000000 |
PaintCorrectionLocalWhites2012 | 0.000000 |
PaintCorrectionLuminanceNoise | 0.000000 |
PaintCorrectionMaskCenterWeight | 0.000000 |
PaintCorrectionMaskFlow | 1.000000 |
PaintCorrectionMaskRadius (1) | 0.051503 |
PaintCorrectionMaskRadius (10) | 0.051524 |
PaintCorrectionMaskRadius (11) | 0.051340 |
PaintCorrectionMaskRadius (12) | 0.051239 |
PaintCorrectionMaskRadius (13) | 0.052063 |
PaintCorrectionMaskRadius (14) | 0.052272 |
PaintCorrectionMaskRadius (15) | 0.051966 |
PaintCorrectionMaskRadius (16) | 0.051653 |
PaintCorrectionMaskRadius (17) | 0.049400 |
PaintCorrectionMaskRadius (18) | 0.051603 |
PaintCorrectionMaskRadius (19) | 0.056875 |
PaintCorrectionMaskRadius (2) | 0.052185 |
PaintCorrectionMaskRadius (20) | 0.056691 |
PaintCorrectionMaskRadius (22) | 0.056625 |
PaintCorrectionMaskRadius (23) | 0.057231 |
PaintCorrectionMaskRadius (24) | 0.056284 |
PaintCorrectionMaskRadius (25) | 0.057531 |
PaintCorrectionMaskRadius (26) | 0.057608 |
PaintCorrectionMaskRadius (27) | 0.057576 |
PaintCorrectionMaskRadius (28) | 0.057456 |
PaintCorrectionMaskRadius (29) | 0.057308 |
PaintCorrectionMaskRadius (3) | 0.052332 |
PaintCorrectionMaskRadius (30) | 0.056342 |
PaintCorrectionMaskRadius (31) | 0.056423 |
PaintCorrectionMaskRadius (32) | 0.057282 |
PaintCorrectionMaskRadius (33) | 0.057041 |
PaintCorrectionMaskRadius (34) | 0.056701 |
PaintCorrectionMaskRadius (35) | 0.056677 |
PaintCorrectionMaskRadius (36) | 0.057975 |
PaintCorrectionMaskRadius (37) | 0.056218 |
PaintCorrectionMaskRadius (38) | 0.057017 |
PaintCorrectionMaskRadius (39) | 0.056553 |
PaintCorrectionMaskRadius (4) | 0.052486 |
PaintCorrectionMaskRadius (40) | 0.056626 |
PaintCorrectionMaskRadius (41) | 0.056102 |
PaintCorrectionMaskRadius (42) | 0.054694 |
PaintCorrectionMaskRadius (43) | 0.054898 |
PaintCorrectionMaskRadius (44) | 0.056092 |
PaintCorrectionMaskRadius (45) | 0.055846 |
PaintCorrectionMaskRadius (46) | 0.055843 |
PaintCorrectionMaskRadius (47) | 0.056386 |
PaintCorrectionMaskRadius (48) | 0.056700 |
PaintCorrectionMaskRadius (49) | 0.056287 |
PaintCorrectionMaskRadius (5) | 0.052302 |
PaintCorrectionMaskRadius (50) | 0.056555 |
PaintCorrectionMaskRadius (51) | 0.056534 |
PaintCorrectionMaskRadius (52) | 0.057390 |
PaintCorrectionMaskRadius (53) | 0.057689 |
PaintCorrectionMaskRadius (54) | 0.057084 |
PaintCorrectionMaskRadius (55) | 0.057216 |
PaintCorrectionMaskRadius (56) | 0.056905 |
PaintCorrectionMaskRadius (57) | 0.056857 |
PaintCorrectionMaskRadius (58) | 0.057031 |
PaintCorrectionMaskRadius (59) | 0.056966 |
PaintCorrectionMaskRadius (6) | 0.052060 |
PaintCorrectionMaskRadius (60) | 0.056768 |
PaintCorrectionMaskRadius (61) | 0.057020 |
PaintCorrectionMaskRadius (8) | 0.051580 |
PaintCorrectionMaskRadius (9) | 0.051843 |
PaintCorrectionMaskRadius | 0.056758 |
PaintCorrectionMaskValue | 1.000000 |
PaintCorrectionMaskWhat | Mask/Paint |
PaintCorrectionMoire | 0.000000 |
PaintCorrectionSaturation | 0.000000 |
PaintCorrectionShadows2012 (1) | -0.080000 |
PaintCorrectionShadows2012 | 0.000000 |
PaintCorrectionSharpness | 0.000000 |
PaintCorrectionTemperature | 0.000000 |
PaintCorrectionTint | 0.000000 |
PaintCorrectionWhat | Correction |
ParametricDarks | 0 |
ParametricHighlights | 0 |
ParametricHighlightSplit | 75 |
ParametricLights | 0 |
ParametricMidtoneSplit | 50 |
ParametricShadows | 0 |
ParametricShadowSplit | 25 |
PerspectiveAspect | 0 |
PerspectiveHorizontal | 0 |
PerspectiveRotate | 0.0 |
PerspectiveScale | 100 |
PerspectiveUpright | 0 |
PerspectiveVertical | 0 |
PostCropVignetteAmount | 0 |
ProcessVersion | 6.7 |
ProfileDescription | sRGB IEC61966-2.1 |
RawFileName | FOT_0491.jpg |
RedHue | +10 |
RedSaturation | 0 |
Rights | All Rights Reserved |
Saturation (1) | 0 |
Saturation | Normal |
SaturationAdjustmentAqua | 0 |
SaturationAdjustmentBlue | 0 |
SaturationAdjustmentGreen | 0 |
SaturationAdjustmentMagenta | 0 |
SaturationAdjustmentOrange | 0 |
SaturationAdjustmentPurple | 0 |
SaturationAdjustmentRed | 0 |
SaturationAdjustmentYellow | 0 |
ScaleFactor35efl | 1.0 |
SceneCaptureType | Standard |
SceneType | Directly photographed |
SensingMethod | One-chip color area |
SensitivityType | Recommended Exposure Index |
SerialNumber | 6011989 |
Shadows2012 | 0 |
ShadowTint | 0 |
SharpenDetail | 70 |
SharpenEdgeMasking | 0 |
SharpenRadius | +1.0 |
Sharpness (1) | 100 |
Sharpness | Normal |
ShutterSpeed | 1.3 |
ShutterSpeedValue | 1.3 |
Software | Adobe Photoshop Lightroom 6.1 (Windows) |
SplitToningBalance | 0 |
SplitToningHighlightHue | 0 |
SplitToningHighlightSaturation | 0 |
SplitToningShadowHue | 0 |
SplitToningShadowSaturation | 0 |
SubjectDistanceRange | Unknown |
Tint | +7 |
ToneCurve | 0, 0, 255, 255 |
ToneCurveBlue | 0, 0, 255, 255 |
ToneCurveGreen | 0, 0, 255, 255 |
ToneCurveName | Linear |
ToneCurveName2012 | Linear |
ToneCurvePV2012 | 0, 0, 255, 255 |
ToneCurvePV2012Blue | 0, 0, 255, 255 |
ToneCurvePV2012Green | 0, 0, 255, 255 |
ToneCurvePV2012Red | 0, 0, 255, 255 |
ToneCurveRed | 0, 0, 255, 255 |
ToneMapStrength | 0 |
Version | 9.1 |
Vibrance | +10 |
VignetteAmount | 0 |
WhiteBalance (1) | As Shot |
WhiteBalance | Auto |
Whites2012 | +24 |