Felt | Verdi |
AlreadyApplied | True |
AutoLateralCA | 0 |
AutoWhiteVersion | 134348800 |
BitsPerSample (1) | 8 8 8 |
BitsPerSample | 8 |
Blacks2012 | -32 |
BlueHue | 0 |
BlueSaturation | 0 |
BrightnessValue | 5.18515625 |
CameraProfile | Embedded |
CircleOfConfusion | 0.030 mm |
Clarity2012 | +30 |
ColorComponents | 3 |
ColorMode | RGB |
ColorNoiseReduction | 0 |
ColorSpace | sRGB |
ColorTemperature | 5800 |
ColorTransform | YCbCr |
Contrast | Normal |
Contrast2012 | +34 |
ConvertToGrayscale | True |
CreateDate | 2015:09:12 13:12:28 |
CreatorTool | Adobe Photoshop Lightroom 6.1.1 (Macintosh) |
CustomRendered | Normal |
DateCreated (1) | 2015:09:12 |
DateCreated | 2015:09:12 13:12:28 |
DateTimeOriginal | 2015:09:12 13:12:28 |
Dehaze | 0 |
DigitalZoomRatio | 1 |
ExifImageHeight | 4000 |
ExifImageWidth | 6000 |
Exposure2012 | +0.23 |
ExposureCompensation | 0 |
ExposureMode | Auto |
ExposureProgram | Aperture-priority AE |
ExposureTime | 1/1000 |
Flash | Off, Did not fire |
Format | image/jpeg |
GrainAmount | 0 |
GrayMixerAqua | -17 |
GrayMixerBlue | +9 |
GrayMixerGreen | -25 |
GrayMixerMagenta | +2 |
GrayMixerOrange | -19 |
GrayMixerPurple | +14 |
GrayMixerRed | -11 |
GrayMixerYellow | -22 |
GreenHue | 0 |
GreenSaturation | 0 |
HasCrop | False |
HasSettings | True |
Highlights2012 | -2 |
ICCProfileName | sRGB IEC61966-2.1 |
ImageHeight | 4000 |
ImageSize | 6000x4000 |
ImageWidth | 6000 |
ISO | 100 |
Lens | ---- |
LensManualDistortionAmount | 0 |
LensModel | ---- |
LensProfileEnable | 0 |
LensProfileSetup | LensDefaults |
LightSource | Cloudy |
LuminanceSmoothing | 0 |
Make | SONY |
MaxApertureValue | 1.0 |
Megapixels | 24.0 |
MeteringMode | Center-weighted average |
Model | ILCE-7M2 |
ModifyDate (1) | 2015:09:13 02:25:47+02:00 |
ModifyDate | 2015:09:13 02:25:47 |
Orientation | Horizontal (normal) |
ParametricDarks | 0 |
ParametricHighlights | 0 |
ParametricHighlightSplit | 75 |
ParametricLights | 0 |
ParametricMidtoneSplit | 50 |
ParametricShadows | 0 |
ParametricShadowSplit | 25 |
PerspectiveAspect | 0 |
PerspectiveHorizontal | 0 |
PerspectiveRotate | 0.0 |
PerspectiveScale | 100 |
PerspectiveUpright | 0 |
PerspectiveVertical | 0 |
PhotometricInterpretation | RGB |
PostCropVignetteAmount | 0 |
ProcessVersion | 6.7 |
ProfileDescription | sRGB IEC61966-2.1 |
RecommendedExposureIndex | 100 |
RedHue | 0 |
RedSaturation | 0 |
SamplesPerPixel | 3 |
Saturation | Normal |
ScaleFactor35efl | 1.0 |
SceneCaptureType | Standard |
SceneType | Directly photographed |
SensitivityType | Recommended Exposure Index |
Shadows2012 | -14 |
ShadowTint | 0 |
SharpenDetail | 25 |
SharpenEdgeMasking | 0 |
SharpenRadius | +1.0 |
Sharpness (1) | 0 |
Sharpness | Normal |
ShutterSpeed | 1/1000 |
ShutterSpeedValue | 1/1000 |
Software | Adobe Photoshop CC 2014 (Macintosh) |
SplitToningBalance | 0 |
SplitToningHighlightHue | 0 |
SplitToningHighlightSaturation | 0 |
SplitToningShadowHue | 0 |
SplitToningShadowSaturation | 0 |
Tint | +5 |
ToneCurve | 0, 0, 255, 255 |
ToneCurveBlue | 0, 0, 255, 255 |
ToneCurveGreen | 0, 0, 255, 255 |
ToneCurveName | Linear |
ToneCurveName2012 | Custom |
ToneCurvePV2012 | 0, 41, 86, 53, 148, 135, 223, 221, 255, 240 |
ToneCurvePV2012Blue | 0, 0, 255, 255 |
ToneCurvePV2012Green | 0, 0, 255, 255 |
ToneCurvePV2012Red | 0, 0, 255, 255 |
ToneCurveRed | 0, 0, 255, 255 |
ToneMapStrength | 0 |
URL_List | |
Version | 9.1.1 |
VignetteAmount | 0 |
WhiteBalance (1) | As Shot |
WhiteBalance | Manual |
Whites2012 | -30 |