Felt | Verdi |
AlreadyApplied | True |
Aperture | 2.8 |
ApertureValue | 2.8 |
ApproximateFocusDistance | 2 |
Artist | Kjetil_B_Pedersen |
AutoLateralCA | 0 |
AutoWhiteVersion | 134348800 |
BitsPerSample | 8 |
Blacks2012 | -10 |
BlueHue | 0 |
BlueSaturation | 0 |
By-line | Kjetil_B_Pedersen |
CameraProfile | Adobe Standard |
CFAPattern | [Red,Green][Green,Blue] |
CircleOfConfusion | 0.030 mm |
Clarity2012 | +20 |
ColorComponents | 1 |
ColorMode | Grayscale |
ColorNoiseReduction | 25 |
ColorNoiseReductionDetail | 50 |
ColorNoiseReductionSmoothness | 50 |
ColorSpace | Uncalibrated |
ColorTemperature | 4050 |
ColorTransform | Unknown (RGB or CMYK) |
Contrast | Normal |
Contrast2012 | +12 |
ConvertToGrayscale | True |
Copyright | K.Pedersen_Photography |
CopyrightNotice | K.Pedersen_Photography |
CreateDate | 2015:02:28 13:40:18 |
Creator | Kjetil_B_Pedersen |
CreatorTool | Ver.1.02 |
CustomRendered | Normal |
DateCreated (1) | 2015:02:28 |
DateCreated | 2015:02:28 13:40:18.009 |
DateTimeOriginal | 2015:02:28 13:40:18 |
DigitalZoomRatio | 1 |
DOF | 12.48 m (1.08 - 13.56 m) |
ExifImageHeight | 3824 |
ExifImageWidth | 3824 |
Exposure2012 | 0.00 |
ExposureCompensation | 0 |
ExposureMode | Manual |
ExposureProgram | Manual |
ExposureTime | 1/100 |
Flash | Off, Did not fire |
FNumber | 2.8 |
FocalLength | 14.0 mm |
FocalLength35efl | 14.0 mm (35 mm equivalent: 14.0 mm) |
FocalLengthIn35mmFormat | 14 mm |
Format | image/jpeg |
FOV | 104.3 deg |
GainControl | Low gain up |
GrainAmount | 0 |
GrayMixerAqua | -18 |
GrayMixerBlue | +10 |
GrayMixerGreen | -27 |
GrayMixerMagenta | +3 |
GrayMixerOrange | -19 |
GrayMixerPurple | +16 |
GrayMixerRed | -10 |
GrayMixerYellow | -23 |
GreenHue | 0 |
GreenSaturation | 0 |
HasCrop | False |
HasSettings | True |
Highlights2012 | +3 |
HyperfocalDistance | 2.33 m |
ICCProfileName | Gray Gamma 2.2 |
ImageHeight | 3824 |
ImageNumber | 16330 |
ImageSize | 3824x3824 |
ImageWidth | 3824 |
ISO | 800 |
Lens | 14.0-24.0 mm f/2.8 |
LensID (1) | 146 |
LensID | AF-S Zoom-Nikkor 14-24mm f/2.8G ED |
LensInfo | 14-24mm f/2.8 |
LensManualDistortionAmount | 0 |
LensModel | 14.0-24.0 mm f/2.8 |
LensProfileEnable | 0 |
LensProfileSetup | LensDefaults |
LightSource | Unknown |
LightValue | 6.6 |
LuminanceSmoothing | 0 |
Make | NIKON CORPORATION |
MaxApertureValue | 2.8 |
Megapixels | 14.6 |
MeteringMode | Multi-segment |
Model | NIKON D600 |
ModifyDate (1) | 2015:03:01 11:31:08+01:00 |
ModifyDate | 2015:03:01 11:31:08 |
Orientation | Horizontal (normal) |
ParametricDarks | 0 |
ParametricHighlights | 0 |
ParametricHighlightSplit | 75 |
ParametricLights | 0 |
ParametricMidtoneSplit | 50 |
ParametricShadows | 0 |
ParametricShadowSplit | 25 |
PerspectiveAspect | 0 |
PerspectiveHorizontal | 0 |
PerspectiveRotate | 0.0 |
PerspectiveScale | 100 |
PerspectiveUpright | 0 |
PerspectiveVertical | 0 |
PostCropVignetteAmount | 0 |
ProcessVersion | 6.7 |
ProfileDescription | Gray Gamma 2.2 |
Rating | 0 |
RawFileName | DSC_5070.NEF |
RedHue | 0 |
RedSaturation | 0 |
Rights | K.Pedersen_Photography |
Saturation | Normal |
ScaleFactor35efl | 1.0 |
SceneCaptureType | Standard |
SceneType | Directly photographed |
SensingMethod | One-chip color area |
SensitivityType | Recommended Exposure Index |
SerialNumber | 6057636 |
Shadows2012 | 0 |
ShadowTint | 0 |
SharpenDetail | 40 |
SharpenEdgeMasking | 0 |
SharpenRadius | +1.0 |
Sharpness (1) | 60 |
Sharpness | Normal |
ShutterSpeed | 1/100 |
ShutterSpeedValue | 1/100 |
Software | Adobe Photoshop CS6 (Windows) |
SplitToningBalance | 0 |
SplitToningHighlightHue | 0 |
SplitToningHighlightSaturation | 0 |
SplitToningShadowHue | 0 |
SplitToningShadowSaturation | 0 |
SubjectDistanceRange | Unknown |
Tint | +1 |
ToneCurve | 0, 0, 32, 22, 64, 56, 128, 128, 192, 196, 255, 255 |
ToneCurveBlue | 0, 0, 255, 255 |
ToneCurveGreen | 0, 0, 255, 255 |
ToneCurveName | Medium Contrast |
ToneCurveName2012 | Linear |
ToneCurvePV2012 | 0, 0, 255, 255 |
ToneCurvePV2012Blue | 0, 0, 255, 255 |
ToneCurvePV2012Green | 0, 0, 255, 255 |
ToneCurvePV2012Red | 0, 0, 255, 255 |
ToneCurveRed | 0, 0, 255, 255 |
URL_List | |
Version | 8.7.1 |
VignetteAmount | 0 |
WhiteBalance (1) | As Shot |
WhiteBalance | Auto |
Whites2012 | +13 |