Felt | Verdi |
AlreadyApplied | True |
Aperture | 9.0 |
ApertureValue | 9.0 |
ApproximateFocusDistance | 4294967295 |
Artist | Jon Olav Nesvold |
AutoLateralCA | 0 |
AutoWhiteVersion | 134348800 |
BitsPerSample | 8 |
Blacks2012 | -31 |
BlueHue | 0 |
BlueSaturation | 0 |
By-line | Jon Olav Nesvold |
CameraProfile | Adobe Standard |
CFAPattern | [Red,Green][Green,Blue] |
CircleOfConfusion | 0.030 mm |
Clarity2012 | +14 |
ColorComponents | 3 |
ColorNoiseReduction | 25 |
ColorNoiseReductionDetail | 50 |
ColorNoiseReductionSmoothness | 50 |
ColorTemperature | 7399 |
ColorTransform | YCbCr |
Contrast | Normal |
Contrast2012 | 0 |
ConvertToGrayscale | False |
Copyright | Jon Olav Nesvold |
CopyrightNotice | Jon Olav Nesvold |
CreateDate (1) | 2015:07:15 21:15:42.70 |
CreateDate | 2015:07:15 21:15:42 |
Creator | Jon Olav Nesvold |
CreatorTool | Adobe Photoshop Lightroom 5.7.1 (Macintosh) |
CropAngle | -0.062132 |
CropBottom | 0.968856 |
CropConstrainToWarp | 0 |
CropLeft | 0.040961 |
CropRight | 0.965829 |
CropTop | 0.065119 |
CustomRendered | Normal |
DateCreated (1) | 2015:07:15 |
DateCreated | 2015:07:15 21:15:42.70 |
DateTimeOriginal | 2015:07:15 21:15:42 |
DefringeGreenAmount | 0 |
DefringeGreenHueHi | 60 |
DefringeGreenHueLo | 40 |
DefringePurpleAmount | 0 |
DefringePurpleHueHi | 70 |
DefringePurpleHueLo | 30 |
DigitalZoomRatio | 1 |
DOF | inf (11.19 m - inf) |
Exposure2012 | +0.05 |
ExposureCompensation | 0 |
ExposureMode | Manual |
ExposureProgram | Manual |
ExposureTime | 1.6 |
Flash | Off, Did not fire |
FNumber | 9.0 |
FocalLength | 55.0 mm |
FocalLength35efl | 55.0 mm (35 mm equivalent: 55.0 mm) |
FocalLengthIn35mmFormat | 55 mm |
Format | image/jpeg |
FOV | 36.2 deg |
GainControl | None |
GradientBasedCorrActive | true |
GradientBasedCorrAmount | 1.000000 |
GradientBasedCorrBrightness | 0.000000 |
GradientBasedCorrClarity2012 | 0.000000 |
GradientBasedCorrContrast2012 | 0.000000 |
GradientBasedCorrDefringe | 0.000000 |
GradientBasedCorrExposure2012 | 0.082338 |
GradientBasedCorrHighlights2012 | 0.000000 |
GradientBasedCorrHue | 240.000000 |
GradientBasedCorrLuminanceNoise | 0.000000 |
GradientBasedCorrMaskFullX | 0.625409 |
GradientBasedCorrMaskFullY | 0.054129 |
GradientBasedCorrMaskValue | 1.000000 |
GradientBasedCorrMaskWhat | Mask/Gradient |
GradientBasedCorrMaskZeroX | 0.599503 |
GradientBasedCorrMaskZeroY | 0.658056 |
GradientBasedCorrMoire | 0.000000 |
GradientBasedCorrSaturation (1) | 0.968574 |
GradientBasedCorrSaturation | 0.000000 |
GradientBasedCorrShadows2012 | 0.000000 |
GradientBasedCorrSharpness | 0.000000 |
GradientBasedCorrTemperature | 0.000000 |
GradientBasedCorrTint | 0.000000 |
GradientBasedCorrWhat | Correction |
GrainAmount | 0 |
GreenHue | 0 |
GreenSaturation | 0 |
HasCrop | True |
HasExtendedXMP | 0DCDDB0ACBB2E1C8C3261051C1E3DC99 |
HasSettings | True |
Highlights2012 | -100 |
HueAdjustmentAqua | 0 |
HueAdjustmentBlue | 0 |
HueAdjustmentGreen | 0 |
HueAdjustmentMagenta | 0 |
HueAdjustmentOrange | 0 |
HueAdjustmentPurple | 0 |
HueAdjustmentRed | 0 |
HueAdjustmentYellow | 0 |
HyperfocalDistance | 11.19 m |
ImageHeight | 4446 |
ImageNumber | 17007 |
ImageSize | 6801x4446 |
ImageWidth | 6801 |
ISO | 100 |
Lens | 24.0-85.0 mm f/3.5-4.5 |
LensID (1) | 180 |
LensID | AF-S Zoom-Nikkor 24-85mm f/3.5-4.5G IF-ED VR |
LensInfo | 24-85mm f/3.5-4.5 |
LensManualDistortionAmount | 0 |
LensModel | 24.0-85.0 mm f/3.5-4.5 |
LensProfileEnable | 0 |
LensProfileSetup | LensDefaults |
LightSource | Shade |
LightValue | 5.7 |
LuminanceAdjustmentAqua | 0 |
LuminanceAdjustmentBlue | 0 |
LuminanceAdjustmentGreen | 0 |
LuminanceAdjustmentMagenta | 0 |
LuminanceAdjustmentOrange | 0 |
LuminanceAdjustmentPurple | 0 |
LuminanceAdjustmentRed | 0 |
LuminanceAdjustmentYellow | 0 |
LuminanceSmoothing | 0 |
Make | NIKON CORPORATION |
MaxApertureValue | 4.3 |
Megapixels | 30.2 |
MeteringMode | Multi-segment |
Model | NIKON D800 |
ModifyDate (1) | 2015:10:01 13:37:44+02:00 |
ModifyDate | 2015:10:01 13:37:44 |
PaintCorrectionActive | true |
PaintCorrectionAmount | 1.000000 |
PaintCorrectionBrightness | 0.000000 |
PaintCorrectionClarity2012 (1) | 0.331548 |
PaintCorrectionClarity2012 (11) | 0.318381 |
PaintCorrectionClarity2012 (9) | 0.534410 |
PaintCorrectionClarity2012 | 0.000000 |
PaintCorrectionContrast2012 (10) | 0.176001 |
PaintCorrectionContrast2012 (9) | 0.220154 |
PaintCorrectionContrast2012 | 0.000000 |
PaintCorrectionDefringe | 0.000000 |
PaintCorrectionExposure2012 (11) | 0.225948 |
PaintCorrectionExposure2012 (12) | 0.161868 |
PaintCorrectionExposure2012 (3) | 0.075404 |
PaintCorrectionExposure2012 (4) | 0.082338 |
PaintCorrectionExposure2012 (5) | 0.000000 |
PaintCorrectionExposure2012 (6) | 0.271243 |
PaintCorrectionExposure2012 (7) | 0.158093 |
PaintCorrectionExposure2012 (8) | 0.127809 |
PaintCorrectionExposure2012 | -0.123596 |
PaintCorrectionHighlights2012 | 0.000000 |
PaintCorrectionHue | 240.000000 |
PaintCorrectionLuminanceNoise (8) | -0.177142 |
PaintCorrectionLuminanceNoise | 0.000000 |
PaintCorrectionMaskCenterWeight (105) | 1.000000 |
PaintCorrectionMaskCenterWeight | 0.592258 |
PaintCorrectionMaskFlow (107) | 1.000000 |
PaintCorrectionMaskFlow | 0.789260 |
PaintCorrectionMaskRadius (10) | 0.014745 |
PaintCorrectionMaskRadius (102) | 0.064616 |
PaintCorrectionMaskRadius (104) | 0.009976 |
PaintCorrectionMaskRadius (112) | 0.038382 |
PaintCorrectionMaskRadius (113) | 0.009913 |
PaintCorrectionMaskRadius (117) | 0.005998 |
PaintCorrectionMaskRadius (121) | 0.003021 |
PaintCorrectionMaskRadius (122) | 0.011621 |
PaintCorrectionMaskRadius (14) | 0.011989 |
PaintCorrectionMaskRadius (19) | 0.035436 |
PaintCorrectionMaskRadius (22) | 0.013961 |
PaintCorrectionMaskRadius (38) | 0.038595 |
PaintCorrectionMaskRadius (41) | 0.020706 |
PaintCorrectionMaskRadius (43) | 0.036559 |
PaintCorrectionMaskRadius (44) | 0.022076 |
PaintCorrectionMaskRadius (48) | 0.024877 |
PaintCorrectionMaskRadius (53) | 0.005390 |
PaintCorrectionMaskRadius (55) | 0.003025 |
PaintCorrectionMaskRadius (59) | 0.027725 |
PaintCorrectionMaskRadius (60) | 0.039909 |
PaintCorrectionMaskRadius (64) | 0.025922 |
PaintCorrectionMaskRadius (66) | 0.013053 |
PaintCorrectionMaskRadius (70) | 0.018066 |
PaintCorrectionMaskRadius (72) | 0.034180 |
PaintCorrectionMaskRadius (73) | 0.023258 |
PaintCorrectionMaskRadius (77) | 0.032960 |
PaintCorrectionMaskRadius (78) | 0.016084 |
PaintCorrectionMaskRadius (80) | 0.027939 |
PaintCorrectionMaskRadius (88) | 0.013324 |
PaintCorrectionMaskRadius (98) | 0.006625 |
PaintCorrectionMaskRadius | 0.005226 |
PaintCorrectionMaskValue (112) | 0.000000 |
PaintCorrectionMaskValue | 0.336152 |
PaintCorrectionMaskWhat | Mask/Paint |
PaintCorrectionMoire | 0.000000 |
PaintCorrectionSaturation (17) | 0.285112 |
PaintCorrectionSaturation (19) | 0.375702 |
PaintCorrectionSaturation (21) | 0.102001 |
PaintCorrectionSaturation (3) | 0.892468 |
PaintCorrectionSaturation (7) | 0.283532 |
PaintCorrectionSaturation | 0.000000 |
PaintCorrectionShadows2012 | 0.000000 |
PaintCorrectionSharpness | 0.000000 |
PaintCorrectionTemperature (4) | 0.216117 |
PaintCorrectionTemperature | 0.000000 |
PaintCorrectionTint (4) | 0.263518 |
PaintCorrectionTint | 0.000000 |
PaintCorrectionWhat | Correction |
ParametricDarks | 0 |
ParametricHighlights | 0 |
ParametricHighlightSplit | 75 |
ParametricLights | 0 |
ParametricMidtoneSplit | 50 |
ParametricShadows | 0 |
ParametricShadowSplit | 25 |
PerspectiveAspect | 0 |
PerspectiveHorizontal | 0 |
PerspectiveRotate | 0.0 |
PerspectiveScale | 100 |
PerspectiveUpright | 0 |
PerspectiveVertical | 0 |
PostCropVignetteAmount | 0 |
ProcessVersion | 6.7 |
ProfileDescription | sRGB IEC61966-2.1 |
RedHue | 0 |
RedSaturation | 0 |
Rights | Jon Olav Nesvold |
Saturation (1) | +8 |
Saturation | Normal |
SaturationAdjustmentAqua | 0 |
SaturationAdjustmentBlue | 0 |
SaturationAdjustmentGreen | 0 |
SaturationAdjustmentMagenta | 0 |
SaturationAdjustmentOrange | 0 |
SaturationAdjustmentPurple | 0 |
SaturationAdjustmentRed | 0 |
SaturationAdjustmentYellow | 0 |
ScaleFactor35efl | 1.0 |
SceneCaptureType | Landscape |
SceneType | Directly photographed |
SensingMethod | One-chip color area |
SensitivityType | Recommended Exposure Index |
SerialNumber | 6042024 |
Shadows2012 | +100 |
ShadowTint | 0 |
SharpenDetail | 25 |
SharpenEdgeMasking | 88 |
SharpenRadius | +1.0 |
Sharpness (1) | 75 |
Sharpness | Normal |
ShutterSpeed | 1.6 |
ShutterSpeedValue | 1.6 |
Software | Adobe Photoshop Lightroom 5.7.1 (Macintosh) |
SplitToningBalance | 0 |
SplitToningHighlightHue | 0 |
SplitToningHighlightSaturation | 0 |
SplitToningShadowHue | 0 |
SplitToningShadowSaturation | 0 |
SubjectDistanceRange | Unknown |
Tint | +26 |
ToneCurve | 0, 0, 255, 255 |
ToneCurveBlue | 0, 0, 255, 255 |
ToneCurveGreen | 0, 0, 255, 255 |
ToneCurveName | Linear |
ToneCurveName2012 | Linear |
ToneCurvePV2012 | 0, 0, 255, 255 |
ToneCurvePV2012Blue | 0, 0, 255, 255 |
ToneCurvePV2012Green | 0, 0, 255, 255 |
ToneCurvePV2012Red | 0, 0, 255, 255 |
ToneCurveRed | 0, 0, 255, 255 |
Version | 8.7.1 |
Vibrance | -1 |
VignetteAmount | 0 |
WhiteBalance (1) | Custom |
WhiteBalance | Manual |
Whites2012 | +22 |