Felt | Verdi |
AlreadyApplied | True |
Aperture | 6.4 |
ApertureValue | 6.4 |
Artist | Picasa |
AutoLateralCA | 0 |
AutoWhiteVersion | 134348800 |
BitsPerSample | 8 |
Blacks2012 | -76 |
BlueHue | 0 |
BlueSaturation | 0 |
BrightnessValue | 5.84 |
By-line | Picasa |
CameraProfile | Embedded |
CircleOfConfusion | 0.020 mm |
Clarity2012 | +12 |
ColorComponents | 3 |
ColorNoiseReduction | 0 |
ColorSpace | sRGB |
Contrast2012 | +5 |
ConvertToGrayscale | False |
CreateDate | 2015:10:18 16:40:57 |
Creator | Picasa |
CreatorTool | Adobe Photoshop Lightroom 6.2.1 (Windows) |
CropAngle | 0 |
CropBottom | 0.568022 |
CropConstrainToWarp | 0 |
CropLeft | 0.237383 |
CropRight | 0.856075 |
CropTop | 0.221599 |
CustomRendered | Normal |
DateCreated (1) | 2015:10:18 16:40:57 |
DateCreated | 2015:10:18 |
DateTimeOriginal | 2015:10:18 16:40:57 |
DefringeGreenAmount | 0 |
DefringeGreenHueHi | 60 |
DefringeGreenHueLo | 40 |
DefringePurpleAmount | 0 |
DefringePurpleHueHi | 70 |
DefringePurpleHueLo | 30 |
Dehaze | 0 |
ExifImageHeight | 746 |
ExifImageWidth | 1999 |
Exposure2012 | +0.60 |
ExposureCompensation | -0.33 |
ExposureMode | Auto |
ExposureProgram | Aperture-priority AE |
ExposureTime | 1/420 |
Flash | Off, Did not fire |
FNumber | 6.4 |
FocalLength | 38.9 mm |
FocalLength35efl | 38.9 mm (35 mm equivalent: 58.0 mm) |
FocalLengthIn35mmFormat | 58 mm |
Format | image/jpeg |
FOV | 34.5 deg |
GradientBasedCorrActive | true |
GradientBasedCorrAmount | 1.000000 |
GradientBasedCorrBrightness | 0.000000 |
GradientBasedCorrClarity2012 | 0.000000 |
GradientBasedCorrContrast2012 | 0.000000 |
GradientBasedCorrDefringe | 0.000000 |
GradientBasedCorrExposure2012 (1) | -0.287250 |
GradientBasedCorrExposure2012 (2) | 0.241500 |
GradientBasedCorrExposure2012 | -0.103500 |
GradientBasedCorrHighlights2012 (1) | -0.218390 |
GradientBasedCorrHighlights2012 | 0.000000 |
GradientBasedCorrHue (2) | 237.000000 |
GradientBasedCorrHue | 0.000000 |
GradientBasedCorrLocalBlacks2012 (1) | 0.000000 |
GradientBasedCorrLocalBlacks2012 | -0.080460 |
GradientBasedCorrLocalDehaze | 0.000000 |
GradientBasedCorrLocalWhites2012 | 0.000000 |
GradientBasedCorrLuminanceNoise | 0.000000 |
GradientBasedCorrMaskFullX (1) | 0.564045 |
GradientBasedCorrMaskFullX (2) | 0.552813 |
GradientBasedCorrMaskFullX | 0.545325 |
GradientBasedCorrMaskFullY (1) | 0.317934 |
GradientBasedCorrMaskFullY (2) | 0.262437 |
GradientBasedCorrMaskFullY | 0.311612 |
GradientBasedCorrMaskValue | 1.000000 |
GradientBasedCorrMaskWhat | Mask/Gradient |
GradientBasedCorrMaskZeroX (1) | 0.567285 |
GradientBasedCorrMaskZeroX (2) | 0.552813 |
GradientBasedCorrMaskZeroX | 0.545325 |
GradientBasedCorrMaskZeroY (1) | 0.485137 |
GradientBasedCorrMaskZeroY (2) | 0.441573 |
GradientBasedCorrMaskZeroY | 0.416986 |
GradientBasedCorrMoire | 0.000000 |
GradientBasedCorrSaturation (1) | 0.080460 |
GradientBasedCorrSaturation (4) | 0.550000 |
GradientBasedCorrSaturation | 0.000000 |
GradientBasedCorrShadows2012 | 0.000000 |
GradientBasedCorrSharpness | 0.000000 |
GradientBasedCorrTemperature | 0.250000 |
GradientBasedCorrTint | 0.000000 |
GradientBasedCorrWhat | Correction |
GrainAmount | 0 |
GreenHue | 0 |
GreenSaturation | 0 |
HasCrop | True |
HasSettings | True |
Highlights2012 | -69 |
HueAdjustmentAqua | 0 |
HueAdjustmentBlue | 0 |
HueAdjustmentGreen | 0 |
HueAdjustmentMagenta | 0 |
HueAdjustmentOrange | 0 |
HueAdjustmentPurple | 0 |
HueAdjustmentRed | 0 |
HueAdjustmentYellow | 0 |
HyperfocalDistance | 11.73 m |
ImageHeight | 746 |
ImageSize | 1999x746 |
ImageWidth | 1999 |
IncrementalTemperature | 0 |
IncrementalTint | 0 |
ISO | 800 |
Lens | XF18-135mmF3.5-5.6R LM OIS WR |
LensInfo | 18-135mm f/3.5-5.6 |
LensMake | FUJIFILM |
LensManualDistortionAmount | 0 |
LensModel | XF18-135mmF3.5-5.6R LM OIS WR |
LensProfileEnable | 0 |
LensProfileSetup | LensDefaults |
LensSerialNumber | 43A08316 |
LightSource | Unknown |
LightValue | 11.1 |
LuminanceAdjustmentAqua | 0 |
LuminanceAdjustmentBlue | 0 |
LuminanceAdjustmentGreen | 0 |
LuminanceAdjustmentMagenta | 0 |
LuminanceAdjustmentOrange | 0 |
LuminanceAdjustmentPurple | 0 |
LuminanceAdjustmentRed | 0 |
LuminanceAdjustmentYellow | 0 |
LuminanceNoiseReductionContrast | 0 |
LuminanceNoiseReductionDetail | 50 |
LuminanceSmoothing | 33 |
Make | FUJIFILM |
MaxApertureValue | 3.5 |
Megapixels | 1.5 |
MeteringMode | Multi-segment |
Model | X-T1 |
ModifyDate (1) | 2015:10:20 10:19:51+02:00 |
ModifyDate | 2015:10:20 10:19:51 |
ParametricDarks | 0 |
ParametricHighlights | 0 |
ParametricHighlightSplit | 75 |
ParametricLights | 0 |
ParametricMidtoneSplit | 50 |
ParametricShadows | 0 |
ParametricShadowSplit | 25 |
PerspectiveAspect | 0 |
PerspectiveHorizontal | 0 |
PerspectiveRotate | 0.0 |
PerspectiveScale | 100 |
PerspectiveUpright | 0 |
PerspectiveVertical | 0 |
PostCropVignetteAmount | -12 |
PostCropVignetteFeather | 50 |
PostCropVignetteHighlightContrast | 0 |
PostCropVignetteMidpoint | 50 |
PostCropVignetteRoundness | 0 |
PostCropVignetteStyle | 1 |
ProcessVersion | 6.7 |
RedHue | 0 |
RedSaturation | 0 |
RelatedImageHeight | 746 |
RelatedImageWidth | 1999 |
Saturation | 0 |
SaturationAdjustmentAqua | 0 |
SaturationAdjustmentBlue | 0 |
SaturationAdjustmentGreen | 0 |
SaturationAdjustmentMagenta | 0 |
SaturationAdjustmentOrange | 0 |
SaturationAdjustmentPurple | 0 |
SaturationAdjustmentRed | 0 |
SaturationAdjustmentYellow | 0 |
ScaleFactor35efl | 1.5 |
SceneCaptureType | Standard |
SceneType | Directly photographed |
SensingMethod | One-chip color area |
SensitivityType | Standard Output Sensitivity |
Shadows2012 | +33 |
ShadowTint | 0 |
SharpenDetail | 37 |
SharpenEdgeMasking | 19 |
SharpenRadius | +1.0 |
Sharpness (1) | 27 |
Sharpness | Hard |
ShutterSpeed | 1/420 |
ShutterSpeedValue | 1/420 |
Software | Adobe Photoshop Lightroom 6.2.1 (Windows) |
SplitToningBalance | 0 |
SplitToningHighlightHue | 0 |
SplitToningHighlightSaturation | 0 |
SplitToningShadowHue | 0 |
SplitToningShadowSaturation | 0 |
SubjectDistanceRange | Unknown |
ToneCurve | 0, 0, 255, 255 |
ToneCurveBlue | 0, 0, 255, 255 |
ToneCurveGreen | 0, 0, 255, 255 |
ToneCurveName | Linear |
ToneCurveName2012 | Linear |
ToneCurvePV2012 | 0, 0, 255, 255 |
ToneCurvePV2012Blue | 0, 0, 255, 255 |
ToneCurvePV2012Green | 0, 0, 255, 255 |
ToneCurvePV2012Red | 0, 0, 255, 255 |
ToneCurveRed | 0, 0, 255, 255 |
ToneMapStrength | 0 |
Version | 9.2 |
Vibrance | 0 |
VignetteAmount | 0 |
WhiteBalance (1) | As Shot |
WhiteBalance | Auto |
Whites2012 | +26 |