Felt | Verdi |
AlreadyApplied | True |
Aperture | 13.0 |
ApertureValue | 13.0 |
ApproximateFocusDistance | 4294967295 |
Artist | Terje Sjaaholm 6440 Elnesvaagen |
AutoLateralCA | 1 |
AutoWhiteVersion | 134348800 |
BitsPerSample | 8 |
Blacks2012 | -2 |
BlueHue | 0 |
BlueSaturation | 0 |
By-line | Terje Sjaaholm 6440 Elnesvaa |
CameraProfile | Adobe Standard |
CFAPattern | [Red,Green][Green,Blue] |
CircleOfConfusion | 0.030 mm |
Clarity2012 | +43 |
ColorComponents | 3 |
ColorNoiseReduction | 25 |
ColorNoiseReductionDetail | 50 |
ColorNoiseReductionSmoothness | 50 |
ColorTemperature | 8719 |
ColorTransform | YCbCr |
Contrast | Normal |
Contrast2012 | -7 |
ConvertToGrayscale | False |
Copyright | Terje Sjaaholm |
CopyrightNotice | Terje Sjaaholm |
CreateDate (1) | 2015:11:09 13:38:22.20 |
CreateDate | 2015:11:09 13:38:22 |
Creator | Terje Sjaaholm 6440 Elnesvaagen |
CreatorTool | Adobe Photoshop Lightroom 5.7.1 (Windows) |
CropAngle | 0 |
CropBottom | 0.940639 |
CropConstrainToWarp | 0 |
CropLeft | 0.073171 |
CropRight | 1 |
CropTop | 0 |
CustomRendered | Normal |
DateCreated (1) | 2015:11:09 |
DateCreated | 2015:11:09 13:38:22.20 |
DateTimeOriginal | 2015:11:09 13:38:22 |
DefringeGreenAmount | 0 |
DefringeGreenHueHi | 60 |
DefringeGreenHueLo | 40 |
DefringePurpleAmount | 0 |
DefringePurpleHueHi | 70 |
DefringePurpleHueLo | 30 |
DigitalZoomRatio | 1 |
DOF | inf (1.02 m - inf) |
Exposure2012 | +0.12 |
ExposureCompensation | 0 |
ExposureMode | Manual |
ExposureProgram | Manual |
ExposureTime | 30 |
Flash | Off, Did not fire |
FNumber | 13.0 |
FocalLength | 20.0 mm |
FocalLength35efl | 20.0 mm (35 mm equivalent: 20.0 mm) |
FocalLengthIn35mmFormat | 20 mm |
Format | image/jpeg |
FOV | 84.0 deg |
GainControl | None |
GradientBasedCorrActive | true |
GradientBasedCorrAmount | 1.000000 |
GradientBasedCorrBrightness | 0.000000 |
GradientBasedCorrClarity2012 | 0.285710 |
GradientBasedCorrContrast2012 | -0.119050 |
GradientBasedCorrDefringe | 0.000000 |
GradientBasedCorrExposure2012 | -0.071500 |
GradientBasedCorrHighlights2012 | -1.000000 |
GradientBasedCorrHue | 240.000000 |
GradientBasedCorrLuminanceNoise | 0.000000 |
GradientBasedCorrMaskFullX | 0.537849 |
GradientBasedCorrMaskFullY | 0.005437 |
GradientBasedCorrMaskValue | 1.000000 |
GradientBasedCorrMaskWhat | Mask/Gradient |
GradientBasedCorrMaskZeroX | 0.529288 |
GradientBasedCorrMaskZeroY | 0.968666 |
GradientBasedCorrMoire | 0.000000 |
GradientBasedCorrSaturation (1) | 0.047620 |
GradientBasedCorrSaturation | 0.000000 |
GradientBasedCorrShadows2012 | 0.238100 |
GradientBasedCorrSharpness | 0.047620 |
GradientBasedCorrTemperature | 0.000000 |
GradientBasedCorrTint | 0.000000 |
GradientBasedCorrWhat | Correction |
GrainAmount | 0 |
GreenHue | 0 |
GreenSaturation | 0 |
HasCrop | True |
HasSettings | True |
Highlights2012 | -100 |
HueAdjustmentAqua | 0 |
HueAdjustmentBlue | 0 |
HueAdjustmentGreen | 0 |
HueAdjustmentMagenta | 0 |
HueAdjustmentOrange | 0 |
HueAdjustmentPurple | 0 |
HueAdjustmentRed | 0 |
HueAdjustmentYellow | 0 |
HyperfocalDistance | 1.02 m |
ImageHeight | 4016 |
ImageNumber | 13150 |
ImageSize | 5928x4016 |
ImageWidth | 5928 |
ISO | 80 |
Lens | 20.0 mm f/2.8 |
LensID (1) | 55 |
LensID | AF Nikkor 20mm f/2.8D |
LensInfo | 20mm f/2.8 |
LensManualDistortionAmount | 0 |
LensModel | 20.0 mm f/2.8 |
LensProfileChromaticAberrationScale | 100 |
LensProfileDistortionScale | 100 |
LensProfileEnable | 1 |
LensProfileFilename | NIKON D3X (Nikon AF NIKKOR 20mm f2.8D) - RAW.lcp |
LensProfileName | Adobe (Nikon AF NIKKOR 20mm f/2.8D) |
LensProfileSetup | LensDefaults |
LensProfileVignettingScale | 100 |
LightSource | Unknown |
LightValue | 2.8 |
LuminanceAdjustmentAqua | 0 |
LuminanceAdjustmentBlue | 0 |
LuminanceAdjustmentGreen | 0 |
LuminanceAdjustmentMagenta | 0 |
LuminanceAdjustmentOrange | 0 |
LuminanceAdjustmentPurple | 0 |
LuminanceAdjustmentRed | 0 |
LuminanceAdjustmentYellow | 0 |
LuminanceNoiseReductionContrast | 0 |
LuminanceNoiseReductionDetail | 50 |
LuminanceSmoothing | 75 |
Make | NIKON CORPORATION |
MaxApertureValue | 2.8 |
Megapixels | 23.8 |
MeteringMode | Center-weighted average |
Model | NIKON D600 |
ModifyDate (1) | 2015:11:09 16:21:05+01:00 |
ModifyDate | 2015:11:09 16:21:05 |
ParametricDarks | 0 |
ParametricHighlights | 0 |
ParametricHighlightSplit | 75 |
ParametricLights | 0 |
ParametricMidtoneSplit | 50 |
ParametricShadows | 0 |
ParametricShadowSplit | 25 |
PerspectiveAspect | 0 |
PerspectiveHorizontal | 0 |
PerspectiveRotate | 0.0 |
PerspectiveScale | 100 |
PerspectiveUpright | 1 |
PerspectiveVertical | 0 |
PostCropVignetteAmount | -2 |
PostCropVignetteFeather | 50 |
PostCropVignetteHighlightContrast | 0 |
PostCropVignetteMidpoint | 50 |
PostCropVignetteRoundness | 0 |
PostCropVignetteStyle | 1 |
ProcessVersion | 6.7 |
ProfileDescription | sRGB IEC61966-2.1 |
RedHue | 0 |
RedSaturation | 0 |
Rights | Terje Sjaaholm |
Saturation (1) | -12 |
Saturation | Normal |
SaturationAdjustmentAqua | 0 |
SaturationAdjustmentBlue | 0 |
SaturationAdjustmentGreen | 0 |
SaturationAdjustmentMagenta | 0 |
SaturationAdjustmentOrange | 0 |
SaturationAdjustmentPurple | 0 |
SaturationAdjustmentRed | 0 |
SaturationAdjustmentYellow | 0 |
ScaleFactor35efl | 1.0 |
SceneCaptureType | Standard |
SceneType | Directly photographed |
SensingMethod | One-chip color area |
SensitivityType | Recommended Exposure Index |
SerialNumber | 6010465 |
Shadows2012 | +100 |
ShadowTint | 0 |
SharpenDetail | 30 |
SharpenEdgeMasking | 21 |
SharpenRadius | +1.0 |
Sharpness (1) | 50 |
Sharpness | Normal |
ShutterSpeed | 30 |
ShutterSpeedValue | 30 |
Software | Adobe Photoshop Lightroom 5.7.1 (Windows) |
SplitToningBalance | 0 |
SplitToningHighlightHue | 0 |
SplitToningHighlightSaturation | 0 |
SplitToningShadowHue | 0 |
SplitToningShadowSaturation | 0 |
SubjectDistanceRange | Unknown |
Tint | -1 |
ToneCurve | 0, 0, 255, 255 |
ToneCurveBlue | 0, 0, 255, 255 |
ToneCurveGreen | 0, 0, 255, 255 |
ToneCurveName | Linear |
ToneCurveName2012 | Medium Contrast |
ToneCurvePV2012 | 0, 0, 32, 22, 64, 56, 128, 128, 192, 196, 255, 255 |
ToneCurvePV2012Blue | 0, 0, 255, 255 |
ToneCurvePV2012Green | 0, 0, 255, 255 |
ToneCurvePV2012Red | 0, 0, 255, 255 |
ToneCurveRed | 0, 0, 255, 255 |
Version | 8.7.1 |
Vibrance | -26 |
VignetteAmount | 0 |
WhiteBalance (1) | Custom |
WhiteBalance | Manual |
Whites2012 | +57 |