Felt | Verdi |
AlreadyApplied | True |
Aperture | 11.0 |
ApertureValue | 11.0 |
Artist | Ole Arne Schlytter |
AutoLateralCA | 0 |
BitsPerSample (1) | 8 8 8 |
BitsPerSample | 8 |
Blacks2012 | -29 |
BlueHue | 0 |
BlueSaturation | 0 |
By-line | Ole Arne Schlytter |
CameraProfile | Adobe Standard |
CircleOfConfusion | 0.007 mm |
Clarity2012 | +39 |
ColorComponents | 3 |
ColorMode | RGB |
ColorNoiseReduction | 25 |
ColorNoiseReductionDetail | 50 |
ColorSpace | sRGB |
ColorTemperature | 6100 |
ColorTransform | YCbCr |
Contrast2012 | +11 |
ConvertToGrayscale | False |
Copyright | ole.arne@hotmail.com |
CopyrightNotice | ole.arne@hotmail.com |
CreateDate (1) | 2015:06:23 17:33:05+02:00 |
CreateDate | 2015:06:23 17:33:05 |
Creator | Ole Arne Schlytter |
CreatorTool | Adobe Photoshop Elements 12.0 Macintosh |
CustomRendered | Normal |
DateCreated (1) | 2015:06:23 |
DateCreated | 2015:06:23 17:33:05.014 |
DateTimeOriginal | 2015:06:23 17:33:05 |
DefringeGreenAmount | 0 |
DefringeGreenHueHi | 60 |
DefringeGreenHueLo | 40 |
DefringePurpleAmount | 0 |
DefringePurpleHueHi | 70 |
DefringePurpleHueLo | 30 |
ExifImageHeight | 776 |
ExifImageWidth | 1150 |
Exposure2012 | -0.35 |
ExposureCompensation | +2/3 |
ExposureMode | Auto |
ExposureProgram | Aperture-priority AE |
ExposureTime | 1/30 |
Firmware | 2.0.3 |
Flash | Off, Did not fire |
FlashCompensation | 0 |
FNumber | 11.0 |
FocalLength | 24.0 mm |
FocalLength35efl | 24.0 mm (35 mm equivalent: 107.8 mm) |
Format | image/jpeg |
FOV | 19.0 deg |
GrainAmount | 0 |
GreenHue | 0 |
GreenSaturation | 0 |
HasCrop | False |
HasSettings | True |
Highlights2012 | -51 |
HueAdjustmentAqua | 0 |
HueAdjustmentBlue | 0 |
HueAdjustmentGreen | 0 |
HueAdjustmentMagenta | 0 |
HueAdjustmentOrange | 0 |
HueAdjustmentPurple | 0 |
HueAdjustmentRed | 0 |
HueAdjustmentYellow | 0 |
HyperfocalDistance | 7.83 m |
ICCProfileName | sRGB IEC61966-2.1 |
ImageHeight (1) | 3456 |
ImageHeight | 776 |
ImageNumber | 0 |
ImageSize | 1150x776 |
ImageWidth (1) | 5184 |
ImageWidth | 1150 |
ISO | 200 |
Lens | 24-70mm |
LensID (1) | 161 |
LensID | Sigma 24-70mm f/2.8 EX or Tokina AT-X 24-70mm f/2.8 PRO FX (IF) |
LensInfo | 24-70mm f/? |
LensManualDistortionAmount | 0 |
LensModel | 24-70mm |
LensProfileEnable | 0 |
LensProfileSetup | LensDefaults |
LensSerialNumber | 0000000000 |
LightValue | 10.8 |
LuminanceAdjustmentAqua | 0 |
LuminanceAdjustmentBlue | 0 |
LuminanceAdjustmentGreen | 0 |
LuminanceAdjustmentMagenta | 0 |
LuminanceAdjustmentOrange | 0 |
LuminanceAdjustmentPurple | 0 |
LuminanceAdjustmentRed | 0 |
LuminanceAdjustmentYellow | 0 |
LuminanceNoiseReductionContrast | 0 |
LuminanceNoiseReductionDetail | 50 |
LuminanceSmoothing | 22 |
Make | Canon |
MaxApertureValue | 3.0 |
Megapixels | 0.892 |
MeteringMode | Partial |
Model | Canon EOS-1D X |
ModifyDate (1) | 2015:06:28 23:17:07+02:00 |
ModifyDate | 2015:06:28 23:17:07 |
Orientation | Horizontal (normal) |
ParametricDarks | -5 |
ParametricHighlights | 0 |
ParametricHighlightSplit | 75 |
ParametricLights | +11 |
ParametricMidtoneSplit | 50 |
ParametricShadows | +41 |
ParametricShadowSplit | 25 |
PerspectiveAspect | 0 |
PerspectiveHorizontal | 0 |
PerspectiveRotate | 0.0 |
PerspectiveScale | 100 |
PerspectiveUpright | 0 |
PerspectiveVertical | 0 |
PhotometricInterpretation | RGB |
PostCropVignetteAmount | 0 |
ProcessVersion | 6.7 |
ProfileDescription | sRGB IEC61966-2.1 |
RecommendedExposureIndex | 200 |
RedHue | 0 |
RedSaturation | 0 |
Rights | ole.arne@hotmail.com |
SamplesPerPixel | 3 |
Saturation | 0 |
SaturationAdjustmentAqua | 0 |
SaturationAdjustmentBlue | +37 |
SaturationAdjustmentGreen | +4 |
SaturationAdjustmentMagenta | 0 |
SaturationAdjustmentOrange | 0 |
SaturationAdjustmentPurple | 0 |
SaturationAdjustmentRed | +4 |
SaturationAdjustmentYellow | 0 |
ScaleFactor35efl | 4.5 |
SceneCaptureType | Standard |
SensitivityType | Recommended Exposure Index |
SerialNumber | 063012000928 |
Shadows2012 | +82 |
ShadowTint | 0 |
SharpenDetail | 25 |
SharpenEdgeMasking | 0 |
SharpenRadius | +1.4 |
Sharpness | 17 |
ShutterSpeed | 1/30 |
ShutterSpeedValue | 1/30 |
Software | Adobe Photoshop Elements 12.0 Macintosh |
SplitToningBalance | 0 |
SplitToningHighlightHue | 0 |
SplitToningHighlightSaturation | 0 |
SplitToningShadowHue | 0 |
SplitToningShadowSaturation | 0 |
Tint | +14 |
ToneCurveName2012 | Linear |
ToneCurvePV2012 | 0, 0, 255, 255 |
ToneCurvePV2012Blue | 0, 0, 255, 255 |
ToneCurvePV2012Green | 0, 0, 255, 255 |
ToneCurvePV2012Red | 0, 0, 255, 255 |
URL_List | |
Version | 8.1 |
Vibrance | +6 |
VignetteAmount | 0 |
WhiteBalance (1) | Custom |
WhiteBalance | Auto |
Whites2012 | +43 |