Felt | Verdi |
AlreadyApplied | True |
Aperture | 1.7 |
ApertureValue | 1.7 |
AutoLateralCA | 0 |
BitsPerSample | 8 |
Blacks2012 | -31 |
BlueHue | 0 |
BlueSaturation | 0 |
Brightness | +50 |
CameraProfile | Adobe Standard |
CircleOfConfusion | 0.030 mm |
Clarity | 0 |
Clarity2012 | +15 |
ColorComponents | 1 |
ColorMode | Grayscale |
ColorNoiseReduction | 25 |
ColorNoiseReductionDetail | 50 |
ColorSpace | Uncalibrated |
ColorTemperature | 6550 |
ColorTransform | Unknown (RGB or CMYK) |
Contrast | +25 |
Contrast2012 | 0 |
ConvertToGrayscale | True |
Copyright | Frode Hovelsås |
CopyrightNotice | Frode Hovelsås |
CreateDate (1) | 2015:11:22 11:25 |
CreateDate | 2015:11:22 11:25:00 |
CreatorTool | 1.196 |
DateCreated (1) | 2015:11:22 |
DateCreated | 2015:11:22 11:25+01:00 |
DateTimeOriginal | 2015:11:22 11:25:00 |
Defringe | 0 |
DigitalZoomRatio | 0 |
ExifImageHeight | 1298 |
ExifImageWidth | 1950 |
Exposure | 0.00 |
Exposure2012 | -0.20 |
ExposureCompensation | +0.332 |
ExposureMode | Manual |
ExposureProgram | Aperture-priority AE |
ExposureTime | 1/125 |
FillLight | 0 |
Flash | No Flash |
FNumber | 1.7 |
FocalLength | 50.0 mm |
FocalLength35efl | 50.0 mm (35 mm equivalent: 50.0 mm) |
FocalLengthIn35mmFormat | 50 mm |
Format | image/jpeg |
FOV | 39.6 deg |
GrainAmount | 0 |
GrayMixerAqua | -18 |
GrayMixerBlue | +10 |
GrayMixerGreen | -70 |
GrayMixerMagenta | +4 |
GrayMixerOrange | -19 |
GrayMixerPurple | +15 |
GrayMixerRed | -10 |
GrayMixerYellow | -23 |
GreenHue | 0 |
GreenSaturation | 0 |
HasCrop | False |
HasSettings | True |
HighlightRecovery | 0 |
Highlights2012 | 0 |
HyperfocalDistance | 48.94 m |
ICCProfileName | Gray Gamma 2.2 |
ImageHeight | 1298 |
ImageSize | 1950x1298 |
ImageWidth | 1950 |
ISO | 640 |
Lens | Leica Noctilux-M 50mm f/1 |
LensID (1) | 31 |
LensID | Noctilux-M 50mm f/1 |
LensManualDistortionAmount | 0 |
LensModel | Leica Noctilux-M 50mm f/1 |
LensProfileEnable | 0 |
LensProfileSetup | LensDefaults |
LightSource | Unknown |
LightValue | 5.8 |
LuminanceNoiseReductionContrast | 0 |
LuminanceNoiseReductionDetail | 50 |
LuminanceSmoothing | 20 |
Make | Leica Camera AG |
MakerNoteSafety | Safe |
MaxApertureValue | 1.0 |
Megapixels | 2.5 |
MeteringMode | Center-weighted average |
Model | M9 Digital Camera |
ModifyDate (1) | 2015:11:26 22:44:42+01:00 |
ModifyDate | 2015:11:26 22:44:42 |
Orientation | Horizontal (normal) |
ParametricDarks | 0 |
ParametricHighlights | 0 |
ParametricHighlightSplit | 75 |
ParametricLights | 0 |
ParametricMidtoneSplit | 50 |
ParametricShadows | 0 |
ParametricShadowSplit | 25 |
PerspectiveHorizontal | 0 |
PerspectiveRotate | 0.0 |
PerspectiveScale | 100 |
PerspectiveVertical | 0 |
PhotographicSensitivity | 640 |
PostCropVignetteAmount | 0 |
ProcessVersion | 6.7 |
ProfileDescription | Gray Gamma 2.2 |
Rating | 0 |
RawFileName | L1012229.DNG |
RedHue | 0 |
RedSaturation | 0 |
Rights | Frode Hovelsås |
ScaleFactor35efl | 1.0 |
SceneCaptureType | Standard |
SceneType | Directly photographed |
SerialNumber | 4254404 |
Shadows | 5 |
Shadows2012 | 0 |
ShadowTint | 0 |
SharpenDetail | 25 |
SharpenEdgeMasking | 0 |
SharpenRadius | +1.0 |
Sharpness | 53 |
ShutterSpeed | 1/125 |
ShutterSpeedValue | 1/125 |
Software | Adobe Photoshop CS6 (Macintosh) |
SplitToningBalance | 0 |
SplitToningHighlightHue | 0 |
SplitToningHighlightSaturation | 0 |
SplitToningShadowHue | 0 |
SplitToningShadowSaturation | 0 |
Tint | +9 |
ToneCurve | 0, 0, 32, 22, 64, 56, 128, 128, 192, 196, 255, 255 |
ToneCurveBlue | 0, 0, 255, 255 |
ToneCurveGreen | 0, 0, 255, 255 |
ToneCurveName | Medium Contrast |
ToneCurveName2012 | Custom |
ToneCurvePV2012 | 0, 0, 29, 7, 209, 229, 255, 255 |
ToneCurvePV2012Blue | 0, 0, 255, 255 |
ToneCurvePV2012Green | 0, 0, 255, 255 |
ToneCurvePV2012Red | 0, 0, 255, 255 |
ToneCurveRed | 0, 0, 255, 255 |
URL_List | |
Version | 7.0 |
VignetteAmount | 0 |
WhiteBalance (1) | As Shot |
WhiteBalance | Auto |
Whites2012 | 0 |