Felt | Verdi |
AlreadyApplied | True |
Aperture | 3.5 |
ApertureValue | 3.5 |
AutoLateralCA | 0 |
AutoWhiteVersion | 134348800 |
BitsPerSample | 16 16 16 |
Blacks2012 | +1 |
BlueHue | 0 |
BlueSaturation | 0 |
CameraProfile | Adobe Standard |
CircleOfConfusion | 0.038 mm |
Clarity2012 | +26 |
ColorNoiseReduction | 25 |
ColorNoiseReductionDetail | 50 |
ColorNoiseReductionSmoothness | 50 |
ColorTemperature | 5100 |
Contrast | Normal |
Contrast2012 | +22 |
ConvertToGrayscale | True |
CreateDate | 2015:03:27 14:19:58 |
CreatorTool | Adobe Photoshop Lightroom 6.0 (Windows) |
CropAngle | -1.1202 |
CropBottom | 0.780916 |
CropConstrainToWarp | 0 |
CropLeft | 0.005558 |
CropRight | 0.702636 |
CropTop | 0.025409 |
CustomRendered | Normal |
DateCreated (1) | 2015:03:27 14:19:58 |
DateCreated | 2015:03:27 |
DateTimeOriginal | 2015:03:27 14:19:58 |
Exposure2012 | +0.33 |
ExposureCompensation | 0 |
ExposureMode | Manual |
ExposureProgram | Manual |
ExposureTime | 1/500 |
Flash | Off, Did not fire |
FNumber | 3.5 |
FocalLength | 150.0 mm |
FocalLength35efl | 150.0 mm (35 mm equivalent: 118.0 mm) |
FocalLengthIn35mmFormat | 118 mm |
Format | image/tiff |
FOV | 17.3 deg |
GrainAmount | 0 |
GrayMixerAqua | -18 |
GrayMixerBlue | +10 |
GrayMixerGreen | -27 |
GrayMixerMagenta | +4 |
GrayMixerOrange | -19 |
GrayMixerPurple | +16 |
GrayMixerRed | -10 |
GrayMixerYellow | -23 |
GreenHue | 0 |
GreenSaturation | 0 |
HasCrop | True |
HasSettings | True |
Highlights2012 | +18 |
HyperfocalDistance | 168.31 m |
ImageHeight | 2000 |
ImageSize | 1692x2000 |
ImageWidth | 1692 |
ISO | 140 |
Lens | smc PENTAX-FA645 150mm F2.8 [IF] |
LensID (1) | 11 10 |
LensID | smc PENTAX-FA 645 150mm F2.8 [IF] |
LensInfo | 150mm f/2.8 |
LensManualDistortionAmount | 0 |
LensModel | smc PENTAX-FA645 150mm F2.8 [IF] |
LensProfileEnable | 0 |
LensProfileSetup | LensDefaults |
LightValue | 12.1 |
LuminanceSmoothing | 0 |
Make | RICOH IMAGING COMPANY, LTD. |
Megapixels | 3.4 |
MeteringMode | Multi-segment |
Model | PENTAX 645Z |
ModifyDate (1) | 2015:11:17 15:27:34+01:00 |
ModifyDate | 2015:11:17 15:27:34 |
Orientation | Horizontal (normal) |
ParametricDarks | 0 |
ParametricHighlights | 0 |
ParametricHighlightSplit | 75 |
ParametricLights | 0 |
ParametricMidtoneSplit | 50 |
ParametricShadows | 0 |
ParametricShadowSplit | 25 |
PerspectiveAspect | 0 |
PerspectiveHorizontal | 0 |
PerspectiveRotate | 0.0 |
PerspectiveScale | 100 |
PerspectiveUpright | 0 |
PerspectiveVertical | 0 |
PhotometricInterpretation | RGB |
PlanarConfiguration | Chunky |
PostCropVignetteAmount | 0 |
ProcessVersion | 6.7 |
ProfileDescription | sRGB IEC61966-2.1 |
RawFileName | Bredesen-4.tif |
RedHue | 0 |
RedSaturation | 0 |
RowsPerStrip | 2000 |
SamplesPerPixel | 3 |
Saturation | Normal |
ScaleFactor35efl | 0.8 |
SceneCaptureType | Standard |
SensingMethod | One-chip color area |
SensitivityType | Standard Output Sensitivity |
Shadows2012 | +78 |
ShadowTint | 0 |
SharpenDetail | 38 |
SharpenEdgeMasking | 0 |
SharpenRadius | +1.6 |
Sharpness (1) | 25 |
Sharpness | Normal |
ShutterSpeed | 1/500 |
ShutterSpeedValue | 1/500 |
Software | Adobe Photoshop Lightroom 6.0 (Windows) |
SplitToningBalance | 0 |
SplitToningHighlightHue | 0 |
SplitToningHighlightSaturation | 0 |
SplitToningShadowHue | 0 |
SplitToningShadowSaturation | 0 |
StandardOutputSensitivity | 140 |
StripByteCounts | 20304000 |
StripOffsets | 28684 |
SubfileType | Full-resolution Image |
SubjectDistanceRange | Distant |
Tint | +18 |
ToneCurve | 0, 0, 255, 255 |
ToneCurveBlue | 0, 0, 255, 255 |
ToneCurveGreen | 0, 0, 255, 255 |
ToneCurveName | Linear |
ToneCurveName2012 | Linear |
ToneCurvePV2012 | 0, 0, 255, 255 |
ToneCurvePV2012Blue | 0, 0, 255, 255 |
ToneCurvePV2012Green | 0, 0, 255, 255 |
ToneCurvePV2012Red | 0, 0, 255, 255 |
ToneCurveRed | 0, 0, 255, 255 |
Version | 9.0 |
VignetteAmount | 0 |
WhiteBalance (1) | Auto |
WhiteBalance | As Shot |
Whites2012 | +13 |