Felt | Verdi |
AlreadyApplied | True |
Aperture | 4.5 |
ApertureValue | 4.5 |
AutoLateralCA | 0 |
BitsPerSample | 8 |
Blacks2012 | +1 |
BlueHue | 0 |
BlueSaturation | 0 |
CameraProfile | Embedded |
CFAPattern | [Blue,Green][Green,Red] |
Clarity2012 | 0 |
ColorComponents | 3 |
ColorNoiseReduction | 0 |
ColorTransform | YCbCr |
Contrast2012 | +18 |
ConvertToGrayscale | False |
CreateDate (1) | 2012:10:03 17:26:50.300 |
CreateDate | 2012:10:03 17:26:50 |
CreatorTool | Adobe Photoshop Lightroom 4.4 (Windows) |
CropAngle | 0 |
CropBottom | 1 |
CropConstrainToWarp | 0 |
CropHeight | 2623 |
CropLeft | 0 |
CropRight | 1 |
CropTop | 0.127955 |
CropUnit | pixels |
CropWidth | 1960 |
DateAcquired | 2012:10:03 20:45:27.510 |
DateCreated (1) | 2012:10:03 |
DateCreated | 2012:10:03 17:26:50.30 |
DateTimeOriginal | 2012:10:03 17:26:50 |
DefringeGreenAmount | 0 |
DefringeGreenHueHi | 60 |
DefringeGreenHueLo | 40 |
DefringePurpleAmount | 0 |
DefringePurpleHueHi | 70 |
DefringePurpleHueLo | 30 |
Exposure2012 | -0.48 |
ExposureCompensation | 0 |
ExposureProgram | Aperture-priority AE |
ExposureTime | 1/1000 |
FNumber | 4.5 |
FocalLength | 35.0 mm |
FocalLength35efl | 35.0 mm |
Format | image/jpeg |
GradientBasedCorrActive | true |
GradientBasedCorrAmount | 1.000000 |
GradientBasedCorrBrightness | 0.000000 |
GradientBasedCorrClarity2012 | 1.000000 |
GradientBasedCorrContrast2012 | 0.125000 |
GradientBasedCorrDefringe | 0.178570 |
GradientBasedCorrExposure2012 (1) | -1.000000 |
GradientBasedCorrExposure2012 | 0.017750 |
GradientBasedCorrHighlights2012 | -0.071430 |
GradientBasedCorrHue | 59.000000 |
GradientBasedCorrLuminanceNoise | -0.266060 |
GradientBasedCorrMaskFullX (1) | 0.438034 |
GradientBasedCorrMaskFullX | 0.512821 |
GradientBasedCorrMaskFullY (1) | -0.008345 |
GradientBasedCorrMaskFullY | -0.001391 |
GradientBasedCorrMaskValue | 1.000000 |
GradientBasedCorrMaskWhat | Mask/Gradient |
GradientBasedCorrMaskZeroX (1) | 0.472222 |
GradientBasedCorrMaskZeroX | 0.081197 |
GradientBasedCorrMaskZeroY (1) | 0.068150 |
GradientBasedCorrMaskZeroY | 0.236439 |
GradientBasedCorrMoire | -0.321100 |
GradientBasedCorrSaturation (3) | 0.589290 |
GradientBasedCorrSaturation | 0.480000 |
GradientBasedCorrShadows2012 | -0.035710 |
GradientBasedCorrSharpness | 1.000000 |
GradientBasedCorrTemperature | -0.089290 |
GradientBasedCorrTint | -0.196430 |
GradientBasedCorrWhat | Correction |
GrainAmount | 0 |
GreenHue | 0 |
GreenSaturation | 0 |
HasCrop | True |
HasSettings | True |
Highlights2012 | -42 |
HueAdjustmentAqua | -100 |
HueAdjustmentBlue | 0 |
HueAdjustmentGreen | +100 |
HueAdjustmentMagenta | 0 |
HueAdjustmentOrange | -18 |
HueAdjustmentPurple | 0 |
HueAdjustmentRed | -69 |
HueAdjustmentYellow | -29 |
ImageHeight | 2623 |
ImageSize | 1960x2623 |
ImageWidth | 1960 |
IncrementalTemperature | 0 |
IncrementalTint | 0 |
ISO | 400 |
Keywords | N 7 |
LastKeywordXMP | N 7 |
LensManualDistortionAmount | 0 |
LensProfileEnable | 0 |
LensProfileSetup | LensDefaults |
LightValue | 12.3 |
LuminanceAdjustmentAqua | -84 |
LuminanceAdjustmentBlue | 0 |
LuminanceAdjustmentGreen | -100 |
LuminanceAdjustmentMagenta | 0 |
LuminanceAdjustmentOrange | +16 |
LuminanceAdjustmentPurple | 0 |
LuminanceAdjustmentRed | -67 |
LuminanceAdjustmentYellow | -29 |
LuminanceNoiseReductionContrast | 0 |
LuminanceNoiseReductionDetail | 50 |
LuminanceSmoothing | 20 |
Make | NIKON CORPORATION |
MaxApertureValue | 4.0 |
Megapixels | 5.1 |
MeteringMode | Multi-segment |
Model | NIKON D1X |
ModifyDate (1) | 2015:12:27 19:10:17+01:00 |
ModifyDate | 2015:12:27 19:10:17 |
ObjectName |
PaintCorrectionActive | true |
PaintCorrectionAmount | 1.000000 |
PaintCorrectionBrightness | 0.000000 |
PaintCorrectionClarity2012 | 1.000000 |
PaintCorrectionContrast2012 | 0.125000 |
PaintCorrectionDefringe | 0.178570 |
PaintCorrectionExposure2012 (1) | 0.017750 |
PaintCorrectionExposure2012 | -1.000000 |
PaintCorrectionHighlights2012 | -0.071430 |
PaintCorrectionHue (1) | 237.000000 |
PaintCorrectionHue | 84.000000 |
PaintCorrectionLuminanceNoise | -0.266060 |
PaintCorrectionMaskCenterWeight | 0.000000 |
PaintCorrectionMaskFlow | 0.550000 |
PaintCorrectionMaskRadius (1) | 0.349925 |
PaintCorrectionMaskRadius (2) | 0.274093 |
PaintCorrectionMaskRadius (3) | 0.215245 |
PaintCorrectionMaskRadius | 0.149840 |
PaintCorrectionMaskValue | 0.580000 |
PaintCorrectionMaskWhat | Mask/Paint |
PaintCorrectionMoire | -0.321100 |
PaintCorrectionSaturation (2) | 0.060000 |
PaintCorrectionSaturation (3) | 0.589290 |
PaintCorrectionSaturation | 0.040000 |
PaintCorrectionShadows2012 | -0.035710 |
PaintCorrectionSharpness | 1.000000 |
PaintCorrectionTemperature | -0.089290 |
PaintCorrectionTint | -0.196430 |
PaintCorrectionWhat | Correction |
ParametricDarks | 0 |
ParametricHighlights | 0 |
ParametricHighlightSplit | 75 |
ParametricLights | 0 |
ParametricMidtoneSplit | 50 |
ParametricShadows | 0 |
ParametricShadowSplit | 25 |
PerspectiveHorizontal | 0 |
PerspectiveRotate | 0.0 |
PerspectiveScale | 100 |
PerspectiveVertical | 0 |
PostCropVignetteAmount | 0 |
ProcessVersion | 6.7 |
ProfileDescription | sRGB IEC61966-2.1 |
RedHue | 0 |
RedSaturation | 0 |
Saturation | 0 |
SaturationAdjustmentAqua | -11 |
SaturationAdjustmentBlue | 0 |
SaturationAdjustmentGreen | -56 |
SaturationAdjustmentMagenta | 0 |
SaturationAdjustmentOrange | +78 |
SaturationAdjustmentPurple | 0 |
SaturationAdjustmentRed | +100 |
SaturationAdjustmentYellow | -31 |
SceneType | Directly photographed |
SensingMethod | One-chip color area |
Shadows2012 | +50 |
ShadowTint | 0 |
SharpenDetail | 59 |
SharpenEdgeMasking | 0 |
SharpenRadius | +0.5 |
Sharpness | 40 |
ShutterSpeed | 1/1000 |
ShutterSpeedValue | 1/1000 |
Software | Adobe Photoshop Lightroom 4.4 (Windows) |
SplitToningBalance | 0 |
SplitToningHighlightHue | 0 |
SplitToningHighlightSaturation | 0 |
SplitToningShadowHue | 0 |
SplitToningShadowSaturation | 0 |
Subject | N 7 |
Title |
ToneCurveName2012 | Linear |
ToneCurvePV2012 | 0, 0, 255, 255 |
ToneCurvePV2012Blue | 0, 0, 255, 255 |
ToneCurvePV2012Green | 0, 0, 255, 255 |
ToneCurvePV2012Red | 0, 0, 255, 255 |
Version | 7.4 |
Vibrance | 0 |
VignetteAmount | 0 |
WhiteBalance | As Shot |
Whites2012 | +25 |