Felt | Verdi |
AlreadyApplied | True |
Aperture | 9.0 |
ApertureValue | 9.0 |
ApproximateFocusDistance | 4294967295 |
AutoLateralCA | 0 |
BitsPerSample | 8 |
Blacks2012 | +46 |
BlueHue | 0 |
BlueSaturation | 0 |
CameraProfile | Adobe Standard |
CircleOfConfusion | 0.029 mm |
Clarity2012 | +12 |
ColorComponents | 3 |
ColorNoiseReduction | 25 |
ColorNoiseReductionDetail | 50 |
ColorTemperature | 50000 |
ColorTransform | YCbCr |
Contrast2012 | 0 |
ConvertToGrayscale | False |
Copyright | ERLING.KVALSOREN40848497NORGE ME |
CopyrightNotice | ERLING.KVALSOREN40848497NORGE ME |
CreateDate (1) | 2015:09:29 16:15:06.23 |
CreateDate | 2015:09:29 16:15:06 |
CreatorTool | Adobe Photoshop Lightroom 4.4 (Windows) |
CropAngle | 1.35289 |
CropBottom | 1 |
CropConstrainToWarp | 0 |
CropHeight | 3339 |
CropLeft | 0.02471 |
CropRight | 0.97529 |
CropTop | 0 |
CropUnit | pixels |
CropWidth | 5008 |
CustomRendered | Normal |
DateCreated (1) | 2015:09:29 |
DateCreated | 2015:09:29 16:15:06.23 |
DateTimeOriginal | 2015:09:29 16:15:06 |
DefringeGreenAmount | 0 |
DefringeGreenHueHi | 60 |
DefringeGreenHueLo | 40 |
DefringePurpleAmount | 0 |
DefringePurpleHueHi | 70 |
DefringePurpleHueLo | 30 |
DOF | inf (3.00 m - inf) |
Exposure2012 | -0.39 |
ExposureCompensation | -1/3 |
ExposureMode | Auto |
ExposureProgram | Aperture-priority AE |
ExposureTime | 1/200 |
Firmware | 2.0.3 |
Flash | Off, Did not fire |
FlashCompensation | 0 |
FNumber | 9.0 |
FocalLength | 28.0 mm |
FocalLength35efl | 28.0 mm (35 mm equivalent: 29.0 mm) |
Format | image/jpeg |
FOV | 63.7 deg |
GradientBasedCorrActive | true |
GradientBasedCorrAmount | 1.000000 |
GradientBasedCorrBrightness | 0.000000 |
GradientBasedCorrClarity2012 | 1.000000 |
GradientBasedCorrContrast2012 | -0.089290 |
GradientBasedCorrDefringe | 0.089290 |
GradientBasedCorrExposure2012 | -0.303500 |
GradientBasedCorrHighlights2012 | -0.129630 |
GradientBasedCorrHue | 52.000000 |
GradientBasedCorrLuminanceNoise | -0.266060 |
GradientBasedCorrMaskFullX | 0.501416 |
GradientBasedCorrMaskFullY | 0.011511 |
GradientBasedCorrMaskValue | 1.000000 |
GradientBasedCorrMaskWhat | Mask/Gradient |
GradientBasedCorrMaskZeroX | 0.502050 |
GradientBasedCorrMaskZeroY | 0.597512 |
GradientBasedCorrMoire | -0.321100 |
GradientBasedCorrSaturation (1) | 0.125000 |
GradientBasedCorrSaturation | 0.250000 |
GradientBasedCorrShadows2012 | 0.129630 |
GradientBasedCorrSharpness | 0.174310 |
GradientBasedCorrTemperature | 0.392860 |
GradientBasedCorrTint | -0.203700 |
GradientBasedCorrWhat | Correction |
GrainAmount | 0 |
GreenHue | 0 |
GreenSaturation | 0 |
HasCrop | True |
HasSettings | True |
Highlights2012 | -50 |
HueAdjustmentAqua | 0 |
HueAdjustmentBlue | +100 |
HueAdjustmentGreen | 0 |
HueAdjustmentMagenta | 0 |
HueAdjustmentOrange | 0 |
HueAdjustmentPurple | 0 |
HueAdjustmentRed | 0 |
HueAdjustmentYellow | 0 |
HyperfocalDistance | 3.00 m |
ImageHeight | 3339 |
ImageNumber | 0 |
ImageSize | 5008x3339 |
ImageWidth | 5008 |
ISO | 400 |
Lens | EF28-300mm f/3.5-5.6L IS USM |
LensID (1) | 233 |
LensID | Canon EF 28-300mm f/3.5-5.6L IS USM |
LensInfo | 28-300mm f/? |
LensManualDistortionAmount | +13 |
LensModel | EF28-300mm f/3.5-5.6L IS USM |
LensProfileEnable | 0 |
LensProfileSetup | LensDefaults |
LensSerialNumber | 0000206f71 |
LightValue | 12.0 |
LuminanceAdjustmentAqua | 0 |
LuminanceAdjustmentBlue | -45 |
LuminanceAdjustmentGreen | 0 |
LuminanceAdjustmentMagenta | 0 |
LuminanceAdjustmentOrange | 0 |
LuminanceAdjustmentPurple | 0 |
LuminanceAdjustmentRed | 0 |
LuminanceAdjustmentYellow | 0 |
LuminanceNoiseReductionContrast | 0 |
LuminanceNoiseReductionDetail | 50 |
LuminanceSmoothing | 90 |
Make | Canon |
MaxApertureValue | 3.7 |
Megapixels | 16.7 |
MeteringMode | Multi-segment |
Model | Canon EOS-1D X |
ModifyDate (1) | 2015:11:22 20:29:47+01:00 |
ModifyDate | 2015:11:22 20:29:47 |
PaintCorrectionActive | true |
PaintCorrectionAmount | 1.000000 |
PaintCorrectionBrightness | 0.000000 |
PaintCorrectionClarity2012 | 1.000000 |
PaintCorrectionContrast2012 (5) | -1.000000 |
PaintCorrectionContrast2012 | -0.089290 |
PaintCorrectionDefringe (5) | -0.214290 |
PaintCorrectionDefringe | 0.089290 |
PaintCorrectionExposure2012 (2) | -0.607250 |
PaintCorrectionExposure2012 (4) | -1.000000 |
PaintCorrectionExposure2012 (6) | 1.000000 |
PaintCorrectionExposure2012 (7) | 0.214250 |
PaintCorrectionExposure2012 | 0.232250 |
PaintCorrectionHighlights2012 (5) | 0.660710 |
PaintCorrectionHighlights2012 | -0.129630 |
PaintCorrectionHue (2) | 234.000000 |
PaintCorrectionHue (3) | 291.000000 |
PaintCorrectionHue (4) | 201.000000 |
PaintCorrectionHue (5) | 237.000000 |
PaintCorrectionHue | 51.000000 |
PaintCorrectionLuminanceNoise (5) | -0.410710 |
PaintCorrectionLuminanceNoise | -0.266060 |
PaintCorrectionMaskCenterWeight | 0.000000 |
PaintCorrectionMaskFlow | 0.550000 |
PaintCorrectionMaskRadius (1) | 0.255632 |
PaintCorrectionMaskRadius (13) | 0.131543 |
PaintCorrectionMaskRadius (15) | 0.366021 |
PaintCorrectionMaskRadius (16) | 0.298229 |
PaintCorrectionMaskRadius (17) | 0.026456 |
PaintCorrectionMaskRadius (18) | 0.019300 |
PaintCorrectionMaskRadius (20) | 0.012591 |
PaintCorrectionMaskRadius (22) | 0.006329 |
PaintCorrectionMaskRadius (23) | 0.010983 |
PaintCorrectionMaskRadius (25) | 0.043687 |
PaintCorrectionMaskRadius (26) | 0.058492 |
PaintCorrectionMaskRadius (27) | 0.081674 |
PaintCorrectionMaskRadius (30) | 0.051025 |
PaintCorrectionMaskRadius (5) | 0.028315 |
PaintCorrectionMaskRadius (6) | 0.021047 |
PaintCorrectionMaskRadius | 0.122907 |
PaintCorrectionMaskValue | 0.580000 |
PaintCorrectionMaskWhat | Mask/Paint |
PaintCorrectionMoire (5) | -0.107140 |
PaintCorrectionMoire | -0.321100 |
PaintCorrectionSaturation (10) | 0.980000 |
PaintCorrectionSaturation (12) | 0.060000 |
PaintCorrectionSaturation (15) | 0.125000 |
PaintCorrectionSaturation (4) | 0.970000 |
PaintCorrectionSaturation (6) | 0.250000 |
PaintCorrectionSaturation (9) | -0.196430 |
PaintCorrectionSaturation | 0.940000 |
PaintCorrectionShadows2012 | 0.129630 |
PaintCorrectionSharpness | 0.174310 |
PaintCorrectionTemperature (1) | 1.000000 |
PaintCorrectionTemperature (5) | -1.000000 |
PaintCorrectionTemperature | -0.724770 |
PaintCorrectionTint | -0.203700 |
PaintCorrectionWhat | Correction |
ParametricDarks | 0 |
ParametricHighlights | 0 |
ParametricHighlightSplit | 75 |
ParametricLights | 0 |
ParametricMidtoneSplit | 50 |
ParametricShadows | 0 |
ParametricShadowSplit | 25 |
PerspectiveHorizontal | 0 |
PerspectiveRotate | 0.0 |
PerspectiveScale | 100 |
PerspectiveVertical | 0 |
PostCropVignetteAmount | +48 |
PostCropVignetteFeather | 42 |
PostCropVignetteMidpoint | 35 |
PostCropVignetteRoundness | -100 |
PostCropVignetteStyle | 1 |
ProcessVersion | 6.7 |
ProfileDescription | sRGB IEC61966-2.1 |
RecommendedExposureIndex | 400 |
RedHue | 0 |
RedSaturation | 0 |
Rights | ERLING.KVALSOREN40848497NORGE ME |
Saturation | +52 |
SaturationAdjustmentAqua | 0 |
SaturationAdjustmentBlue | -100 |
SaturationAdjustmentGreen | 0 |
SaturationAdjustmentMagenta | 0 |
SaturationAdjustmentOrange | 0 |
SaturationAdjustmentPurple | 0 |
SaturationAdjustmentRed | 0 |
SaturationAdjustmentYellow | 0 |
ScaleFactor35efl | 1.0 |
SceneCaptureType | Standard |
SensitivityType | Recommended Exposure Index |
SerialNumber | 063012000926 |
Shadows2012 | +56 |
ShadowTint | 0 |
SharpenDetail | 53 |
SharpenEdgeMasking | 37 |
SharpenRadius | +1.0 |
Sharpness | 25 |
ShutterSpeed | 1/200 |
ShutterSpeedValue | 1/200 |
Software | Adobe Photoshop Lightroom 4.4 (Windows) |
SplitToningBalance | 0 |
SplitToningHighlightHue | 0 |
SplitToningHighlightSaturation | 0 |
SplitToningShadowHue | 0 |
SplitToningShadowSaturation | 0 |
Tint | +19 |
ToneCurveName2012 | Linear |
ToneCurvePV2012 | 0, 0, 255, 255 |
ToneCurvePV2012Blue | 0, 0, 255, 255 |
ToneCurvePV2012Green | 0, 0, 255, 255 |
ToneCurvePV2012Red | 0, 0, 255, 255 |
Version | 7.4 |
Vibrance | +40 |
VignetteAmount | 0 |
WhiteBalance (1) | Custom |
WhiteBalance | Auto |
Whites2012 | -62 |