Felt | Verdi |
AlreadyApplied | True |
Aperture | 6.3 |
ApertureValue | 6.3 |
AutoLateralCA | 0 |
AutoWhiteVersion | 134348800 |
BitsPerSample | 8 |
Blacks2012 | -59 |
BlueHue | 0 |
BlueSaturation | 0 |
CameraProfile | Embedded |
CircleOfConfusion | 0.017 mm |
Clarity2012 | +37 |
ColorComponents | 3 |
ColorNoiseReduction | 0 |
ColorSpace | sRGB |
ColorTransform | YCbCr |
Contrast2012 | -39 |
ConvertToGrayscale | True |
CreateDate | 2016:01:17 16:37:50 |
CreatorTool | Adobe Photoshop Lightroom 5.7.1 (Macintosh) |
CropAngle | 0 |
CropBottom | 1 |
CropConstrainToWarp | 0 |
CropLeft | 0.015805 |
CropRight | 0.941483 |
CropTop | 0.203071 |
CustomRendered | Normal |
DateCreated (1) | 2016:01:17 |
DateCreated | 2016:01:17 16:37:50 |
DateTimeOriginal | 2016:01:17 16:37:50 |
Exposure2012 | +4.52 |
ExposureCompensation | 0 |
ExposureMode | Manual |
ExposureProgram | Manual |
ExposureTime | 1/40 |
Firmware | Firmware Version 1.0.9 |
Flash | Off, Did not fire |
FlashCompensation | 0 |
FNumber | 6.3 |
FocalLength | 49.0 mm |
FocalLength35efl | 49.0 mm (35 mm equivalent: 86.7 mm) |
Format | image/jpeg |
FOV | 23.5 deg |
GrainAmount | 0 |
GrayMixerAqua | -15 |
GrayMixerBlue | -32 |
GrayMixerGreen | -28 |
GrayMixerMagenta | +4 |
GrayMixerOrange | +28 |
GrayMixerPurple | +21 |
GrayMixerRed | -82 |
GrayMixerYellow | -27 |
GreenHue | 0 |
GreenSaturation | 0 |
HasCrop | True |
HasSettings | True |
Highlights2012 | -100 |
HyperfocalDistance | 22.45 m |
ImageHeight | 2754 |
ImageSize | 4798x2754 |
ImageWidth | 4798 |
IncrementalTemperature | 0 |
IncrementalTint | 0 |
ISO | 400 |
Lens | Sigma 24-70mm f/2.8 IF EX DG HSM |
LensID (1) | 137 |
LensID | Sigma 24-70mm f/2.8 IF EX DG HSM or Tamron SP 24-70mm f/2.8 Di VC USD |
LensInfo | 24-70mm f/? |
LensManualDistortionAmount | 0 |
LensModel | Sigma 24-70mm f/2.8 IF EX DG HSM |
LensProfileEnable | 0 |
LensProfileSetup | LensDefaults |
LightValue | 8.6 |
LuminanceSmoothing | 0 |
Make | Canon |
MaxApertureValue | 2.7 |
Megapixels | 13.2 |
MeteringMode | Multi-segment |
Model | Canon EOS 550D |
ModifyDate (1) | 2016:01:17 16:20:57+01:00 |
ModifyDate | 2016:01:17 16:20:57 |
ParametricDarks | +15 |
ParametricHighlights | +26 |
ParametricHighlightSplit | 75 |
ParametricLights | +18 |
ParametricMidtoneSplit | 50 |
ParametricShadows | +93 |
ParametricShadowSplit | 25 |
PerspectiveAspect | 0 |
PerspectiveHorizontal | 0 |
PerspectiveRotate | 0.0 |
PerspectiveScale | 100 |
PerspectiveUpright | 0 |
PerspectiveVertical | 0 |
PostCropVignetteAmount | 0 |
ProcessVersion | 6.7 |
ProfileDescription | sRGB IEC61966-2.1 |
RedHue | 0 |
RedSaturation | 0 |
ScaleFactor35efl | 1.8 |
SceneCaptureType | Standard |
SerialNumber | 1933171180 |
Shadows2012 | -22 |
ShadowTint | 0 |
SharpenDetail | 74 |
SharpenEdgeMasking | 0 |
SharpenRadius | +1.0 |
Sharpness | 99 |
ShutterSpeed | 1/40 |
ShutterSpeedValue | 1/40 |
Software | Adobe Photoshop Lightroom 5.7.1 (Macintosh) |
SplitToningBalance | 0 |
SplitToningHighlightHue | 0 |
SplitToningHighlightSaturation | 0 |
SplitToningShadowHue | 0 |
SplitToningShadowSaturation | 0 |
ToneCurve | 0, 0, 255, 255 |
ToneCurveBlue | 0, 0, 255, 255 |
ToneCurveGreen | 0, 0, 255, 255 |
ToneCurveName | Linear |
ToneCurveName2012 | Linear |
ToneCurvePV2012 | 0, 0, 255, 255 |
ToneCurvePV2012Blue | 0, 0, 255, 255 |
ToneCurvePV2012Green | 0, 0, 255, 255 |
ToneCurvePV2012Red | 0, 0, 255, 255 |
ToneCurveRed | 0, 0, 255, 255 |
Version | 8.7.1 |
VignetteAmount | 0 |
WhiteBalance (1) | As Shot |
WhiteBalance | Manual |
Whites2012 | -63 |