Felt | Verdi |
AlreadyApplied | True |
Aperture | 4.0 |
ApertureValue | 4.0 |
AutoLateralCA | 0 |
BitsPerSample | 8 |
Blacks2012 | 0 |
BlueHue | 0 |
BlueSaturation | 0 |
Brightness | +50 |
CameraProfile | Adobe Standard |
CircleOfConfusion | 0.030 mm |
Clarity | 0 |
Clarity2012 | +9 |
ColorComponents | 3 |
ColorMode | RGB |
ColorNoiseReduction | 25 |
ColorNoiseReductionDetail | 50 |
ColorSpace | Uncalibrated |
ColorTemperature | 2600 |
ColorTransform | YCbCr |
Contrast | +25 |
Contrast2012 | 0 |
ConvertToGrayscale | False |
Copyright | Frode Hovelsås |
CopyrightNotice | Frode Hovelsås |
CreateDate | 2016:01:20 21:44:11 |
CreatorTool | 1.196 |
DateCreated (1) | 2016:01:20 |
DateCreated | 2016:01:20 21:44:11+01:00 |
DateTimeOriginal | 2016:01:20 21:44:11 |
Defringe | 0 |
DigitalZoomRatio | 0 |
ExifImageHeight | 1250 |
ExifImageWidth | 1753 |
Exposure | 0.00 |
Exposure2012 | +0.45 |
ExposureCompensation | 0 |
ExposureMode | Manual |
ExposureProgram | Manual |
ExposureTime | 1/30 |
FillLight | 0 |
Flash | No Flash |
FNumber | 4.0 |
FocalLength | 50.0 mm |
FocalLength35efl | 50.0 mm (35 mm equivalent: 50.0 mm) |
FocalLengthIn35mmFormat | 50 mm |
Format | image/jpeg |
FOV | 39.6 deg |
GrainAmount | 0 |
GreenHue | 0 |
GreenSaturation | 0 |
HasCrop | False |
HasSettings | True |
HighlightRecovery | 0 |
Highlights2012 | -28 |
HueAdjustmentAqua | 0 |
HueAdjustmentBlue | 0 |
HueAdjustmentGreen | 0 |
HueAdjustmentMagenta | 0 |
HueAdjustmentOrange | 0 |
HueAdjustmentPurple | 0 |
HueAdjustmentRed | 0 |
HueAdjustmentYellow | 0 |
HyperfocalDistance | 20.80 m |
ICCProfileName | Adobe RGB (1998) |
ImageHeight | 1250 |
ImageSize | 1753x1250 |
ImageWidth | 1753 |
ISO | 800 |
Lens | Leica Noctilux-M 50mm f/1 |
LensID (1) | 31 |
LensID | Noctilux-M 50mm f/1 |
LensManualDistortionAmount | 0 |
LensModel | Leica Noctilux-M 50mm f/1 |
LensProfileEnable | 0 |
LensProfileSetup | LensDefaults |
LightSource | Unknown |
LightValue | 5.9 |
LuminanceAdjustmentAqua | 0 |
LuminanceAdjustmentBlue | 0 |
LuminanceAdjustmentGreen | 0 |
LuminanceAdjustmentMagenta | 0 |
LuminanceAdjustmentOrange | 0 |
LuminanceAdjustmentPurple | 0 |
LuminanceAdjustmentRed | 0 |
LuminanceAdjustmentYellow | 0 |
LuminanceNoiseReductionContrast | 0 |
LuminanceNoiseReductionDetail | 50 |
LuminanceSmoothing | 27 |
Make | Leica Camera AG |
MakerNoteSafety | Safe |
MaxApertureValue | 1.0 |
Megapixels | 2.2 |
MeteringMode | Center-weighted average |
Model | M9 Digital Camera |
ModifyDate (1) | 2016:01:21 05:58:15+01:00 |
ModifyDate | 2016:01:21 05:58:15 |
Orientation | Horizontal (normal) |
ParametricDarks | 0 |
ParametricHighlights | 0 |
ParametricHighlightSplit | 75 |
ParametricLights | 0 |
ParametricMidtoneSplit | 50 |
ParametricShadows | 0 |
ParametricShadowSplit | 25 |
PerspectiveHorizontal | 0 |
PerspectiveRotate | 0.0 |
PerspectiveScale | 100 |
PerspectiveVertical | 0 |
PhotographicSensitivity | 800 |
PostCropVignetteAmount | 0 |
ProcessVersion | 6.7 |
ProfileDescription | Adobe RGB (1998) |
Rating | 0 |
RawFileName | L1012841.DNG |
RedHue | 0 |
RedSaturation | 0 |
Rights | Frode Hovelsås |
Saturation | 0 |
SaturationAdjustmentAqua | 0 |
SaturationAdjustmentBlue | 0 |
SaturationAdjustmentGreen | 0 |
SaturationAdjustmentMagenta | 0 |
SaturationAdjustmentOrange | 0 |
SaturationAdjustmentPurple | 0 |
SaturationAdjustmentRed | 0 |
SaturationAdjustmentYellow | 0 |
ScaleFactor35efl | 1.0 |
SceneCaptureType | Standard |
SceneType | Directly photographed |
SerialNumber | 4254404 |
Shadows | 5 |
Shadows2012 | 0 |
ShadowTint | 0 |
SharpenDetail | 25 |
SharpenEdgeMasking | 0 |
SharpenRadius | +1.0 |
Sharpness | 53 |
ShutterSpeed | 1/30 |
ShutterSpeedValue | 1/30 |
Software | Adobe Photoshop CS6 (Macintosh) |
SplitToningBalance | 0 |
SplitToningHighlightHue | 0 |
SplitToningHighlightSaturation | 0 |
SplitToningShadowHue | 0 |
SplitToningShadowSaturation | 0 |
Tint | 0 |
ToneCurve | 0, 0, 32, 22, 64, 56, 128, 128, 192, 196, 255, 255 |
ToneCurveBlue | 0, 0, 255, 255 |
ToneCurveGreen | 0, 0, 255, 255 |
ToneCurveName | Medium Contrast |
ToneCurveName2012 | Custom |
ToneCurvePV2012 | 0, 0, 13, 6, 147, 180, 255, 255 |
ToneCurvePV2012Blue | 0, 0, 255, 255 |
ToneCurvePV2012Green | 0, 0, 255, 255 |
ToneCurvePV2012Red | 0, 0, 255, 255 |
ToneCurveRed | 0, 0, 255, 255 |
URL_List | |
Version | 7.0 |
Vibrance | +3 |
VignetteAmount | 0 |
WhiteBalance (1) | Custom |
WhiteBalance | Auto |
Whites2012 | +24 |