Felt | Verdi |
AlreadyApplied | True |
Aperture | 3.5 |
ApertureValue | 3.5 |
AutoLateralCA | 1 |
AutoWhiteVersion | 134348800 |
BitsPerSample | 8 |
Blacks2012 | 0 |
BlueHue | 0 |
BlueSaturation | 0 |
CameraProfile | Adobe Standard |
CFAPattern | [Red,Green][Green,Blue] |
CircleOfConfusion | 0.011 mm |
Clarity2012 | +20 |
ColorComponents | 3 |
ColorNoiseReduction | 25 |
ColorNoiseReductionDetail | 50 |
ColorNoiseReductionSmoothness | 50 |
ColorSpace | sRGB |
ColorTransform | YCbCr |
Contrast | Normal |
Contrast2012 | +20 |
ConvertToGrayscale | True |
CreateDate (1) | 2015:07:20 12:46:41.77 |
CreateDate | 2015:07:20 12:46:41 |
CreatorTool | Adobe Photoshop Lightroom 5.3 (Windows) |
CustomRendered | Normal |
DateCreated (1) | 2015:07:20 |
DateCreated | 2015:07:20 12:46:41.77 |
DateTimeOriginal | 2015:07:20 12:46:41 |
DigitalZoomRatio | 1 |
Exposure2012 | 0.00 |
ExposureCompensation | 0 |
ExposureMode | Auto |
ExposureProgram | Shutter speed priority AE |
ExposureTime | 1/400 |
Flash | No Flash |
FNumber | 3.5 |
FocalLength | 11.0 mm |
FocalLength35efl | 11.0 mm (35 mm equivalent: 29.0 mm) |
FocalLengthIn35mmFormat | 29 mm |
Format | image/jpeg |
FOV | 63.7 deg |
GainControl | Low gain up |
GrainAmount | 0 |
GrayMixerAqua | +50 |
GrayMixerBlue | +50 |
GrayMixerGreen | -25 |
GrayMixerMagenta | +50 |
GrayMixerOrange | -25 |
GrayMixerPurple | +50 |
GrayMixerRed | -25 |
GrayMixerYellow | -25 |
GreenHue | 0 |
GreenSaturation | 0 |
HasCrop | False |
HasSettings | True |
Highlights2012 | -30 |
HyperfocalDistance | 3.03 m |
ImageHeight | 3072 |
ImageNumber | 1033 |
ImageSize | 4608x3072 |
ImageWidth | 4608 |
IncrementalTemperature | -7 |
IncrementalTint | -18 |
ISO | 800 |
Lens | 1 NIKKOR AW 11-27.5mm f/3.5-5.6 |
LensInfo | 11-27.5mm f/3.5-5.6 |
LensManualDistortionAmount | 0 |
LensModel | 1 NIKKOR AW 11-27.5mm f/3.5-5.6 |
LensProfileEnable | 1 |
LensProfileSetup | LensDefaults |
LightSource | Unknown |
LightValue | 9.3 |
LuminanceSmoothing | 0 |
Make | NIKON CORPORATION |
MaxApertureValue | 3.5 |
Megapixels | 14.2 |
MeteringMode | Multi-segment |
Model | NIKON 1 AW1 |
ModifyDate (1) | 2015:07:31 22:54:50+02:00 |
ModifyDate | 2015:07:31 22:54:50 |
ParametricDarks | -6 |
ParametricHighlights | +45 |
ParametricHighlightSplit | 75 |
ParametricLights | +25 |
ParametricMidtoneSplit | 50 |
ParametricShadows | 0 |
ParametricShadowSplit | 25 |
PerspectiveAspect | 0 |
PerspectiveHorizontal | 0 |
PerspectiveRotate | 0.0 |
PerspectiveScale | 100 |
PerspectiveUpright | 1 |
PerspectiveVertical | 0 |
PostCropVignetteAmount | 0 |
ProcessVersion | 6.7 |
ProfileDescription | sRGB IEC61966-2.1 |
RedHue | 0 |
RedSaturation | 0 |
Saturation | Normal |
ScaleFactor35efl | 2.6 |
SceneCaptureType | Standard |
SceneType | Directly photographed |
SensingMethod | One-chip color area |
SensitivityType | Recommended Exposure Index |
SerialNumber | 52003181 |
Shadows2012 | 0 |
ShadowTint | 0 |
SharpenDetail | 25 |
SharpenEdgeMasking | 0 |
SharpenRadius | +1.0 |
Sharpness (1) | 80 |
Sharpness | Normal |
ShutterSpeed | 1/400 |
ShutterSpeedValue | 1/400 |
Software | Adobe Photoshop Lightroom 5.3 (Windows) |
SplitToningBalance | +15 |
SplitToningHighlightHue | 78 |
SplitToningHighlightSaturation | 48 |
SplitToningShadowHue | 233 |
SplitToningShadowSaturation | 48 |
SubjectDistanceRange | Unknown |
ToneCurveName2012 | Linear |
ToneCurvePV2012 | 0, 0, 255, 255 |
ToneCurvePV2012Blue | 0, 0, 255, 255 |
ToneCurvePV2012Green | 0, 0, 255, 255 |
ToneCurvePV2012Red | 0, 0, 255, 255 |
Version | 8.3 |
VignetteAmount | 0 |
WhiteBalance (1) | Custom |
WhiteBalance | Auto |
Whites2012 | -30 |