Felt | Verdi |
AlreadyApplied | True |
Aperture | 5.6 |
ApertureValue | 5.6 |
ApproximateFocusDistance | 13.6 |
AutoLateralCA | 0 |
AutoWhiteVersion | 134348800 |
BitsPerSample | 8 |
Blacks2012 | -55 |
BlueHue | 0 |
BlueSaturation | 0 |
CameraProfile | Embedded |
CircleOfConfusion | 0.019 mm |
Clarity2012 | 0 |
ColorComponents | 3 |
ColorNoiseReduction | 0 |
ColorSpace | sRGB |
ColorTransform | YCbCr |
Contrast2012 | -10 |
ConvertToGrayscale | False |
CreateDate (1) | 2016:01:26 13:56:49.72 |
CreateDate | 2016:01:26 13:56:49 |
CreatorTool | Adobe Photoshop Lightroom 5.7.1 (Windows) |
CropAngle | 0 |
CropBottom | 0.883134 |
CropConstrainToWarp | 0 |
CropLeft | 0.254867 |
CropRight | 1 |
CropTop | 0.162019 |
CustomRendered | Normal |
DateCreated (1) | 2016:01:26 |
DateCreated | 2016:01:26 13:56:49.72 |
DateTimeOriginal | 2016:01:26 13:56:49 |
DefringeGreenAmount | 0 |
DefringeGreenHueHi | 60 |
DefringeGreenHueLo | 40 |
DefringePurpleAmount | 0 |
DefringePurpleHueHi | 70 |
DefringePurpleHueLo | 30 |
DOF | 1.12 m (13.06 - 14.18 m) |
Exposure2012 | +0.10 |
ExposureCompensation | 0 |
ExposureMode | Manual |
ExposureProgram | Manual |
ExposureTime | 1/20 |
Firmware | 1.0.1 |
Flash | Off, Did not fire |
FlashCompensation | 0 |
FNumber | 5.6 |
FocalLength | 187.0 mm |
FocalLength35efl | 187.0 mm (35 mm equivalent: 294.1 mm) |
Format | image/jpeg |
FOV | 7.0 deg |
GrainAmount | 0 |
GreenHue | 0 |
GreenSaturation | 0 |
HasCrop | True |
HasSettings | True |
Highlights2012 | -15 |
HueAdjustmentAqua | 0 |
HueAdjustmentBlue | 0 |
HueAdjustmentGreen | 0 |
HueAdjustmentMagenta | 0 |
HueAdjustmentOrange | 0 |
HueAdjustmentPurple | 0 |
HueAdjustmentRed | 0 |
HueAdjustmentYellow | 0 |
HyperfocalDistance | 326.86 m |
ImageHeight | 645 |
ImageNumber | 0 |
ImageSize | 1000x645 |
ImageWidth | 1000 |
IncrementalTemperature | +4 |
IncrementalTint | +5 |
ISO | 100 |
Lens | EF-S55-250mm f/4-5.6 IS |
LensID (1) | 49 |
LensID | Canon EF-S 55-250mm f/4-5.6 IS |
LensInfo | 55-250mm f/? |
LensManualDistortionAmount | 0 |
LensModel | EF-S55-250mm f/4-5.6 IS |
LensProfileEnable | 0 |
LensProfileSetup | LensDefaults |
LensSerialNumber | 00001b3f59 |
LightValue | 9.3 |
LuminanceAdjustmentAqua | 0 |
LuminanceAdjustmentBlue | 0 |
LuminanceAdjustmentGreen | 0 |
LuminanceAdjustmentMagenta | 0 |
LuminanceAdjustmentOrange | 0 |
LuminanceAdjustmentPurple | 0 |
LuminanceAdjustmentRed | 0 |
LuminanceAdjustmentYellow | 0 |
LuminanceSmoothing | 0 |
Make | Canon |
MaxApertureValue | 5.7 |
Megapixels | 0.645 |
MeteringMode | Multi-segment |
Model | Canon EOS 1200D |
ModifyDate (1) | 2016:01:26 22:50:00-01:00 |
ModifyDate | 2016:01:26 22:50:00 |
ParametricDarks | -14 |
ParametricHighlights | -10 |
ParametricHighlightSplit | 75 |
ParametricLights | -20 |
ParametricMidtoneSplit | 50 |
ParametricShadows | +25 |
ParametricShadowSplit | 25 |
PerspectiveAspect | 0 |
PerspectiveHorizontal | 0 |
PerspectiveRotate | 0.0 |
PerspectiveScale | 100 |
PerspectiveUpright | 0 |
PerspectiveVertical | 0 |
PostCropVignetteAmount | 0 |
ProcessVersion | 6.7 |
ProfileDescription | sRGB IEC61966-2.1 |
RecommendedExposureIndex | 100 |
RedHue | 0 |
RedSaturation | 0 |
Saturation | 0 |
SaturationAdjustmentAqua | 0 |
SaturationAdjustmentBlue | 0 |
SaturationAdjustmentGreen | 0 |
SaturationAdjustmentMagenta | 0 |
SaturationAdjustmentOrange | 0 |
SaturationAdjustmentPurple | 0 |
SaturationAdjustmentRed | 0 |
SaturationAdjustmentYellow | 0 |
ScaleFactor35efl | 1.6 |
SceneCaptureType | Standard |
SensitivityType | Recommended Exposure Index |
SerialNumber | 213074066879 |
Shadows2012 | +55 |
ShadowTint | 0 |
SharpenDetail | 25 |
SharpenEdgeMasking | 0 |
SharpenRadius | +1.0 |
Sharpness | 0 |
ShutterSpeed | 1/20 |
ShutterSpeedValue | 1/20 |
Software | Adobe Photoshop Lightroom 5.7.1 (Windows) |
SplitToningBalance | 0 |
SplitToningHighlightHue | 0 |
SplitToningHighlightSaturation | 0 |
SplitToningShadowHue | 0 |
SplitToningShadowSaturation | 0 |
ToneCurve | 0, 0, 255, 255 |
ToneCurveBlue | 0, 0, 255, 255 |
ToneCurveGreen | 0, 0, 255, 255 |
ToneCurveName | Linear |
ToneCurveName2012 | Linear |
ToneCurvePV2012 | 0, 0, 255, 255 |
ToneCurvePV2012Blue | 0, 0, 255, 255 |
ToneCurvePV2012Green | 0, 0, 255, 255 |
ToneCurvePV2012Red | 0, 0, 255, 255 |
ToneCurveRed | 0, 0, 255, 255 |
Version | 8.7.1 |
Vibrance | 0 |
VignetteAmount | 0 |
WhiteBalance (1) | Custom |
WhiteBalance | Auto |
Whites2012 | -5 |