Felt | Verdi |
Accentuation | 0.9 |
AEBBracketValue | 0 |
AlreadyApplied | True |
Aperture | 8.0 |
ApertureValue | 8.0 |
Artist | |
AutoExposureBracketing | Off |
AutoISO | 100 |
AutoLateralCA | 0 |
AutoWhiteVersion | 134348800 |
BaseISO | 0 |
BitsPerSample | 8 |
BlackClip | 4.800000 |
Blacks2012 | 0 |
BlendingPoint | 2.1 |
BlueHue | 0 |
BlueSaturation | 0 |
BulbDuration | 0 |
CameraProfile | Embedded |
CameraType | n/a |
CanonExposureMode | Unknown (-1) |
CanonFirmwareVersion | |
CanonFlashMode | n/a |
CanonImageSize | n/a |
CanonImageType | |
CircleOfConfusion | 0.019 mm |
Clarity2012 | +50 |
ColorComponents | 3 |
ColorMode | RGB |
ColorNoiseReduction | 0 |
ColorSpace | sRGB |
ContinuousDrive | Unknown (-1) |
Contrast2012 | 0 |
ControlMode | n/a |
ConvertToGrayscale | False |
CreateDate (1) | 2014:02:08 12:56:05+01:00 |
CreateDate | 2014:02:08 12:56:05 |
CreatorTool | Digital Photo Professional |
CustomRendered | Normal |
DateCreated | 2014:02:08 12:56:05 |
DateTimeOriginal | 2014:02:08 12:56:05 |
DefringeGreenAmount | 0 |
DefringeGreenHueHi | 60 |
DefringeGreenHueLo | 40 |
DefringePurpleAmount | 0 |
DefringePurpleHueHi | 70 |
DefringePurpleHueLo | 30 |
DigitalZoom | None |
DriveMode | Continuous Shooting |
EasyMode | Unknown (-1) |
ExifImageHeight | 3102 |
ExifImageWidth | 4779 |
Exposure2012 | -1.15 |
ExposureCompensation | 0 |
ExposureMode | Auto |
ExposureTime | 1/80 |
FileNumber | 0 |
Flash | Off, Did not fire |
FlashBits | (none) |
FlashCompensation | 0 |
FlashExposureComp | 0 |
FlashGuideNumber | 0 |
FNumber | 8.0 |
FocalLength | 57.0 mm |
FocalLength35efl | 57.0 mm (35 mm equivalent: 89.6 mm) |
FocalUnits | 32/mm |
FocusMode | Single |
FocusRange | Not Known |
Format | image/tiff |
FOV | 22.7 deg |
GrainAmount | 0 |
GreenHue | 0 |
GreenSaturation | 0 |
HasCrop | False |
HasSettings | True |
Highlights2012 | 0 |
HueAdjustmentAqua | 0 |
HueAdjustmentBlue | 0 |
HueAdjustmentGreen | 0 |
HueAdjustmentMagenta | 0 |
HueAdjustmentOrange | 0 |
HueAdjustmentPurple | 0 |
HueAdjustmentRed | 0 |
HueAdjustmentYellow | 0 |
HyperfocalDistance | 21.26 m |
ICCProfileName | sRGB IEC61966-2.1 |
ImageHeight | 3102 |
ImageSize | 4779x3102 |
ImageWidth | 4779 |
IncrementalTemperature | 0 |
IncrementalTint | 0 |
ISO (1) | 0 |
ISO | 125 |
IsPano360 | No |
Lens (1) | 17-70mm |
Lens | 0.0 mm |
Lens35efl | 0.0 mm (35 mm equivalent: 0.0 mm) |
LensID | n/a |
LensManualDistortionAmount | 0 |
LensModel | 17-70mm |
LensProfileEnable | 0 |
LensProfileSetup | LensDefaults |
LensType | n/a |
LightValue | 12.0 |
LuminanceAdjustmentAqua | 0 |
LuminanceAdjustmentBlue | 0 |
LuminanceAdjustmentGreen | 0 |
LuminanceAdjustmentMagenta | 0 |
LuminanceAdjustmentOrange | 0 |
LuminanceAdjustmentPurple | 0 |
LuminanceAdjustmentRed | 0 |
LuminanceAdjustmentYellow | 0 |
LuminanceSmoothing | 0 |
MacroMode | Unknown (0) |
Make | Canon |
ManualFlashOutput | n/a |
MaxFocalLength | 0 mm |
MeasuredEV | 5.00 |
Megapixels | 14.8 |
MeteringMode | Unknown (-1) |
Method | Fusion/Adjust |
MidtonesAdjustment | -2.5 |
MinFocalLength | 0 mm |
Model | Canon EOS 600D |
ModifyDate (1) | 2016:01:18 22:50:54+01:00 |
ModifyDate | 2014:02:08 12:56:05 |
NDFilter | n/a |
OpticalZoomCode | n/a |
Orientation | Horizontal (normal) |
OwnerName | |
ParametricDarks | 0 |
ParametricHighlights | 0 |
ParametricHighlightSplit | 75 |
ParametricLights | 0 |
ParametricMidtoneSplit | 50 |
ParametricShadows | 0 |
ParametricShadowSplit | 25 |
PerspectiveAspect | 0 |
PerspectiveHorizontal | 0 |
PerspectiveRotate | 0.0 |
PerspectiveScale | 100 |
PerspectiveUpright | 0 |
PerspectiveVertical | 0 |
PhotographicSensitivity | 125 |
PostCropVignetteAmount | 0 |
ProcessVersion | 6.7 |
ProfileDescription | sRGB IEC61966-2.1 |
Quality | Fine |
Rating | 0 |
RawFileName | IMG_9999_18fusionxx.JPG |
RedHue | 0 |
RedSaturation | 0 |
RelatedImageHeight | 3102 |
RelatedImageWidth | 4779 |
Saturation (1) | -12 |
Saturation | -1.3 |
SaturationAdjustmentAqua | 0 |
SaturationAdjustmentBlue | 0 |
SaturationAdjustmentGreen | 0 |
SaturationAdjustmentMagenta | 0 |
SaturationAdjustmentOrange | 0 |
SaturationAdjustmentPurple | 0 |
SaturationAdjustmentRed | 0 |
SaturationAdjustmentYellow | 0 |
ScaleFactor35efl | 1.6 |
SceneCaptureType | Standard |
SelfTimer | Off |
SequenceNumber | 0 |
Shadows | 6.4 |
Shadows2012 | +51 |
ShadowTint | 0 |
SharpenDetail | 25 |
SharpenEdgeMasking | 0 |
SharpenRadius | +1.0 |
Sharpness (1) | 0 |
Sharpness | 6.5 |
ShootingMode | Unknown (-1) |
ShutterSpeed | 1/80 |
ShutterSpeedValue | 1/80 |
SlowShutter | None |
Software | Digital Photo Professional |
SplitToningBalance | 0 |
SplitToningHighlightHue | 0 |
SplitToningHighlightSaturation | 0 |
SplitToningShadowHue | 0 |
SplitToningShadowSaturation | 0 |
SRAWQuality | n/a |
TargetAperture | 8 |
TargetExposureTime | 1/79 |
ToneCurve | 0, 0, 255, 255 |
ToneCurveBlue | 0, 0, 255, 255 |
ToneCurveGreen | 0, 0, 255, 255 |
ToneCurveName | Linear |
ToneCurveName2012 | Linear |
ToneCurvePV2012 | 0, 0, 255, 255 |
ToneCurvePV2012Blue | 0, 0, 255, 255 |
ToneCurvePV2012Green | 0, 0, 255, 255 |
ToneCurvePV2012Red | 0, 0, 255, 255 |
ToneCurveRed | 0, 0, 255, 255 |
UserComment | |
Version (1) | 4.2 |
Version | 8.5 |
Vibrance | -7 |
VignetteAmount | 0 |
WhiteBalance (1) | Manual |
WhiteBalance (2) | As Shot |
WhiteBalance | Unknown (-1) |
WhiteClip | 4.600000 |
Whites2012 | 0 |
ZoomSourceWidth | 0 |
ZoomTargetWidth | 0 |