Felt | Verdi |
AlreadyApplied | True |
Aperture | 5.6 |
ApertureValue | 5.6 |
AutoLateralCA | 1 |
AutoWhiteVersion | 134348800 |
BitsPerSample | 8 |
Blacks2012 | +10 |
BlueHue | 0 |
BlueSaturation | 0 |
CameraProfile | Adobe Standard |
CFAPattern | [Red,Green][Green,Blue] |
CircleOfConfusion | 0.011 mm |
Clarity2012 | +20 |
ColorComponents | 3 |
ColorNoiseReduction | 25 |
ColorNoiseReductionDetail | 50 |
ColorNoiseReductionSmoothness | 50 |
ColorTemperature | 5650 |
ColorTransform | YCbCr |
Contrast | Normal |
Contrast2012 | +20 |
ConvertToGrayscale | False |
CreateDate (1) | 2015:08:15 17:39:25.04 |
CreateDate | 2015:08:15 17:39:25 |
CreatorTool | Adobe Photoshop Lightroom 5.7.1 (Windows) |
CropAngle | 0 |
CropBottom | 0.951145 |
CropConstrainToWarp | 0 |
CropLeft | 0.040692 |
CropRight | 1 |
CropTop | 0 |
CustomRendered | Normal |
DateCreated (1) | 2015:08:15 |
DateCreated | 2015:08:15 17:39:25.04 |
DateTimeOriginal | 2015:08:15 17:39:25 |
DefringeGreenAmount | 0 |
DefringeGreenHueHi | 60 |
DefringeGreenHueLo | 40 |
DefringePurpleAmount | 0 |
DefringePurpleHueHi | 70 |
DefringePurpleHueLo | 30 |
DigitalZoomRatio | 1 |
Exposure2012 | +0.20 |
ExposureCompensation | 0 |
ExposureMode | Auto |
ExposureProgram | Program AE |
ExposureTime | 1/1250 |
Flash | No Flash |
FNumber | 5.6 |
FocalLength | 27.5 mm |
FocalLength35efl | 27.5 mm (35 mm equivalent: 74.0 mm) |
FocalLengthIn35mmFormat | 74 mm |
Format | image/jpeg |
FOV | 27.3 deg |
GainControl | None |
GrainAmount | 0 |
GreenHue | 0 |
GreenSaturation | 0 |
HasCrop | True |
HasSettings | True |
Highlights2012 | -40 |
HueAdjustmentAqua | 0 |
HueAdjustmentBlue | 0 |
HueAdjustmentGreen | 0 |
HueAdjustmentMagenta | 0 |
HueAdjustmentOrange | 0 |
HueAdjustmentPurple | 0 |
HueAdjustmentRed | 0 |
HueAdjustmentYellow | 0 |
HyperfocalDistance | 12.09 m |
ImageHeight | 2922 |
ImageNumber | 1138 |
ImageSize | 4420x2922 |
ImageWidth | 4420 |
ISO | 160 |
Lens | 1 NIKKOR AW 11-27.5mm f/3.5-5.6 |
LensInfo | 11-27.5mm f/3.5-5.6 |
LensManualDistortionAmount | 0 |
LensModel | 1 NIKKOR AW 11-27.5mm f/3.5-5.6 |
LensProfileChromaticAberrationScale | 100 |
LensProfileDistortionScale | 100 |
LensProfileEnable | 1 |
LensProfileFilename | NIKON 1 AW1 (Nikon 1 NIKKOR AW 11-27.5mm f3.5-5.6) - RAW.lcp |
LensProfileName | Adobe (Nikon 1 NIKKOR AW 11-27.5mm f/3.5-5.6) |
LensProfileSetup | LensDefaults |
LensProfileVignettingScale | 100 |
LightSource | Unknown |
LightValue | 14.6 |
LuminanceAdjustmentAqua | 0 |
LuminanceAdjustmentBlue | 0 |
LuminanceAdjustmentGreen | 0 |
LuminanceAdjustmentMagenta | 0 |
LuminanceAdjustmentOrange | 0 |
LuminanceAdjustmentPurple | 0 |
LuminanceAdjustmentRed | 0 |
LuminanceAdjustmentYellow | 0 |
LuminanceSmoothing | 0 |
Make | NIKON CORPORATION |
MaxApertureValue | 5.7 |
Megapixels | 12.9 |
MeteringMode | Multi-segment |
Model | NIKON 1 AW1 |
ModifyDate (1) | 2015:09:08 21:06:45+02:00 |
ModifyDate | 2015:09:08 21:06:45 |
ParametricDarks | 0 |
ParametricHighlights | 0 |
ParametricHighlightSplit | 75 |
ParametricLights | 0 |
ParametricMidtoneSplit | 50 |
ParametricShadows | 0 |
ParametricShadowSplit | 25 |
PerspectiveAspect | 0 |
PerspectiveHorizontal | 0 |
PerspectiveRotate | 0.0 |
PerspectiveScale | 100 |
PerspectiveUpright | 1 |
PerspectiveVertical | 0 |
PostCropVignetteAmount | 0 |
ProcessVersion | 6.7 |
ProfileDescription | sRGB IEC61966-2.1 |
RedHue | 0 |
RedSaturation | 0 |
Saturation (1) | 0 |
Saturation | Normal |
SaturationAdjustmentAqua | 0 |
SaturationAdjustmentBlue | 0 |
SaturationAdjustmentGreen | 0 |
SaturationAdjustmentMagenta | 0 |
SaturationAdjustmentOrange | 0 |
SaturationAdjustmentPurple | 0 |
SaturationAdjustmentRed | 0 |
SaturationAdjustmentYellow | 0 |
ScaleFactor35efl | 2.7 |
SceneCaptureType | Standard |
SceneType | Directly photographed |
SensingMethod | One-chip color area |
SensitivityType | Recommended Exposure Index |
SerialNumber | 52003181 |
Shadows2012 | +10 |
ShadowTint | 0 |
SharpenDetail | 25 |
SharpenEdgeMasking | 0 |
SharpenRadius | +1.0 |
Sharpness (1) | 70 |
Sharpness | Normal |
ShutterSpeed | 1/1250 |
ShutterSpeedValue | 1/1250 |
Software | Adobe Photoshop Lightroom 5.7.1 (Windows) |
SplitToningBalance | 0 |
SplitToningHighlightHue | 0 |
SplitToningHighlightSaturation | 0 |
SplitToningShadowHue | 0 |
SplitToningShadowSaturation | 0 |
SubjectDistanceRange | Unknown |
Tint | +9 |
ToneCurve | 0, 0, 255, 255 |
ToneCurveBlue | 0, 0, 255, 255 |
ToneCurveGreen | 0, 0, 255, 255 |
ToneCurveName | Linear |
ToneCurveName2012 | Linear |
ToneCurvePV2012 | 0, 0, 255, 255 |
ToneCurvePV2012Blue | 0, 0, 255, 255 |
ToneCurvePV2012Green | 0, 0, 255, 255 |
ToneCurvePV2012Red | 0, 0, 255, 255 |
ToneCurveRed | 0, 0, 255, 255 |
Version | 8.7.1 |
Vibrance | 0 |
VignetteAmount | 0 |
WhiteBalance | Auto |
Whites2012 | -20 |