Felt | Verdi |
2016-02-07T18:45:43+01:00 File _E2B8339 as Smart Object-1.psd saved
2016-02-07T20:07:20+01:00 File _E2B8339 as Smart Object-1.psd saved
2016-02-07T20:07:34+01:00 File Untitled-1 closed
2016-02-07T20:57:46+01:00 File _E2B8339 as Smart Object-1.psd saved
2016-02-07T21:04:56+01:00 File _E2B8339 as Smart Object-1.jpg saved
2016-02-07T21:25:19+01:00 File _E2B8339 as Smart Object-1.jpg saved
AlreadyApplied | True |
Aperture | 2.8 |
ApertureValue | 2.8 |
ApproximateFocusDistance | 1.91 |
Artist | Saulius Budrikis psauliusbudrikis@yahoo.com |
AutoLateralCA | 1 |
AutoWhiteVersion | 134348800 |
BitsPerSample | 8 |
Blacks2012 | +58 |
BlueHue | -3 |
BlueSaturation | -95 |
By-line | Saulius Budrikis psauliusbudriki |
CameraProfile | Camera Standard |
CircleOfConfusion | 0.030 mm |
Clarity2012 | 0 |
ColorComponents | 3 |
ColorMode | RGB |
ColorNoiseReduction | 50 |
ColorNoiseReductionDetail | 30 |
ColorNoiseReductionSmoothness | 50 |
ColorSpace | Uncalibrated |
ColorTemperature | 4400 |
ColorTransform | YCbCr |
Contrast2012 | -5 |
ConvertToGrayscale | False |
CreateDate | 2016:02:07 15:42:49 |
Creator | Saulius Budrikis psauliusbudrikis@yahoo.com |
CustomRendered | Normal |
DateCreated (1) | 2016:02:07 |
DateCreated | 2016:02:07 15:42:49.078 |
DateTimeOriginal | 2016:02:07 15:42:49 |
DefringeGreenAmount | 0 |
DefringeGreenHueHi | 60 |
DefringeGreenHueLo | 40 |
DefringePurpleAmount | 0 |
DefringePurpleHueHi | 70 |
DefringePurpleHueLo | 30 |
Dehaze | 0 |
DOF | 0.017 m (1.901 - 1.919 m) |
ExifImageHeight | 5760 |
ExifImageWidth | 3840 |
Exposure2012 | +0.20 |
ExposureCompensation | 0 |
ExposureMode | Manual |
ExposureProgram | Manual |
ExposureTime | 1/60 |
Firmware | 1.3.3 |
Flash | On, Fired |
FlashCompensation | -2.66666666666667 |
FNumber | 2.8 |
FocalLength | 180.0 mm |
FocalLength35efl | 180.0 mm (35 mm equivalent: 180.0 mm) |
Format | image/jpeg |
FOV | 11.4 deg |
GrainAmount | 0 |
GreenHue | +13 |
GreenSaturation | +4 |
HasCrop | False |
HasSettings | True |
Highlights2012 | -43 |
HueAdjustmentAqua | -58 |
HueAdjustmentBlue | -14 |
HueAdjustmentGreen | 0 |
HueAdjustmentMagenta | 0 |
HueAdjustmentOrange | +16 |
HueAdjustmentPurple | +3 |
HueAdjustmentRed | +33 |
HueAdjustmentYellow | -31 |
HyperfocalDistance | 385.12 m |
ICCProfileName | Adobe RGB (1998) |
ImageHeight | 5760 |
ImageNumber | 0 |
ImageSize | 3840x5760 |
ImageWidth | 3840 |
ISO | 640 |
LateralChromaticAberrationCorrectionAlreadyApplied | True |
Lens | EF70-200mm f/2.8L IS II USM |
LensID (1) | 251 |
LensID | Canon EF 70-200mm f/2.8L IS II USM |
LensInfo | 70-200mm f/? |
LensManualDistortionAmount | 0 |
LensModel | EF70-200mm f/2.8L IS II USM |
LensProfileChromaticAberrationScale | 100 |
LensProfileDistortionScale | 100 |
LensProfileEnable | 0 |
LensProfileFilename | Canon EOS 5D Mark II (Canon EF 70-200mm f2.8L IS II USM) - RAW.lcp |
LensProfileName | Adobe (Canon EF 70-200mm f/2.8 L IS II USM) |
LensProfileSetup | LensDefaults |
LensProfileVignettingScale | 100 |
LensSerialNumber | 0000c36389 |
LightValue | 6.2 |
LuminanceAdjustmentAqua | -18 |
LuminanceAdjustmentBlue | -6 |
LuminanceAdjustmentGreen | 0 |
LuminanceAdjustmentMagenta | +23 |
LuminanceAdjustmentOrange | -9 |
LuminanceAdjustmentPurple | +28 |
LuminanceAdjustmentRed | -21 |
LuminanceAdjustmentYellow | -25 |
LuminanceNoiseReductionContrast | 0 |
LuminanceNoiseReductionDetail | 50 |
LuminanceSmoothing | 13 |
Make | Canon |
MaxApertureValue | 2.8 |
Megapixels | 22.1 |
MeteringMode | Partial |
Model | Canon EOS 5D Mark III |
ModifyDate (1) | 2016:02:07 21:25:19+01:00 |
ModifyDate | 2016:02:07 21:25:19 |
Orientation | Horizontal (normal) |
ParametricDarks | +21 |
ParametricHighlights | -28 |
ParametricHighlightSplit | 69 |
ParametricLights | +25 |
ParametricMidtoneSplit | 34 |
ParametricShadows | +11 |
ParametricShadowSplit | 10 |
PerspectiveAspect | 0 |
PerspectiveHorizontal | 0 |
PerspectiveRotate | 0.0 |
PerspectiveScale | 100 |
PerspectiveUpright | 0 |
PerspectiveVertical | 0 |
PostCropVignetteAmount | 0 |
ProcessVersion | 6.7 |
ProfileDescription | Adobe RGB (1998) |
Rating | 0 |
RawFileName | _E2B8339.CR2 |
RecommendedExposureIndex | 640 |
RedHue | +8 |
RedSaturation | +100 |
Saturation | -18 |
SaturationAdjustmentAqua | -23 |
SaturationAdjustmentBlue | -8 |
SaturationAdjustmentGreen | 0 |
SaturationAdjustmentMagenta | -13 |
SaturationAdjustmentOrange | -13 |
SaturationAdjustmentPurple | -13 |
SaturationAdjustmentRed | -2 |
SaturationAdjustmentYellow | -32 |
ScaleFactor35efl | 1.0 |
SceneCaptureType | Standard |
SensitivityType | Recommended Exposure Index |
SerialNumber | 053024014182 |
Shadows2012 | +43 |
ShadowTint | +8 |
SharpenDetail | 0 |
SharpenEdgeMasking | 0 |
SharpenRadius | +0.5 |
Sharpness | 0 |
ShutterSpeed | 1/60 |
ShutterSpeedValue | 1/60 |
Software | Adobe Photoshop CC (Macintosh) |
SplitToningBalance | +42 |
SplitToningHighlightHue | 33 |
SplitToningHighlightSaturation | 18 |
SplitToningShadowHue | 215 |
SplitToningShadowSaturation | 5 |
Tint | -16 |
ToneCurve | 0, 0, 32, 22, 64, 56, 128, 128, 192, 196, 255, 255 |
ToneCurveBlue | 0, 0, 255, 255 |
ToneCurveGreen | 0, 0, 255, 255 |
ToneCurveName | Medium Contrast |
ToneCurveName2012 | Linear |
ToneCurvePV2012 | 0, 0, 255, 255 |
ToneCurvePV2012Blue | 0, 0, 255, 255 |
ToneCurvePV2012Green | 0, 0, 255, 255 |
ToneCurvePV2012Red | 0, 0, 255, 255 |
ToneCurveRed | 0, 0, 255, 255 |
ToneMapStrength | 0 |
URL_List | |
Version | 9.1 |
Vibrance | +25 |
VignetteAmount | 0 |
WhiteBalance (1) | Custom |
WhiteBalance | Manual |
Whites2012 | +30 |