Felt | Verdi |
AlreadyApplied | True |
Aperture | 22.0 |
ApertureValue | 22.0 |
ApproximateFocusDistance | 8.22 |
Artist | Ole Harald Jensen |
AutoLateralCA | 0 |
AutoWhiteVersion | 134348800 |
BitsPerSample | 8 |
Blacks2012 | +55 |
BlueHue | 0 |
BlueSaturation | 0 |
By-line | Ole Harald Jensen |
CameraProfile | Adobe Standard |
CircleOfConfusion | 0.019 mm |
Clarity2012 | +45 |
ColorComponents | 3 |
ColorNoiseReduction | 50 |
ColorNoiseReductionDetail | 52 |
ColorNoiseReductionSmoothness | 87 |
ColorSpace | sRGB |
ColorTemperature | 12155 |
ColorTransform | YCbCr |
Contrast2012 | +24 |
ConvertToGrayscale | False |
Copyright | Tlf: 40055796 |
CopyrightNotice | Tlf: 40055796 |
CreateDate (1) | 2016:02:18 07:57:50.08 |
CreateDate | 2016:02:18 07:57:50 |
Creator | Ole Harald Jensen |
CreatorTool | Adobe Photoshop Lightroom 5.7.1 (Windows) |
CropAngle | 0.241224 |
CropBottom | 1 |
CropConstrainToWarp | 0 |
CropLeft | 0.004532 |
CropRight | 0.995468 |
CropTop | 0 |
CustomRendered | Normal |
DateCreated (1) | 2016:02:18 |
DateCreated | 2016:02:18 07:57:50.08 |
DateTimeOriginal | 2016:02:18 07:57:50 |
DefringeGreenAmount | 0 |
DefringeGreenHueHi | 60 |
DefringeGreenHueLo | 40 |
DefringePurpleAmount | 0 |
DefringePurpleHueHi | 70 |
DefringePurpleHueLo | 30 |
DOF | inf (0.57 m - inf) |
Exposure2012 | +0.48 |
ExposureCompensation | 0 |
ExposureMode | Manual |
ExposureProgram | Manual |
ExposureTime | 15 |
Firmware | 2.0.5 |
Flash | Off, Did not fire |
FlashCompensation | 0 |
FNumber | 22.0 |
FocalLength | 16.0 mm |
FocalLength35efl | 16.0 mm (35 mm equivalent: 25.1 mm) |
Format | image/jpeg |
FOV | 71.2 deg |
GrainAmount | 0 |
GreenHue | 0 |
GreenSaturation | 0 |
HasCrop | True |
HasSettings | True |
Highlights2012 | +10 |
HueAdjustmentAqua | -47 |
HueAdjustmentBlue | +29 |
HueAdjustmentGreen | +7 |
HueAdjustmentMagenta | -2 |
HueAdjustmentOrange | +40 |
HueAdjustmentPurple | +9 |
HueAdjustmentRed | +33 |
HueAdjustmentYellow | +16 |
HyperfocalDistance | 0.61 m |
ImageHeight | 693 |
ImageNumber | 0 |
ImageSize | 1040x693 |
ImageWidth | 1040 |
ISO | 100 |
Lens | TAMRON 16-300mm F/3.5-6.3 Di II VC PZD B016 |
LensID (1) | 213 |
LensID | Tamron 16-300mm f/3.5-6.3 Di II VC PZD Macro (B016) |
LensInfo | 16-300mm f/? |
LensManualDistortionAmount | 0 |
LensModel | TAMRON 16-300mm F/3.5-6.3 Di II VC PZD B016 |
LensProfileChromaticAberrationScale | 100 |
LensProfileDistortionScale | 100 |
LensProfileEnable | 1 |
LensProfileFilename | Canon (TAMRON 16-300mm F3.5-6.3 DiII VC PZD MACRO B016E) - RAW.lcp |
LensProfileName | Adobe (TAMRON 16-300mm F/3.5-6.3 DiII VC PZD MACRO B016E, Canon) |
LensProfileSetup | Custom |
LensProfileVignettingScale | 100 |
LightValue | 5.0 |
LuminanceAdjustmentAqua | -20 |
LuminanceAdjustmentBlue | -24 |
LuminanceAdjustmentGreen | +44 |
LuminanceAdjustmentMagenta | -27 |
LuminanceAdjustmentOrange | +4 |
LuminanceAdjustmentPurple | -44 |
LuminanceAdjustmentRed | -60 |
LuminanceAdjustmentYellow | +9 |
LuminanceNoiseReductionContrast | 68 |
LuminanceNoiseReductionDetail | 23 |
LuminanceSmoothing | 36 |
Make | Canon |
MaxApertureValue | 3.5 |
Megapixels | 0.721 |
MeteringMode | Multi-segment |
Model | Canon EOS 7D |
ModifyDate (1) | 2016:02:18 15:19:10+01:00 |
ModifyDate | 2016:02:18 15:19:10 |
ParametricDarks | +20 |
ParametricHighlights | -36 |
ParametricHighlightSplit | 75 |
ParametricLights | +5 |
ParametricMidtoneSplit | 50 |
ParametricShadows | +3 |
ParametricShadowSplit | 25 |
PerspectiveAspect | 0 |
PerspectiveHorizontal | 0 |
PerspectiveRotate | 0.0 |
PerspectiveScale | 100 |
PerspectiveUpright | 0 |
PerspectiveVertical | 0 |
PostCropVignetteAmount | 0 |
ProcessVersion | 6.7 |
ProfileDescription | sRGB IEC61966-2.1 |
RecommendedExposureIndex | 100 |
RedHue | 0 |
RedSaturation | 0 |
Rights | Tlf: 40055796 |
Saturation | +31 |
SaturationAdjustmentAqua | -16 |
SaturationAdjustmentBlue | -13 |
SaturationAdjustmentGreen | 0 |
SaturationAdjustmentMagenta | -9 |
SaturationAdjustmentOrange | +16 |
SaturationAdjustmentPurple | -40 |
SaturationAdjustmentRed | +31 |
SaturationAdjustmentYellow | 0 |
ScaleFactor35efl | 1.6 |
SceneCaptureType | Standard |
SensitivityType | Recommended Exposure Index |
SerialNumber | 2581203228 |
Shadows2012 | +40 |
ShadowTint | 0 |
SharpenDetail | 45 |
SharpenEdgeMasking | 61 |
SharpenRadius | +1.0 |
Sharpness | 59 |
ShutterSpeed | 15 |
ShutterSpeedValue | 15 |
Software | Adobe Photoshop Lightroom 5.7.1 (Windows) |
SplitToningBalance | -14 |
SplitToningHighlightHue | 30 |
SplitToningHighlightSaturation | 7 |
SplitToningShadowHue | 99 |
SplitToningShadowSaturation | 0 |
Tint | +29 |
ToneCurve | 0, 0, 255, 255 |
ToneCurveBlue | 0, 0, 255, 255 |
ToneCurveGreen | 0, 0, 255, 255 |
ToneCurveName | Linear |
ToneCurveName2012 | Linear |
ToneCurvePV2012 | 0, 0, 255, 255 |
ToneCurvePV2012Blue | 0, 0, 255, 255 |
ToneCurvePV2012Green | 0, 0, 255, 255 |
ToneCurvePV2012Red | 0, 0, 255, 255 |
ToneCurveRed | 0, 0, 255, 255 |
Version | 8.7.1 |
Vibrance | +31 |
VignetteAmount | 0 |
WhiteBalance (1) | Custom |
WhiteBalance | Auto |
Whites2012 | +38 |