Felt | Verdi |
AlreadyApplied | True |
Aperture | 9.0 |
ApertureValue | 9.0 |
ApproximateFocusDistance | 4294967295 |
Artist | Aleksander Askim |
AutoLateralCA | 0 |
AutoWhiteVersion | 134348800 |
BitsPerSample | 8 |
Blacks2012 | 0 |
BlueHue | 0 |
BlueSaturation | 0 |
By-line | Aleksander Askim |
CameraProfile | Adobe Standard |
CircleOfConfusion | 0.027 mm |
Clarity2012 | +46 |
ColorComponents | 3 |
ColorMode | RGB |
ColorNoiseReduction | 25 |
ColorNoiseReductionDetail | 50 |
ColorNoiseReductionSmoothness | 50 |
ColorSpace | Uncalibrated |
ColorTemperature | 3250 |
ColorTransform | YCbCr |
Contrast2012 | +36 |
ConvertToGrayscale | False |
Copyright | Aleksander Askim |
CopyrightNotice | Aleksander Askim |
CreateDate | 2016:01:27 21:27:12 |
Creator | Aleksander Askim |
CustomRendered | Normal |
DateCreated (1) | 2016:01:27 |
DateCreated | 2016:01:27 21:27:12.058 |
DateTimeOriginal | 2016:01:27 21:27:12 |
DefringeGreenAmount | 0 |
DefringeGreenHueHi | 60 |
DefringeGreenHueLo | 40 |
DefringePurpleAmount | 0 |
DefringePurpleHueHi | 70 |
DefringePurpleHueLo | 30 |
DOF | inf (1.05 m - inf) |
ExifImageHeight | 3264 |
ExifImageWidth | 4896 |
Exposure2012 | 0.00 |
ExposureCompensation | 0 |
ExposureMode | Manual |
ExposureProgram | Manual |
ExposureTime | 30 |
Firmware | 1.1.4 |
Flash | Off, Did not fire |
FlashCompensation | 0 |
FNumber | 9.0 |
FocalLength | 16.0 mm |
FocalLength35efl | 16.0 mm (35 mm equivalent: 17.7 mm) |
Format | image/jpeg |
FOV | 90.9 deg |
GradientBasedCorrActive | true |
GradientBasedCorrAmount | 1.000000 |
GradientBasedCorrBrightness | 0.000000 |
GradientBasedCorrClarity | 0.000000 |
GradientBasedCorrClarity2012 (1) | 0.110000 |
GradientBasedCorrClarity2012 | -0.120000 |
GradientBasedCorrContrast | 0.000000 |
GradientBasedCorrContrast2012 (1) | 0.090000 |
GradientBasedCorrContrast2012 | 1.000000 |
GradientBasedCorrDefringe | 0.000000 |
GradientBasedCorrExposure | 0.000000 |
GradientBasedCorrExposure2012 (1) | -0.137500 |
GradientBasedCorrExposure2012 (2) | -0.550000 |
GradientBasedCorrExposure2012 | -1.000000 |
GradientBasedCorrHighlights2012 (1) | -0.510000 |
GradientBasedCorrHighlights2012 | -1.000000 |
GradientBasedCorrHue | 0.000000 |
GradientBasedCorrLuminanceNoise | 0.000000 |
GradientBasedCorrMaskFullX (1) | 0.419314 |
GradientBasedCorrMaskFullX (2) | -0.001068 |
GradientBasedCorrMaskFullX (3) | 1.005342 |
GradientBasedCorrMaskFullX | 1.006410 |
GradientBasedCorrMaskFullY (1) | -0.089524 |
GradientBasedCorrMaskFullY (2) | 0.842949 |
GradientBasedCorrMaskFullY (3) | 0.733974 |
GradientBasedCorrMaskFullY | 0.556090 |
GradientBasedCorrMaskValue | 1.000000 |
GradientBasedCorrMaskWhat | Mask/Gradient |
GradientBasedCorrMaskZeroX (1) | 0.369759 |
GradientBasedCorrMaskZeroX (2) | 0.185897 |
GradientBasedCorrMaskZeroX (3) | 0.929487 |
GradientBasedCorrMaskZeroX | 0.945513 |
GradientBasedCorrMaskZeroY (1) | 0.318095 |
GradientBasedCorrMaskZeroY (2) | 0.676282 |
GradientBasedCorrMaskZeroY (3) | 0.722756 |
GradientBasedCorrMaskZeroY | 0.546474 |
GradientBasedCorrMoire | 0.000000 |
GradientBasedCorrSaturation (3) | 0.850000 |
GradientBasedCorrSaturation (7) | -0.210000 |
GradientBasedCorrSaturation | 0.000000 |
GradientBasedCorrShadows2012 (1) | 0.030000 |
GradientBasedCorrShadows2012 | -0.900000 |
GradientBasedCorrSharpness | 0.050000 |
GradientBasedCorrTemperature (2) | 0.020000 |
GradientBasedCorrTemperature | -0.280000 |
GradientBasedCorrTint | 0.040000 |
GradientBasedCorrWhat | Correction |
GrainAmount | 0 |
GreenHue | 0 |
GreenSaturation | 0 |
HasCrop | False |
HasSettings | True |
Highlights2012 | +17 |
HueAdjustmentAqua | 0 |
HueAdjustmentBlue | 0 |
HueAdjustmentGreen | 0 |
HueAdjustmentMagenta | 0 |
HueAdjustmentOrange | 0 |
HueAdjustmentPurple | 0 |
HueAdjustmentRed | 0 |
HueAdjustmentYellow | 0 |
HyperfocalDistance | 1.05 m |
ICCProfileName | Adobe RGB (1998) |
ImageHeight | 3264 |
ImageNumber | 0 |
ImageSize | 4896x3264 |
ImageWidth | 4896 |
ISO | 100 |
Lens | EF16-35mm f/4L IS USM |
LensID (1) | 507 |
LensID | Canon EF 16-35mm f/4L IS USM |
LensInfo | 16-35mm f/? |
LensManualDistortionAmount | 0 |
LensModel | EF16-35mm f/4L IS USM |
LensProfileEnable | 0 |
LensProfileSetup | LensDefaults |
LightValue | 1.4 |
LuminanceAdjustmentAqua | 0 |
LuminanceAdjustmentBlue | 0 |
LuminanceAdjustmentGreen | 0 |
LuminanceAdjustmentMagenta | 0 |
LuminanceAdjustmentOrange | 0 |
LuminanceAdjustmentPurple | 0 |
LuminanceAdjustmentRed | 0 |
LuminanceAdjustmentYellow | 0 |
LuminanceSmoothing | 0 |
Make | Canon |
MaxApertureValue | 4.0 |
Megapixels | 16.0 |
MeteringMode | Multi-segment |
Model | Canon EOS-1D Mark IV |
ModifyDate (1) | 2016:01:27 23:11:19+01:00 |
ModifyDate | 2016:01:27 23:11:19 |
Orientation | Horizontal (normal) |
PaintCorrectionActive | true |
PaintCorrectionAmount | 1.000000 |
PaintCorrectionBrightness | 0.000000 |
PaintCorrectionClarity | 0.000000 |
PaintCorrectionClarity2012 (1) | 0.110000 |
PaintCorrectionClarity2012 | 1.000000 |
PaintCorrectionContrast | 0.000000 |
PaintCorrectionContrast2012 (1) | 0.090000 |
PaintCorrectionContrast2012 (3) | 0.080000 |
PaintCorrectionContrast2012 | 0.140000 |
PaintCorrectionDefringe | 0.000000 |
PaintCorrectionExposure | 0.000000 |
PaintCorrectionExposure2012 (1) | 0.025000 |
PaintCorrectionExposure2012 (2) | 0.337500 |
PaintCorrectionExposure2012 (3) | 0.462500 |
PaintCorrectionExposure2012 | 0.425000 |
PaintCorrectionHighlights2012 (1) | -0.510000 |
PaintCorrectionHighlights2012 (3) | 0.110000 |
PaintCorrectionHighlights2012 | 0.800000 |
PaintCorrectionHue | 0.000000 |
PaintCorrectionLuminanceNoise | 0.000000 |
PaintCorrectionMaskCenterWeight (6) | 0.083679 |
PaintCorrectionMaskCenterWeight (8) | 0.190492 |
PaintCorrectionMaskCenterWeight | 0.024519 |
PaintCorrectionMaskFlow | 0.888889 |
PaintCorrectionMaskRadius (1) | 0.060524 |
PaintCorrectionMaskRadius (3) | 0.035242 |
PaintCorrectionMaskRadius (8) | 0.008990 |
PaintCorrectionMaskRadius (9) | 0.005795 |
PaintCorrectionMaskRadius | 0.002138 |
PaintCorrectionMaskValue | 0.610000 |
PaintCorrectionMaskWhat | Mask/Paint |
PaintCorrectionMoire | 0.000000 |
PaintCorrectionSaturation (3) | 0.850000 |
PaintCorrectionSaturation (5) | -0.310000 |
PaintCorrectionSaturation (7) | 0.120000 |
PaintCorrectionSaturation | 0.000000 |
PaintCorrectionShadows2012 (1) | 0.030000 |
PaintCorrectionShadows2012 | 0.260000 |
PaintCorrectionSharpness | 0.050000 |
PaintCorrectionTemperature (2) | 0.020000 |
PaintCorrectionTemperature | 0.000000 |
PaintCorrectionTint | 0.040000 |
PaintCorrectionWhat | Correction |
ParametricDarks | 0 |
ParametricHighlights | 0 |
ParametricHighlightSplit | 75 |
ParametricLights | 0 |
ParametricMidtoneSplit | 50 |
ParametricShadows | 0 |
ParametricShadowSplit | 25 |
PerspectiveAspect | 0 |
PerspectiveHorizontal | 0 |
PerspectiveRotate | 0.0 |
PerspectiveScale | 100 |
PerspectiveUpright | 0 |
PerspectiveVertical | 0 |
PostCropVignetteAmount | 0 |
ProcessVersion | 6.7 |
ProfileDescription | Adobe RGB (1998) |
Rating | 0 |
RawFileName | AFA_0025.CR2 |
RedHue | 0 |
RedSaturation | 0 |
Rights | Aleksander Askim |
Saturation | 0 |
SaturationAdjustmentAqua | 0 |
SaturationAdjustmentBlue | 0 |
SaturationAdjustmentGreen | 0 |
SaturationAdjustmentMagenta | 0 |
SaturationAdjustmentOrange | 0 |
SaturationAdjustmentPurple | 0 |
SaturationAdjustmentRed | 0 |
SaturationAdjustmentYellow | 0 |
ScaleFactor35efl | 1.1 |
SceneCaptureType | Standard |
SerialNumber | 430300244 |
Shadows2012 | -100 |
ShadowTint | 0 |
SharpenDetail | 25 |
SharpenEdgeMasking | 0 |
SharpenRadius | +1.0 |
Sharpness | 25 |
ShutterSpeed | 30 |
ShutterSpeedValue | 30 |
Software | Adobe Photoshop CS6 (Macintosh) |
SplitToningBalance | 0 |
SplitToningHighlightHue | 0 |
SplitToningHighlightSaturation | 0 |
SplitToningShadowHue | 0 |
SplitToningShadowSaturation | 0 |
Tint | +6 |
ToneCurve | 0, 0, 32, 22, 64, 56, 128, 128, 192, 196, 255, 255 |
ToneCurveBlue | 0, 0, 255, 255 |
ToneCurveGreen | 0, 0, 255, 255 |
ToneCurveName | Medium Contrast |
ToneCurveName2012 | Linear |
ToneCurvePV2012 | 0, 0, 255, 255 |
ToneCurvePV2012Blue | 0, 0, 255, 255 |
ToneCurvePV2012Green | 0, 0, 255, 255 |
ToneCurvePV2012Red | 0, 0, 255, 255 |
ToneCurveRed | 0, 0, 255, 255 |
URL_List | |
Version | 8.8 |
Vibrance | +31 |
VignetteAmount | 0 |
WhiteBalance (1) | Custom |
WhiteBalance | Manual |
Whites2012 | 0 |