Felt | Verdi |
AlreadyApplied | True |
Aperture | 8.0 |
ApertureValue | 8.0 |
ApproximateFocusDistance | 3.74 |
AutoLateralCA | 1 |
AutoWhiteVersion | 134348800 |
BitsPerSample | 8 |
Blacks2012 | -39 |
BlueHue | 0 |
BlueSaturation | 0 |
CameraProfile | Adobe Standard |
CircleOfConfusion | 0.016 mm |
Clarity2012 | +30 |
ColorComponents | 3 |
ColorNoiseReduction | 25 |
ColorNoiseReductionDetail | 50 |
ColorNoiseReductionSmoothness | 50 |
ColorSpace | sRGB |
ColorTemperature | 5224 |
ColorTransform | YCbCr |
Contrast2012 | +55 |
ConvertToGrayscale | True |
Copyright | Thomas Ebeltoft |
CopyrightNotice | Thomas Ebeltoft |
CreateDate (1) | 2015:06:07 17:00:04.79 |
CreateDate | 2015:06:07 17:00:04 |
CreatorTool | Adobe Photoshop Lightroom 6.4 (Windows) |
CropAngle | 0 |
CropBottom | 0.957895 |
CropConstrainToWarp | 0 |
CropLeft | 0 |
CropRight | 0.845722 |
CropTop | 0 |
CustomRendered | Normal |
DateCreated (1) | 2015:06:07 |
DateCreated | 2015:06:07 17:00:04.79 |
DateTimeOriginal | 2015:06:07 17:00:04 |
Dehaze | +18 |
DOF | inf (1.68 m - inf) |
Exposure2012 | -0.26 |
ExposureCompensation | 0 |
ExposureMode | Auto |
ExposureProgram | Aperture-priority AE |
ExposureTime | 1/640 |
Firmware | 1.1.1 |
Flash | Off, Did not fire |
FlashCompensation | 0 |
FNumber | 8.0 |
FocalLength | 20.0 mm |
FocalLength35efl | 20.0 mm (35 mm equivalent: 36.6 mm) |
Format | image/jpeg |
FOV | 52.4 deg |
GrainAmount | 0 |
GrayMixerAqua | -17 |
GrayMixerBlue | +13 |
GrayMixerGreen | -28 |
GrayMixerMagenta | +4 |
GrayMixerOrange | -20 |
GrayMixerPurple | +17 |
GrayMixerRed | -11 |
GrayMixerYellow | -24 |
GreenHue | 0 |
GreenSaturation | 0 |
HasCrop | True |
HasExtendedXMP | DAB6D53FE3E818EBBF1AC63AD68191A0 |
HasSettings | True |
Highlights2012 | -100 |
HyperfocalDistance | 3.04 m |
ImageHeight | 4628 |
ImageNumber | 0 |
ImageSize | 3495x4628 |
ImageWidth | 3495 |
ISO | 400 |
Lens | EF-S17-55mm f/2.8 IS USM |
LensID (1) | 240 |
LensID | Canon EF-S 17-55mm f/2.8 IS USM |
LensInfo | 17-55mm f/? |
LensManualDistortionAmount | 0 |
LensModel | EF-S17-55mm f/2.8 IS USM |
LensProfileChromaticAberrationScale | 100 |
LensProfileDistortionScale | 100 |
LensProfileEnable | 1 |
LensProfileFilename | Canon EOS 50D (Canon EF-S 17-55mm f2.8 IS USM) - RAW.lcp |
LensProfileName | Adobe (Canon EF-S 17-55mm f/2.8 IS USM) |
LensProfileSetup | LensDefaults |
LensProfileVignettingScale | 100 |
LensSerialNumber | 0000046648 |
LightValue | 13.3 |
LuminanceSmoothing | 0 |
Make | Canon |
MaxApertureValue | 2.8 |
Megapixels | 16.2 |
MeteringMode | Multi-segment |
Model | Canon EOS 70D |
ModifyDate (1) | 2016:02:24 10:18:46+01:00 |
ModifyDate | 2016:02:24 10:18:46 |
PaintCorrectionActive | true |
PaintCorrectionAmount | 1.000000 |
PaintCorrectionBrightness | 0.000000 |
PaintCorrectionClarity2012 (1) | 0.303230 |
PaintCorrectionClarity2012 (2) | 0.367740 |
PaintCorrectionClarity2012 | 0.000000 |
PaintCorrectionContrast2012 (1) | 0.000000 |
PaintCorrectionContrast2012 (2) | 0.535480 |
PaintCorrectionContrast2012 | 1.000000 |
PaintCorrectionDefringe | 0.000000 |
PaintCorrectionExposure2012 (1) | 0.071000 |
PaintCorrectionExposure2012 | 0.000000 |
PaintCorrectionHighlights2012 (2) | 0.625810 |
PaintCorrectionHighlights2012 | 0.019350 |
PaintCorrectionHue | 233.000000 |
PaintCorrectionLocalBlacks2012 (2) | -0.329030 |
PaintCorrectionLocalBlacks2012 | 0.000000 |
PaintCorrectionLocalDehaze (1) | -0.070970 |
PaintCorrectionLocalDehaze | 0.000000 |
PaintCorrectionLocalWhites2012 (1) | 0.200000 |
PaintCorrectionLocalWhites2012 (2) | 0.000000 |
PaintCorrectionLocalWhites2012 | 0.316130 |
PaintCorrectionLuminanceNoise | 0.000000 |
PaintCorrectionMaskCenterWeight (4) | 0.351120 |
PaintCorrectionMaskCenterWeight (9) | 0.050711 |
PaintCorrectionMaskCenterWeight | 0.033675 |
PaintCorrectionMaskFlow (12) | 0.653000 |
PaintCorrectionMaskFlow | 0.981000 |
PaintCorrectionMaskRadius (1) | 0.004691 |
PaintCorrectionMaskRadius (11) | 0.003794 |
PaintCorrectionMaskRadius (12) | 0.003795 |
PaintCorrectionMaskRadius (13) | 0.003793 |
PaintCorrectionMaskRadius (14) | 0.039808 |
PaintCorrectionMaskRadius (15) | 0.039861 |
PaintCorrectionMaskRadius (16) | 0.039419 |
PaintCorrectionMaskRadius (17) | 0.039505 |
PaintCorrectionMaskRadius (18) | 0.039511 |
PaintCorrectionMaskRadius (19) | 0.075894 |
PaintCorrectionMaskRadius (2) | 0.003354 |
PaintCorrectionMaskRadius (20) | 0.075745 |
PaintCorrectionMaskRadius (5) | 0.002066 |
PaintCorrectionMaskRadius (6) | 0.002065 |
PaintCorrectionMaskRadius (9) | 0.006160 |
PaintCorrectionMaskRadius | 0.075903 |
PaintCorrectionMaskValue (9) | 0.000000 |
PaintCorrectionMaskValue | 0.892000 |
PaintCorrectionMaskWhat | Mask/Paint |
PaintCorrectionMoire | 0.000000 |
PaintCorrectionSaturation | 0.000000 |
PaintCorrectionShadows2012 (1) | 0.677420 |
PaintCorrectionShadows2012 | 0.135480 |
PaintCorrectionSharpness | 0.032260 |
PaintCorrectionTemperature (2) | -0.509680 |
PaintCorrectionTemperature | 0.000000 |
PaintCorrectionTint | 0.000000 |
PaintCorrectionWhat | Correction |
ParametricDarks | -20 |
ParametricHighlights | -66 |
ParametricHighlightSplit | 75 |
ParametricLights | +18 |
ParametricMidtoneSplit | 50 |
ParametricShadows | +32 |
ParametricShadowSplit | 25 |
PerspectiveAspect | 0 |
PerspectiveHorizontal | 0 |
PerspectiveRotate | 0.0 |
PerspectiveScale | 100 |
PerspectiveUpright | 3 |
PerspectiveVertical | 0 |
PostCropVignetteAmount | 0 |
ProcessVersion | 6.7 |
ProfileDescription | sRGB IEC61966-2.1 |
RecommendedExposureIndex | 400 |
RedHue | 0 |
RedSaturation | 0 |
Rights | Thomas Ebeltoft |
ScaleFactor35efl | 1.8 |
SceneCaptureType | Standard |
SensitivityType | Recommended Exposure Index |
SerialNumber | 153026007290 |
Shadows2012 | +54 |
ShadowTint | 0 |
SharpenDetail | 25 |
SharpenEdgeMasking | 50 |
SharpenRadius | +1.0 |
Sharpness | 95 |
ShutterSpeed | 1/640 |
ShutterSpeedValue | 1/640 |
Software | Adobe Photoshop Lightroom 6.4 (Windows) |
SplitToningBalance | 0 |
SplitToningHighlightHue | 0 |
SplitToningHighlightSaturation | 0 |
SplitToningShadowHue | 0 |
SplitToningShadowSaturation | 0 |
Tint | +16 |
ToneCurve | 0, 0, 255, 255 |
ToneCurveBlue | 0, 0, 255, 255 |
ToneCurveGreen | 0, 0, 255, 255 |
ToneCurveName | Linear |
ToneCurveName2012 | Linear |
ToneCurvePV2012 | 0, 0, 255, 255 |
ToneCurvePV2012Blue | 0, 0, 255, 255 |
ToneCurvePV2012Green | 0, 0, 255, 255 |
ToneCurvePV2012Red | 0, 0, 255, 255 |
ToneCurveRed | 0, 0, 255, 255 |
ToneMapStrength | 0 |
Version | 9.4 |
VignetteAmount | 0 |
WhiteBalance (1) | Custom |
WhiteBalance | Auto |
Whites2012 | +45 |