Felt | Verdi |
AlreadyApplied | True |
Aperture | 2.8 |
ApertureValue | 2.8 |
ApproximateFocusDistance | 15 |
Artist | dpc.photo |
AutoLateralCA | 1 |
AutoWhiteVersion | 134348800 |
BitsPerSample (1) | 16 16 16 |
BitsPerSample | 8 |
Blacks2012 | -63 |
BlueHue | 0 |
BlueSaturation | +37 |
By-line | dpc.photo |
CameraProfile | Adobe Standard |
CFAPattern | [Red,Green][Green,Blue] |
CircleOfConfusion | 0.030 mm |
Clarity2012 | +10 |
ColorComponents | 3 |
ColorMode | RGB |
ColorNoiseReduction | 25 |
ColorNoiseReductionDetail | 50 |
ColorNoiseReductionSmoothness | 50 |
ColorSpace | sRGB |
ColorTemperature | 5250 |
ColorTransform | YCbCr |
Contrast | Normal |
Contrast2012 | -35 |
ConvertToGrayscale | False |
Copyright | dpc.photo |
CopyrightNotice | dpc.photo |
CreateDate | 2016:02:16 14:39:08 |
Creator | dpc.photo |
CreatorTool | Adobe Photoshop CC 2015 (Windows) |
CropAngle | 0 |
CropBottom | 0.969188 |
CropConstrainToWarp | 1 |
CropLeft | 0.145533 |
CropRight | 0.996418 |
CropTop | 0.022409 |
CustomRendered | Custom |
DateCreated (1) | 2016:02:16 |
DateCreated | 2016:02:16 14:39:08.005 |
DateTimeOriginal | 2016:02:16 14:39:08 |
DefringeGreenAmount | 0 |
DefringeGreenHueHi | 60 |
DefringeGreenHueLo | 40 |
DefringePurpleAmount | 0 |
DefringePurpleHueHi | 70 |
DefringePurpleHueLo | 30 |
DigitalZoomRatio | 1 |
DOF | 0.93 m (14.55 - 15.48 m) |
ExifImageHeight | 758 |
ExifImageWidth | 1024 |
Exposure2012 | +0.10 |
ExposureCompensation | 0 |
ExposureMode | Manual |
ExposureProgram | Manual |
ExposureTime | 1/250 |
Flash | No Flash |
FNumber | 2.8 |
FocalLength | 200.0 mm |
FocalLength35efl | 200.0 mm (35 mm equivalent: 200.0 mm) |
FocalLengthIn35mmFormat | 200 mm |
Format | image/jpeg |
FOV | 10.3 deg |
GainControl | None |
GrainAmount | 0 |
GreenHue | 0 |
GreenSaturation | -3 |
HasCrop | True |
HasExtendedXMP | 3D133397B30246A9290875A825EA589D |
HasSettings | True |
Highlights2012 | -100 |
HueAdjustmentAqua | 0 |
HueAdjustmentBlue | 0 |
HueAdjustmentGreen | 0 |
HueAdjustmentMagenta | 0 |
HueAdjustmentOrange | -2 |
HueAdjustmentPurple | 0 |
HueAdjustmentRed | 0 |
HueAdjustmentYellow | 0 |
HyperfocalDistance | 475.46 m |
ICCProfileName | sRGB IEC61966-2.1 |
ImageHeight (1) | 2681 |
ImageHeight | 758 |
ImageNumber | 28186 |
ImageSize | 1024x758 |
ImageWidth (1) | 3621 |
ImageWidth | 1024 |
ISO | 200 |
Label | Czerwony |
Lens | 70.0-200.0 mm f/2.8 |
LensID (1) | 162 |
LensID | AF-S Nikkor 70-200mm f/2.8G ED VR II |
LensInfo | 70-200mm f/2.8 |
LensManualDistortionAmount | +12 |
LensModel | 70.0-200.0 mm f/2.8 |
LensProfileChromaticAberrationScale | 100 |
LensProfileDistortionScale | 100 |
LensProfileEnable | 1 |
LensProfileFilename | NIKON D700 (Nikon AF-S NIKKOR 70-200mm f2.8G ED VR II) - RAW.lcp |
LensProfileName | Adobe (Nikon AF-S NIKKOR 70-200mm f/2.8G ED VR II) |
LensProfileSetup | LensDefaults |
LensProfileVignettingScale | 100 |
LightSource | Unknown |
LightValue | 9.9 |
LuminanceAdjustmentAqua | -7 |
LuminanceAdjustmentBlue | -7 |
LuminanceAdjustmentGreen | 0 |
LuminanceAdjustmentMagenta | 0 |
LuminanceAdjustmentOrange | 0 |
LuminanceAdjustmentPurple | 0 |
LuminanceAdjustmentRed | 0 |
LuminanceAdjustmentYellow | 0 |
LuminanceSmoothing | 0 |
Make | NIKON CORPORATION |
MaxApertureValue | 2.8 |
Megapixels | 0.776 |
MeteringMode | Multi-segment |
Model | NIKON D700 |
ModifyDate (1) | 2016:03:10 16:58:32+01:00 |
ModifyDate | 2016:03:10 16:58:32 |
Orientation | Horizontal (normal) |
PaintCorrectionActive | true |
PaintCorrectionAmount | 1.000000 |
PaintCorrectionBrightness | 0.000000 |
PaintCorrectionClarity2012 (1) | -0.662650 |
PaintCorrectionClarity2012 | 0.030000 |
PaintCorrectionContrast2012 | 0.000000 |
PaintCorrectionDefringe | 0.000000 |
PaintCorrectionExposure2012 (1) | -0.301250 |
PaintCorrectionExposure2012 | 0.025000 |
PaintCorrectionHighlights2012 (1) | -0.759040 |
PaintCorrectionHighlights2012 | 0.000000 |
PaintCorrectionHue | 0.000000 |
PaintCorrectionLuminanceNoise | 0.000000 |
PaintCorrectionMaskCenterWeight (15) | 0.032962 |
PaintCorrectionMaskCenterWeight | 0.027725 |
PaintCorrectionMaskFlow (18) | 0.592000 |
PaintCorrectionMaskFlow | 1.000000 |
PaintCorrectionMaskRadius (1) | 0.122016 |
PaintCorrectionMaskRadius (10) | 0.038594 |
PaintCorrectionMaskRadius (11) | 0.038498 |
PaintCorrectionMaskRadius (12) | 0.038372 |
PaintCorrectionMaskRadius (13) | 0.039611 |
PaintCorrectionMaskRadius (14) | 0.038340 |
PaintCorrectionMaskRadius (15) | 0.039308 |
PaintCorrectionMaskRadius (16) | 0.014261 |
PaintCorrectionMaskRadius (17) | 0.014259 |
PaintCorrectionMaskRadius (18) | 0.014253 |
PaintCorrectionMaskRadius (19) | 0.014240 |
PaintCorrectionMaskRadius (2) | 0.098527 |
PaintCorrectionMaskRadius (20) | 0.034081 |
PaintCorrectionMaskRadius (21) | 0.046787 |
PaintCorrectionMaskRadius (22) | 0.046797 |
PaintCorrectionMaskRadius (23) | 0.046688 |
PaintCorrectionMaskRadius (24) | 0.046694 |
PaintCorrectionMaskRadius (25) | 0.046722 |
PaintCorrectionMaskRadius (26) | 0.046700 |
PaintCorrectionMaskRadius (27) | 0.046640 |
PaintCorrectionMaskRadius (28) | 0.016359 |
PaintCorrectionMaskRadius (29) | 0.016335 |
PaintCorrectionMaskRadius (3) | 0.045462 |
PaintCorrectionMaskRadius (4) | 0.012106 |
PaintCorrectionMaskRadius (5) | 0.010389 |
PaintCorrectionMaskRadius (6) | 0.027210 |
PaintCorrectionMaskRadius (7) | 0.032580 |
PaintCorrectionMaskRadius (8) | 0.032695 |
PaintCorrectionMaskRadius (9) | 0.038464 |
PaintCorrectionMaskRadius | 0.027345 |
PaintCorrectionMaskValue (12) | 0.000000 |
PaintCorrectionMaskValue | 1.000000 |
PaintCorrectionMaskWhat | Mask/Paint |
PaintCorrectionMoire | 0.000000 |
PaintCorrectionSaturation (3) | -0.373490 |
PaintCorrectionSaturation | 0.000000 |
PaintCorrectionShadows2012 (1) | -0.445780 |
PaintCorrectionShadows2012 | 0.000000 |
PaintCorrectionSharpness | 0.000000 |
PaintCorrectionTemperature (1) | -0.180720 |
PaintCorrectionTemperature | 0.000000 |
PaintCorrectionTint | 0.000000 |
PaintCorrectionWhat | Correction |
ParametricDarks | +6 |
ParametricHighlights | +19 |
ParametricHighlightSplit | 75 |
ParametricLights | +12 |
ParametricMidtoneSplit | 50 |
ParametricShadows | +1 |
ParametricShadowSplit | 25 |
PerspectiveAspect | 0 |
PerspectiveHorizontal | 0 |
PerspectiveRotate | 0.0 |
PerspectiveScale | 100 |
PerspectiveUpright | 0 |
PerspectiveVertical | 0 |
PhotometricInterpretation | RGB |
PlanarConfiguration | Chunky |
PostCropVignetteAmount | -35 |
PostCropVignetteFeather | 50 |
PostCropVignetteHighlightContrast | 0 |
PostCropVignetteMidpoint | 50 |
PostCropVignetteRoundness | 0 |
PostCropVignetteStyle | 1 |
ProcessVersion | 6.7 |
ProfileDescription | sRGB IEC61966-2.1 |
Rating | 1 |
RedHue | 0 |
RedSaturation | -20 |
Rights | dpc.photo |
SamplesPerPixel | 3 |
Saturation (1) | 0 |
Saturation | Normal |
SaturationAdjustmentAqua | -7 |
SaturationAdjustmentBlue | -26 |
SaturationAdjustmentGreen | -100 |
SaturationAdjustmentMagenta | 0 |
SaturationAdjustmentOrange | 0 |
SaturationAdjustmentPurple | 0 |
SaturationAdjustmentRed | -13 |
SaturationAdjustmentYellow | +4 |
ScaleFactor35efl | 1.0 |
SceneCaptureType | Standard |
SceneType | Directly photographed |
SensingMethod | One-chip color area |
SerialNumber | 2000990 |
Shadows2012 | +12 |
ShadowTint | 0 |
SharpenDetail | 25 |
SharpenEdgeMasking | 76 |
SharpenRadius | +1.0 |
Sharpness (1) | 62 |
Sharpness | Normal |
ShutterSpeed | 1/250 |
ShutterSpeedValue | 1/250 |
Software | Adobe Photoshop CC 2015 (Windows) |
SplitToningBalance | -8 |
SplitToningHighlightHue | 64 |
SplitToningHighlightSaturation | 11 |
SplitToningShadowHue | 232 |
SplitToningShadowSaturation | 0 |
SubjectDistanceRange | Unknown |
Tint | 0 |
ToneCurve | 0, 0, 255, 255 |
ToneCurveBlue | 0, 0, 255, 255 |
ToneCurveGreen | 0, 0, 255, 255 |
ToneCurveName | Linear |
ToneCurveName2012 | Linear |
ToneCurvePV2012 | 0, 0, 255, 255 |
ToneCurvePV2012Blue | 0, 0, 255, 255 |
ToneCurvePV2012Green | 0, 0, 255, 255 |
ToneCurvePV2012Red | 0, 0, 255, 255 |
ToneCurveRed | 0, 0, 255, 255 |
URL_List | |
Version | 8.7.1 |
Vibrance | +10 |
VignetteAmount | 0 |
WhiteBalance (1) | Custom |
WhiteBalance | Auto |
Whites2012 | +25 |