Felt | Verdi |
AlreadyApplied | True |
Aperture | 4.8 |
ApertureValue | 4.8 |
ApproximateFocusDistance | 26.6 |
Artist | ANDERS SCHAU |
AutoLateralCA | 0 |
AutoWhiteVersion | 134348800 |
BitsPerSample | 8 |
Blacks2012 | +13 |
BlueHue | 0 |
BlueSaturation | 0 |
By-line | ANDERS SCHAU |
CameraProfile | Adobe Standard |
CFAPattern | [Red,Green][Green,Blue] |
CircleOfConfusion | 0.030 mm |
Clarity2012 | +50 |
ColorComponents | 3 |
ColorNoiseReduction | 25 |
ColorNoiseReductionDetail | 50 |
ColorNoiseReductionSmoothness | 50 |
ColorTemperature | 6250 |
ColorTransform | YCbCr |
Contrast | Normal |
Contrast2012 | +33 |
ConvertToGrayscale | True |
Copyright | ANDERS SCHAU |
CopyrightNotice | ANDERS SCHAU |
CreateDate (1) | 2016:03:15 16:50:44.11 |
CreateDate | 2016:03:15 16:50:44 |
Creator | ANDERS SCHAU |
CreatorTool | Adobe Photoshop Lightroom 5.6 (Macintosh) |
CropAngle | -0.081626 |
CropBottom | 0.566671 |
CropConstrainToWarp | 0 |
CropLeft | 0.28026 |
CropRight | 0.67441 |
CropTop | 0.000878 |
CustomRendered | Normal |
DateCreated (1) | 2016:03:15 |
DateCreated | 2016:03:15 16:50:44.11 |
DateTimeOriginal | 2016:03:15 16:50:44 |
DigitalZoomRatio | 1 |
DOF | 5.38 m (24.18 - 29.56 m) |
Exposure2012 | +0.50 |
ExposureCompensation | 0 |
ExposureMode | Auto |
ExposureProgram | Aperture-priority AE |
ExposureTime | 1/20 |
Flash | No Flash |
FNumber | 4.8 |
FocalLength | 195.0 mm |
FocalLength35efl | 195.0 mm (35 mm equivalent: 195.0 mm) |
FocalLengthIn35mmFormat | 195 mm |
Format | image/jpeg |
FOV | 10.5 deg |
GainControl | None |
GrainAmount | 0 |
GrayMixerAqua | -18 |
GrayMixerBlue | +11 |
GrayMixerGreen | -28 |
GrayMixerMagenta | +4 |
GrayMixerOrange | -20 |
GrayMixerPurple | +17 |
GrayMixerRed | -11 |
GrayMixerYellow | -24 |
GreenHue | 0 |
GreenSaturation | 0 |
HasCrop | True |
HasSettings | True |
Highlights2012 | -100 |
HyperfocalDistance | 263.66 m |
ImageHeight | 1962 |
ImageNumber | 142624 |
ImageSize | 2048x1962 |
ImageWidth | 2048 |
ISO | 100 |
Lens | 70.0-300.0 mm f/4.0-5.6 |
LensID (1) | 224 |
LensID | Sigma 70-300mm F4-5.6 APO DG Macro HSM |
LensInfo | 70-300mm f/4-5.6 |
LensManualDistortionAmount | 0 |
LensModel | 70.0-300.0 mm f/4.0-5.6 |
LensProfileEnable | 0 |
LensProfileSetup | LensDefaults |
LightSource | Unknown |
LightValue | 8.8 |
LuminanceSmoothing | 0 |
Make | NIKON CORPORATION |
MaxApertureValue | 4.8 |
Megapixels | 4.0 |
MeteringMode | Multi-segment |
Model | NIKON D3 |
ModifyDate (1) | 2016:03:21 12:41:47+01:00 |
ModifyDate | 2016:03:21 12:41:47 |
ParametricDarks | 0 |
ParametricHighlights | 0 |
ParametricHighlightSplit | 75 |
ParametricLights | 0 |
ParametricMidtoneSplit | 50 |
ParametricShadows | 0 |
ParametricShadowSplit | 25 |
PerspectiveAspect | 0 |
PerspectiveHorizontal | 0 |
PerspectiveRotate | 0.0 |
PerspectiveScale | 100 |
PerspectiveUpright | 0 |
PerspectiveVertical | 0 |
PostCropVignetteAmount | 0 |
ProcessVersion | 6.7 |
ProfileDescription | sRGB IEC61966-2.1 |
RedHue | 0 |
RedSaturation | 0 |
Rights | ANDERS SCHAU |
Saturation | Normal |
ScaleFactor35efl | 1.0 |
SceneCaptureType | Standard |
SceneType | Directly photographed |
SensingMethod | One-chip color area |
SerialNumber | 2013038 |
Shadows2012 | +37 |
ShadowTint | 0 |
SharpenDetail | 25 |
SharpenEdgeMasking | 0 |
SharpenRadius | +1.0 |
Sharpness (1) | 25 |
Sharpness | Hard |
ShutterSpeed | 1/20 |
ShutterSpeedValue | 1/20 |
Software | Adobe Photoshop Lightroom 5.6 (Macintosh) |
SplitToningBalance | 0 |
SplitToningHighlightHue | 0 |
SplitToningHighlightSaturation | 0 |
SplitToningShadowHue | 0 |
SplitToningShadowSaturation | 0 |
SubjectDistanceRange | Unknown |
Tint | -6 |
ToneCurve | 0, 0, 255, 255 |
ToneCurveBlue | 0, 0, 255, 255 |
ToneCurveGreen | 0, 0, 255, 255 |
ToneCurveName | Linear |
ToneCurveName2012 | Linear |
ToneCurvePV2012 | 0, 0, 255, 255 |
ToneCurvePV2012Blue | 0, 0, 255, 255 |
ToneCurvePV2012Green | 0, 0, 255, 255 |
ToneCurvePV2012Red | 0, 0, 255, 255 |
ToneCurveRed | 0, 0, 255, 255 |
Version | 8.6 |
VignetteAmount | 0 |
WhiteBalance (1) | As Shot |
WhiteBalance | Manual |
Whites2012 | -33 |