Felt | Verdi |
AlreadyApplied | True |
Aperture | 4.0 |
ApertureValue | 4.0 |
ApproximateFocusDistance | 4.47 |
Artist | Anders |
AutoLateralCA | 0 |
AutoWhiteVersion | 134348800 |
BitsPerSample | 8 |
Blacks2012 | +100 |
BlueHue | 0 |
BlueSaturation | 0 |
By-line | Anders |
CameraProfile | Adobe Standard |
Clarity2012 | +56 |
ColorComponents | 3 |
ColorNoiseReduction | 25 |
ColorNoiseReductionDetail | 50 |
ColorNoiseReductionSmoothness | 50 |
ColorSpace | sRGB |
ColorTemperature | 4992 |
ColorTransform | YCbCr |
Contrast2012 | +40 |
ConvertToGrayscale | False |
Copyright | Anders |
CopyrightNotice | Anders |
CreateDate (1) | 2016:03:26 13:30:23.00 |
CreateDate | 2016:03:26 13:30:23 |
Creator | Anders |
CreatorTool | Adobe Photoshop Lightroom 5.7.1 (Windows) |
CropAngle | 0 |
CropBottom | 0.838577 |
CropConstrainToWarp | 0 |
CropLeft | 0.082042 |
CropRight | 1 |
CropTop | 0.259918 |
CustomRendered | Normal |
DateCreated (1) | 2016:03:26 |
DateCreated | 2016:03:26 13:30:23.00 |
DateTimeOriginal | 2016:03:26 13:30:23 |
DefringeGreenAmount | 0 |
DefringeGreenHueHi | 60 |
DefringeGreenHueLo | 40 |
DefringePurpleAmount | 0 |
DefringePurpleHueHi | 70 |
DefringePurpleHueLo | 30 |
Exposure2012 | 0.00 |
ExposureCompensation | 0 |
ExposureMode | Manual |
ExposureProgram | Manual |
ExposureTime | 1/250 |
Firmware | 1.2.3 |
Flash | Off, Did not fire |
FlashCompensation | 0 |
FNumber | 4.0 |
FocalLength | 24.0 mm |
FocalLength35efl | 24.0 mm |
Format | image/jpeg |
GrainAmount | 0 |
GreenHue | 0 |
GreenSaturation | 0 |
HasCrop | True |
HasSettings | True |
Highlights2012 | -100 |
HueAdjustmentAqua | 0 |
HueAdjustmentBlue | 0 |
HueAdjustmentGreen | 0 |
HueAdjustmentMagenta | 0 |
HueAdjustmentOrange | 0 |
HueAdjustmentPurple | 0 |
HueAdjustmentRed | 0 |
HueAdjustmentYellow | 0 |
ImageHeight | 2222 |
ImageNumber | 0 |
ImageSize | 5287x2222 |
ImageWidth | 5287 |
ISO | 100 |
Lens | EF24-105mm f/4L IS USM |
LensID (1) | 237 |
LensID | Canon EF 24-105mm f/4L IS USM |
LensInfo | 24-105mm f/? |
LensManualDistortionAmount | 0 |
LensModel | EF24-105mm f/4L IS USM |
LensProfileEnable | 0 |
LensProfileSetup | LensDefaults |
LensSerialNumber | 000060e704 |
LightValue | 12.0 |
LuminanceAdjustmentAqua | 0 |
LuminanceAdjustmentBlue | 0 |
LuminanceAdjustmentGreen | 0 |
LuminanceAdjustmentMagenta | 0 |
LuminanceAdjustmentOrange | 0 |
LuminanceAdjustmentPurple | 0 |
LuminanceAdjustmentRed | 0 |
LuminanceAdjustmentYellow | 0 |
LuminanceSmoothing | 0 |
Make | Canon |
MaxApertureValue | 4.0 |
Megapixels | 11.7 |
MeteringMode | Center-weighted average |
Model | Canon EOS 5D Mark III |
ModifyDate (1) | 2016:03:26 16:53:03+01:00 |
ModifyDate | 2016:03:26 16:53:03 |
ParametricDarks | 0 |
ParametricHighlights | 0 |
ParametricHighlightSplit | 75 |
ParametricLights | 0 |
ParametricMidtoneSplit | 50 |
ParametricShadows | 0 |
ParametricShadowSplit | 25 |
PerspectiveAspect | 0 |
PerspectiveHorizontal | 0 |
PerspectiveRotate | 0.0 |
PerspectiveScale | 100 |
PerspectiveUpright | 0 |
PerspectiveVertical | 0 |
PostCropVignetteAmount | 0 |
ProcessVersion | 6.7 |
ProfileDescription | sRGB IEC61966-2.1 |
RecommendedExposureIndex | 100 |
RedHue | 0 |
RedSaturation | 0 |
Rights | Anders |
Saturation | -50 |
SaturationAdjustmentAqua | 0 |
SaturationAdjustmentBlue | 0 |
SaturationAdjustmentGreen | 0 |
SaturationAdjustmentMagenta | 0 |
SaturationAdjustmentOrange | 0 |
SaturationAdjustmentPurple | 0 |
SaturationAdjustmentRed | 0 |
SaturationAdjustmentYellow | 0 |
SceneCaptureType | Standard |
SensitivityType | Recommended Exposure Index |
SerialNumber | 263021000040 |
Shadows2012 | +100 |
ShadowTint | 0 |
SharpenDetail | 25 |
SharpenEdgeMasking | 0 |
SharpenRadius | +1.0 |
Sharpness | 25 |
ShutterSpeed | 1/250 |
ShutterSpeedValue | 1/250 |
Software | Adobe Photoshop Lightroom 5.7.1 (Windows) |
SplitToningBalance | 0 |
SplitToningHighlightHue | 0 |
SplitToningHighlightSaturation | 0 |
SplitToningShadowHue | 0 |
SplitToningShadowSaturation | 0 |
Tint | +15 |
ToneCurve | 0, 0, 255, 255 |
ToneCurveBlue | 0, 0, 255, 255 |
ToneCurveGreen | 0, 0, 255, 255 |
ToneCurveName | Linear |
ToneCurveName2012 | Linear |
ToneCurvePV2012 | 0, 0, 255, 255 |
ToneCurvePV2012Blue | 0, 0, 255, 255 |
ToneCurvePV2012Green | 0, 0, 255, 255 |
ToneCurvePV2012Red | 0, 0, 255, 255 |
ToneCurveRed | 0, 0, 255, 255 |
Version | 8.7.1 |
Vibrance | +100 |
VignetteAmount | 0 |
WhiteBalance (1) | Custom |
WhiteBalance | Auto |
Whites2012 | -100 |