Felt | Verdi |
2016-03-25T23:41:05+01:00 File _E2B8427.psd saved
2016-03-26T00:24:51+01:00 File _E2B8427.psd saved
2016-03-26T00:52:59+01:00 File _E2B8427.psd saved
2016-03-26T02:27:20+01:00 File _E2B8427.psd opened
2016-03-26T03:08:55+01:00 File _E2B8427.psd saved
2016-03-26T03:22:05+01:00 File _E2B8427.jpg saved
AlreadyApplied | True |
Aperture | 8.0 |
ApertureValue | 8.0 |
ApproximateFocusDistance | 0.48 |
Artist | Saulius Budrikis psauliusbudrikis@yahoo.com |
AutoLateralCA | 1 |
AutoWhiteVersion | 134348800 |
BitsPerSample | 8 |
Blacks2012 | +34 |
BlueHue | -7 |
BlueSaturation | +28 |
By-line | Saulius Budrikis psauliusbudriki |
CameraProfile | Adobe Standard |
CircleOfConfusion | 0.025 mm |
Clarity2012 | 0 |
ColorComponents | 3 |
ColorMode | RGB |
ColorNoiseReduction | 25 |
ColorNoiseReductionDetail | 50 |
ColorNoiseReductionSmoothness | 50 |
ColorSpace | Uncalibrated |
ColorTemperature | 6750 |
ColorTransform | YCbCr |
Contrast2012 | -2 |
ConvertToGrayscale | False |
CreateDate | 2016:03:25 18:44:23 |
Creator | Saulius Budrikis psauliusbudrikis@yahoo.com |
CreatorTool | Adobe Photoshop CC (Macintosh) |
CropAngle | 2.731306 |
CropBottom | 1 |
CropConstrainToWarp | 1 |
CropLeft | 0.048231 |
CropRight | 0.951769 |
CropTop | 0 |
CustomRendered | Normal |
DateCreated (1) | 2016:03:25 |
DateCreated | 2016:03:25 18:44:23.086 |
DateTimeOriginal | 2016:03:25 18:44:23 |
DefringeGreenAmount | 0 |
DefringeGreenHueHi | 60 |
DefringeGreenHueLo | 40 |
DefringePurpleAmount | 0 |
DefringePurpleHueHi | 70 |
DefringePurpleHueLo | 30 |
Dehaze | 0 |
DistortionCorrectionAlreadyApplied | True |
DOF | 0.41 m (0.35 - 0.76 m) |
ExifImageHeight | 3247 |
ExifImageWidth | 4829 |
Exposure2012 | -0.55 |
ExposureCompensation | 0 |
ExposureMode | Manual |
ExposureProgram | Manual |
ExposureTime | 1/100 |
Firmware | 1.3.3 |
Flash | Off, Did not fire |
FlashCompensation | 0 |
FNumber | 8.0 |
FocalLength | 16.0 mm |
FocalLength35efl | 16.0 mm (35 mm equivalent: 19.0 mm) |
Format | image/jpeg |
FOV | 86.8 deg |
GrainAmount | 0 |
GreenHue | +13 |
GreenSaturation | -16 |
HasCrop | True |
HasSettings | True |
Highlights2012 | +3 |
HueAdjustmentAqua | -9 |
HueAdjustmentBlue | -19 |
HueAdjustmentGreen | 0 |
HueAdjustmentMagenta | 0 |
HueAdjustmentOrange | -5 |
HueAdjustmentPurple | -14 |
HueAdjustmentRed | +48 |
HueAdjustmentYellow | -98 |
HyperfocalDistance | 1.27 m |
ICCProfileName | Adobe RGB (1998) |
ImageHeight | 3247 |
ImageNumber | 0 |
ImageSize | 4829x3247 |
ImageWidth | 4829 |
ISO | 200 |
LateralChromaticAberrationCorrectionAlreadyApplied | True |
Lens | EF16-35mm f/2.8L II USM |
LensID (1) | 246 |
LensID | Canon EF 16-35mm f/2.8L II USM |
LensInfo | 16-35mm f/? |
LensManualDistortionAmount | 0 |
LensModel | EF16-35mm f/2.8L II USM |
LensProfileChromaticAberrationScale | 100 |
LensProfileDistortionScale | 100 |
LensProfileEnable | 1 |
LensProfileFilename | Canon EOS 5D Mark II (Canon EF 16-35mm f2.8 L II USM) - RAW.lcp |
LensProfileName | Adobe (Canon EF 16-35mm f/2.8 L II USM) |
LensProfileSetup | LensDefaults |
LensProfileVignettingScale | 100 |
LensSerialNumber | 000084ffe3 |
LightValue | 11.6 |
LuminanceAdjustmentAqua | +1 |
LuminanceAdjustmentBlue | +21 |
LuminanceAdjustmentGreen | 0 |
LuminanceAdjustmentMagenta | +12 |
LuminanceAdjustmentOrange | +8 |
LuminanceAdjustmentPurple | 0 |
LuminanceAdjustmentRed | +8 |
LuminanceAdjustmentYellow | +13 |
LuminanceSmoothing | 0 |
Make | Canon |
MaxApertureValue | 2.8 |
Megapixels | 15.7 |
MeteringMode | Multi-segment |
Model | Canon EOS 5D Mark III |
ModifyDate (1) | 2016:03:26 03:22:05+01:00 |
ModifyDate | 2016:03:26 03:22:05 |
Orientation | Horizontal (normal) |
ParametricDarks | -15 |
ParametricHighlights | -33 |
ParametricHighlightSplit | 75 |
ParametricLights | +26 |
ParametricMidtoneSplit | 50 |
ParametricShadows | +17 |
ParametricShadowSplit | 10 |
PerspectiveAspect | 0 |
PerspectiveHorizontal | 0 |
PerspectiveRotate | 0.0 |
PerspectiveScale | 100 |
PerspectiveUpright | 0 |
PerspectiveVertical | 0 |
PostCropVignetteAmount | 0 |
ProcessVersion | 6.7 |
ProfileDescription | Adobe RGB (1998) |
Rating | 0 |
RawFileName | _E2B8427.CR2 |
RecommendedExposureIndex | 200 |
RedHue | +15 |
RedSaturation | +10 |
Saturation | +27 |
SaturationAdjustmentAqua | +21 |
SaturationAdjustmentBlue | -27 |
SaturationAdjustmentGreen | 0 |
SaturationAdjustmentMagenta | -19 |
SaturationAdjustmentOrange | +14 |
SaturationAdjustmentPurple | -19 |
SaturationAdjustmentRed | +8 |
SaturationAdjustmentYellow | -28 |
ScaleFactor35efl | 1.2 |
SceneCaptureType | Standard |
SensitivityType | Recommended Exposure Index |
SerialNumber | 053024014182 |
Shadows2012 | +41 |
ShadowTint | +14 |
SharpenDetail | 25 |
SharpenEdgeMasking | 0 |
SharpenRadius | +1.0 |
Sharpness | 25 |
ShutterSpeed | 1/100 |
ShutterSpeedValue | 1/100 |
Software | Adobe Photoshop CC (Macintosh) |
SplitToningBalance | +12 |
SplitToningHighlightHue | 50 |
SplitToningHighlightSaturation | 13 |
SplitToningShadowHue | 206 |
SplitToningShadowSaturation | 3 |
Tint | -2 |
ToneCurve | 0, 0, 32, 22, 64, 56, 128, 128, 192, 196, 255, 255 |
ToneCurveBlue | 0, 0, 255, 255 |
ToneCurveGreen | 0, 0, 255, 255 |
ToneCurveName | Medium Contrast |
ToneCurveName2012 | Linear |
ToneCurvePV2012 | 0, 0, 255, 255 |
ToneCurvePV2012Blue | 0, 0, 255, 255 |
ToneCurvePV2012Green | 0, 0, 255, 255 |
ToneCurvePV2012Red | 0, 0, 255, 255 |
ToneCurveRed | 0, 0, 255, 255 |
ToneMapStrength | 0 |
URL_List | |
Version | 9.4 |
Vibrance | -30 |
VignetteAmount | 0 |
VignetteCorrectionAlreadyApplied | True |
WhiteBalance (1) | Custom |
WhiteBalance | Manual |
Whites2012 | +36 |