Felt | Verdi |
2016-04-03T20:37:23+02:00 File _E2B8575 as Smart Object-1.jpg saved
AlreadyApplied | True |
Aperture | 3.2 |
ApertureValue | 3.2 |
ApproximateFocusDistance | 1.63 |
Artist | Saulius Budrikis psauliusbudrikis@yahoo.com |
AutoLateralCA | 1 |
AutoWhiteVersion | 134348800 |
BitsPerSample | 8 |
Blacks2012 | +57 |
BlueHue | +7 |
BlueSaturation | -21 |
By-line | Saulius Budrikis psauliusbudriki |
CameraProfile | Camera Standard |
CircleOfConfusion | 0.011 mm |
Clarity2012 | +30 |
ColorComponents | 3 |
ColorMode | RGB |
ColorNoiseReduction | 25 |
ColorNoiseReductionDetail | 50 |
ColorNoiseReductionSmoothness | 50 |
ColorSpace | Uncalibrated |
ColorTemperature | 3350 |
ColorTransform | YCbCr |
Contrast2012 | -36 |
ConvertToGrayscale | False |
CreateDate | 2016:04:02 16:32:25 |
Creator | Saulius Budrikis psauliusbudrikis@yahoo.com |
CustomRendered | Normal |
DateCreated (1) | 2016:04:02 |
DateCreated | 2016:04:02 16:32:25.035 |
DateTimeOriginal | 2016:04:02 16:32:25 |
DefringeGreenAmount | 0 |
DefringeGreenHueHi | 60 |
DefringeGreenHueLo | 40 |
DefringePurpleAmount | 0 |
DefringePurpleHueHi | 70 |
DefringePurpleHueLo | 30 |
Dehaze | 0 |
DistortionCorrectionAlreadyApplied | True |
DOF | 0.26 m (1.51 - 1.77 m) |
ExifImageHeight | 2178 |
ExifImageWidth | 1440 |
Exposure2012 | -1.10 |
ExposureCompensation | 0 |
ExposureMode | Manual |
ExposureProgram | Manual |
ExposureTime | 1/20 |
Firmware | 1.3.3 |
Flash | On, Fired |
FlashCompensation | 0 |
FNumber | 3.2 |
FocalLength | 27.0 mm |
FocalLength35efl | 27.0 mm (35 mm equivalent: 71.6 mm) |
Format | image/jpeg |
FOV | 28.2 deg |
GrainAmount | 0 |
GreenHue | +2 |
GreenSaturation | +38 |
HasCrop | False |
HasSettings | True |
Highlights2012 | -23 |
HueAdjustmentAqua | -2 |
HueAdjustmentBlue | -13 |
HueAdjustmentGreen | 0 |
HueAdjustmentMagenta | +3 |
HueAdjustmentOrange | -48 |
HueAdjustmentPurple | -38 |
HueAdjustmentRed | +1 |
HueAdjustmentYellow | -3 |
HyperfocalDistance | 20.10 m |
ICCProfileName | Adobe RGB (1998) |
ImageHeight | 2178 |
ImageNumber | 0 |
ImageSize | 1440x2178 |
ImageWidth | 1440 |
ISO | 800 |
LateralChromaticAberrationCorrectionAlreadyApplied | True |
Lens | EF16-35mm f/2.8L II USM |
LensID (1) | 246 |
LensID | Canon EF 16-35mm f/2.8L II USM |
LensInfo | 16-35mm f/? |
LensManualDistortionAmount | 0 |
LensModel | EF16-35mm f/2.8L II USM |
LensProfileChromaticAberrationScale | 100 |
LensProfileDistortionScale | 100 |
LensProfileEnable | 1 |
LensProfileFilename | Canon EOS 5D Mark II (Canon EF 16-35mm f2.8 L II USM) - RAW.lcp |
LensProfileName | Adobe (Canon EF 16-35mm f/2.8 L II USM) |
LensProfileSetup | LensDefaults |
LensProfileVignettingScale | 100 |
LensSerialNumber | 000084ffe3 |
LightValue | 4.7 |
LuminanceAdjustmentAqua | -2 |
LuminanceAdjustmentBlue | +53 |
LuminanceAdjustmentGreen | -4 |
LuminanceAdjustmentMagenta | 0 |
LuminanceAdjustmentOrange | -60 |
LuminanceAdjustmentPurple | 0 |
LuminanceAdjustmentRed | -15 |
LuminanceAdjustmentYellow | -5 |
LuminanceSmoothing | 0 |
Make | Canon |
MaxApertureValue | 2.8 |
Megapixels | 3.1 |
MeteringMode | Partial |
Model | Canon EOS 5D Mark III |
ModifyDate (1) | 2016:04:03 20:37:23+02:00 |
ModifyDate | 2016:04:03 20:37:23 |
Orientation | Horizontal (normal) |
ParametricDarks | +18 |
ParametricHighlights | -28 |
ParametricHighlightSplit | 75 |
ParametricLights | +10 |
ParametricMidtoneSplit | 50 |
ParametricShadows | -15 |
ParametricShadowSplit | 10 |
PerspectiveAspect | 0 |
PerspectiveHorizontal | 0 |
PerspectiveRotate | 0.0 |
PerspectiveScale | 100 |
PerspectiveUpright | 0 |
PerspectiveVertical | 0 |
PostCropVignetteAmount | 0 |
ProcessVersion | 6.7 |
ProfileDescription | Adobe RGB (1998) |
Rating | 0 |
RawFileName | _E2B8575.CR2 |
RecommendedExposureIndex | 800 |
RedHue | +48 |
RedSaturation | +53 |
Saturation | -24 |
SaturationAdjustmentAqua | -100 |
SaturationAdjustmentBlue | -42 |
SaturationAdjustmentGreen | 0 |
SaturationAdjustmentMagenta | 0 |
SaturationAdjustmentOrange | 0 |
SaturationAdjustmentPurple | +6 |
SaturationAdjustmentRed | -3 |
SaturationAdjustmentYellow | 0 |
ScaleFactor35efl | 2.7 |
SceneCaptureType | Standard |
SensitivityType | Recommended Exposure Index |
SerialNumber | 053024014182 |
Shadows2012 | +77 |
ShadowTint | -6 |
SharpenDetail | 25 |
SharpenEdgeMasking | 0 |
SharpenRadius | +1.0 |
Sharpness | 25 |
ShutterSpeed | 1/20 |
ShutterSpeedValue | 1/20 |
Software | Adobe Photoshop CC (Macintosh) |
SplitToningBalance | 0 |
SplitToningHighlightHue | 0 |
SplitToningHighlightSaturation | 0 |
SplitToningShadowHue | 0 |
SplitToningShadowSaturation | 0 |
Tint | -11 |
ToneCurve | 0, 0, 32, 22, 64, 56, 128, 128, 192, 196, 255, 255 |
ToneCurveBlue | 0, 0, 255, 255 |
ToneCurveGreen | 0, 0, 255, 255 |
ToneCurveName | Medium Contrast |
ToneCurveName2012 | Linear |
ToneCurvePV2012 | 0, 0, 255, 255 |
ToneCurvePV2012Blue | 0, 0, 255, 255 |
ToneCurvePV2012Green | 0, 0, 255, 255 |
ToneCurvePV2012Red | 0, 0, 255, 255 |
ToneCurveRed | 0, 0, 255, 255 |
ToneMapStrength | 0 |
URL_List | |
Version | 9.4 |
Vibrance | +40 |
VignetteAmount | 0 |
VignetteCorrectionAlreadyApplied | True |
WhiteBalance (1) | Custom |
WhiteBalance | Manual |
Whites2012 | -58 |