Felt | Verdi |
2016-04-08T23:02:13+02:00 File _E2B8684 as Smart Object-1 closed
2016-04-09T00:04:49+02:00 File _E2B8684-3.jpg saved
AlreadyApplied | True |
Aperture | 2.8 |
ApertureValue | 2.8 |
ApproximateFocusDistance | 0.94 |
Artist | Saulius Budrikis psauliusbudrikis@yahoo.com |
AutoLateralCA | 0 |
AutoWhiteVersion | 134348800 |
BitsPerSample (1) | 8 8 8 |
BitsPerSample | 8 |
Blacks2012 | +27 |
BlueHue | +23 |
BlueSaturation | -81 |
By-line | Saulius Budrikis psauliusbudriki |
CameraProfile | Camera Standard |
CircleOfConfusion | 0.037 mm |
Clarity2012 | 0 |
ColorComponents | 3 |
ColorMode | RGB |
ColorNoiseReduction | 25 |
ColorNoiseReductionDetail | 50 |
ColorNoiseReductionSmoothness | 50 |
ColorSpace | Uncalibrated |
ColorTemperature | 4350 |
ColorTransform | YCbCr |
Contrast2012 | -62 |
ConvertToGrayscale | False |
CreateDate | 2016:04:08 16:21:27 |
Creator | Saulius Budrikis psauliusbudrikis@yahoo.com |
CreatorTool | Adobe Photoshop CC (Macintosh) |
CustomRendered | Normal |
DateCreated (1) | 2016:04:08 |
DateCreated | 2016:04:08 16:21:27 |
DateTimeOriginal | 2016:04:08 16:21:27 |
DefringeGreenAmount | 0 |
DefringeGreenHueHi | 60 |
DefringeGreenHueLo | 40 |
DefringePurpleAmount | 0 |
DefringePurpleHueHi | 70 |
DefringePurpleHueLo | 30 |
Dehaze | 0 |
DOF | 0.82 m (0.68 - 1.51 m) |
ExifImageHeight | 3840 |
ExifImageWidth | 7652 |
Exposure2012 | -1.50 |
ExposureCompensation | 0 |
ExposureMode | Manual |
ExposureProgram | Manual |
ExposureTime | 1/60 |
Firmware | 1.3.3 |
Flash | On, Fired |
FlashCompensation | 0 |
FNumber | 2.8 |
FocalLength | 16.0 mm |
FocalLength35efl | 16.0 mm (35 mm equivalent: 12.9 mm) |
Format | image/jpeg |
FOV | 108.6 deg |
GrainAmount | 0 |
GreenHue | +1 |
GreenSaturation | -48 |
HasCrop | False |
HasSettings | True |
Highlights2012 | -23 |
HueAdjustmentAqua | +30 |
HueAdjustmentBlue | -13 |
HueAdjustmentGreen | +2 |
HueAdjustmentMagenta | +3 |
HueAdjustmentOrange | +11 |
HueAdjustmentPurple | -44 |
HueAdjustmentRed | 0 |
HueAdjustmentYellow | -94 |
HyperfocalDistance | 2.46 m |
ICCProfileName | Adobe RGB (1998) |
ImageHeight | 3840 |
ImageNumber | 0 |
ImageSize | 7652x3840 |
ImageWidth | 7652 |
ISO | 800 |
Lens | EF16-35mm f/2.8L II USM |
LensID (1) | 246 |
LensID | Canon EF 16-35mm f/2.8L II USM |
LensInfo | 16-35mm f/? |
LensManualDistortionAmount | 0 |
LensModel | EF16-35mm f/2.8L II USM |
LensProfileEnable | 0 |
LensProfileSetup | LensDefaults |
LensSerialNumber | 000084ffe3 |
LightValue | 5.9 |
LuminanceAdjustmentAqua | 0 |
LuminanceAdjustmentBlue | +2 |
LuminanceAdjustmentGreen | -3 |
LuminanceAdjustmentMagenta | +14 |
LuminanceAdjustmentOrange | +89 |
LuminanceAdjustmentPurple | +9 |
LuminanceAdjustmentRed | +25 |
LuminanceAdjustmentYellow | 0 |
LuminanceSmoothing | 0 |
Make | Canon |
MaxApertureValue | 2.8 |
Megapixels | 29.4 |
MeteringMode | Partial |
Model | Canon EOS 5D Mark III |
ModifyDate (1) | 2016:04:18 21:04:02+02:00 |
ModifyDate | 2016:04:18 21:04:02 |
Orientation | Horizontal (normal) |
ParametricDarks | 0 |
ParametricHighlights | 0 |
ParametricHighlightSplit | 75 |
ParametricLights | 0 |
ParametricMidtoneSplit | 50 |
ParametricShadows | 0 |
ParametricShadowSplit | 25 |
PerspectiveAspect | 0 |
PerspectiveHorizontal | 0 |
PerspectiveRotate | 0.0 |
PerspectiveScale | 100 |
PerspectiveUpright | 0 |
PerspectiveVertical | 0 |
PhotometricInterpretation | RGB |
PostCropVignetteAmount | 0 |
ProcessVersion | 6.7 |
ProfileDescription | Adobe RGB (1998) |
Rating | 0 |
RawFileName | _E2B8684.CR2 |
RecommendedExposureIndex | 800 |
RedHue | +21 |
RedSaturation | +8 |
SamplesPerPixel | 3 |
Saturation | 0 |
SaturationAdjustmentAqua | -2 |
SaturationAdjustmentBlue | -2 |
SaturationAdjustmentGreen | +13 |
SaturationAdjustmentMagenta | -13 |
SaturationAdjustmentOrange | 0 |
SaturationAdjustmentPurple | -14 |
SaturationAdjustmentRed | 0 |
SaturationAdjustmentYellow | -76 |
ScaleFactor35efl | 0.8 |
SceneCaptureType | Standard |
SensitivityType | Recommended Exposure Index |
SerialNumber | 053024014182 |
Shadows2012 | +43 |
ShadowTint | +6 |
SharpenDetail | 30 |
SharpenEdgeMasking | 72 |
SharpenRadius | +0.6 |
Sharpness | 24 |
ShutterSpeed | 1/60 |
ShutterSpeedValue | 1/60 |
Software | Adobe Photoshop CC (Macintosh) |
SplitToningBalance | +15 |
SplitToningHighlightHue | 44 |
SplitToningHighlightSaturation | 27 |
SplitToningShadowHue | 195 |
SplitToningShadowSaturation | 11 |
Tint | +4 |
ToneCurve | 0, 0, 32, 22, 64, 56, 128, 128, 192, 196, 255, 255 |
ToneCurveBlue | 0, 0, 255, 255 |
ToneCurveGreen | 0, 0, 255, 255 |
ToneCurveName | Medium Contrast |
ToneCurveName2012 | Linear |
ToneCurvePV2012 | 0, 0, 255, 255 |
ToneCurvePV2012Blue | 0, 0, 255, 255 |
ToneCurvePV2012Green | 0, 0, 255, 255 |
ToneCurvePV2012Red | 0, 0, 255, 255 |
ToneCurveRed | 0, 0, 255, 255 |
ToneMapStrength | 0 |
URL_List | |
Version | 9.4 |
Vibrance | 0 |
VignetteAmount | 0 |
WhiteBalance (1) | Custom |
WhiteBalance | Auto |
Whites2012 | -64 |