Felt | Verdi |
AlreadyApplied | True |
Aperture | 18.0 |
ApertureValue | 18.0 |
ApproximateFocusDistance | 3.55 |
AutoLateralCA | 0 |
BitsPerSample (1) | 8 8 8 |
BitsPerSample | 8 |
Blacks2012 | 0 |
BlueHue | 0 |
BlueSaturation | 0 |
CameraProfile | Embedded |
CFAPattern | [Red,Green][Green,Blue] |
CircleOfConfusion | 0.031 mm |
Clarity2012 | +50 |
ColorComponents | 3 |
ColorMode | RGB |
ColorNoiseReduction | 0 |
ColorSpace | sRGB |
ColorTransform | YCbCr |
Contrast | Normal |
Contrast2012 | -22 |
ConvertToGrayscale | False |
CreateDate | 2016:04:25 20:20:29 |
CreatorTool | Adobe Photoshop CS6 (Macintosh) |
CropAngle | 2.41671 |
CropBottom | 0.989006 |
CropConstrainToWarp | 0 |
CropHeight | 2423 |
CropLeft | 0.040061 |
CropRight | 0.95673 |
CropTop | 0.122639 |
CropUnit | pixels |
CropWidth | 4228 |
CustomRendered | Normal |
DateCreated (1) | 2016:04:25 |
DateCreated | 2016:04:25 20:20:27.008 |
DateTimeOriginal | 2016:04:25 20:20:27 |
DefringeGreenAmount | 0 |
DefringeGreenHueHi | 60 |
DefringeGreenHueLo | 40 |
DefringePurpleAmount | 0 |
DefringePurpleHueHi | 70 |
DefringePurpleHueLo | 30 |
DigitalZoomRatio | 1 |
DOF | inf (0.22 m - inf) |
ExifImageHeight | 2423 |
ExifImageWidth | 4228 |
Exposure2012 | -0.35 |
ExposureCompensation | -2/3 |
ExposureMode | Auto |
ExposureProgram | Aperture-priority AE |
ExposureTime | 1/10 |
Flash | Off, Did not fire |
FNumber | 18.0 |
FocalLength | 11.5 mm |
FocalLength35efl | 11.5 mm (35 mm equivalent: 11.0 mm) |
FocalLengthIn35mmFormat | 11 mm |
Format | image/jpeg |
FOV | 117.1 deg |
GainControl | None |
GrainAmount | 0 |
GreenHue | 0 |
GreenSaturation | 0 |
HasCrop | True |
HasSettings | True |
Highlights2012 | -10 |
HueAdjustmentAqua | 0 |
HueAdjustmentBlue | 0 |
HueAdjustmentGreen | 0 |
HueAdjustmentMagenta | 0 |
HueAdjustmentOrange | -55 |
HueAdjustmentPurple | 0 |
HueAdjustmentRed | +5 |
HueAdjustmentYellow | +16 |
HyperfocalDistance | 0.23 m |
ICCProfileName | sRGB IEC61966-2.1 |
ImageHeight | 2423 |
ImageNumber | 47620 |
ImageSize | 4228x2423 |
ImageWidth | 4228 |
IncrementalTemperature | 0 |
IncrementalTint | 0 |
ISO | 100 |
Lens | 10.0-20.0 mm f/4.0-5.6 |
LensID (1) | 72 |
LensID | Sigma 10-20mm F4-5.6 EX DC HSM |
LensInfo | 10-20mm f/4-5.6 |
LensManualDistortionAmount | 0 |
LensModel | 10.0-20.0 mm f/4.0-5.6 |
LensProfileEnable | 0 |
LensProfileSetup | LensDefaults |
LightSource | Unknown |
LightValue | 11.7 |
LuminanceAdjustmentAqua | +42 |
LuminanceAdjustmentBlue | 0 |
LuminanceAdjustmentGreen | +48 |
LuminanceAdjustmentMagenta | 0 |
LuminanceAdjustmentOrange | +53 |
LuminanceAdjustmentPurple | 0 |
LuminanceAdjustmentRed | -38 |
LuminanceAdjustmentYellow | +69 |
LuminanceNoiseReductionContrast | 0 |
LuminanceNoiseReductionDetail | 66 |
LuminanceSmoothing | 12 |
Make | NIKON CORPORATION |
MaxApertureValue | 4.3 |
Megapixels | 10.2 |
MeteringMode | Multi-segment |
Model | NIKON D7100 |
ModifyDate (1) | 2016:04:27 09:51:36+02:00 |
ModifyDate | 2016:04:27 09:51:36 |
Orientation | Horizontal (normal) |
ParametricDarks | 0 |
ParametricHighlights | 0 |
ParametricHighlightSplit | 75 |
ParametricLights | 0 |
ParametricMidtoneSplit | 50 |
ParametricShadows | 0 |
ParametricShadowSplit | 25 |
PerspectiveHorizontal | 0 |
PerspectiveRotate | 0.0 |
PerspectiveScale | 100 |
PerspectiveVertical | 0 |
PhotometricInterpretation | RGB |
PostCropVignetteAmount | 0 |
ProcessVersion | 6.7 |
ProfileDescription | sRGB IEC61966-2.1 |
RedHue | 0 |
RedSaturation | 0 |
SamplesPerPixel | 3 |
Saturation (1) | +5 |
Saturation | Normal |
SaturationAdjustmentAqua | 0 |
SaturationAdjustmentBlue | 0 |
SaturationAdjustmentGreen | 0 |
SaturationAdjustmentMagenta | 0 |
SaturationAdjustmentOrange | 0 |
SaturationAdjustmentPurple | 0 |
SaturationAdjustmentRed | 0 |
SaturationAdjustmentYellow | 0 |
ScaleFactor35efl | 1.0 |
SceneCaptureType | Landscape |
SceneType | Directly photographed |
SensingMethod | One-chip color area |
SensitivityType | Recommended Exposure Index |
SerialNumber | 4364664 |
Shadows2012 | +98 |
ShadowTint | 0 |
SharpenDetail | 34 |
SharpenEdgeMasking | 0 |
SharpenRadius | +1.0 |
Sharpness (1) | 37 |
Sharpness | Normal |
ShutterSpeed | 1/10 |
ShutterSpeedValue | 1/10 |
Software | Adobe Photoshop CS6 (Macintosh) |
SplitToningBalance | 0 |
SplitToningHighlightHue | 0 |
SplitToningHighlightSaturation | 0 |
SplitToningShadowHue | 0 |
SplitToningShadowSaturation | 0 |
SubjectDistanceRange | Unknown |
ToneCurveName2012 | Linear |
ToneCurvePV2012 | 0, 0, 255, 255 |
ToneCurvePV2012Blue | 0, 0, 255, 255 |
ToneCurvePV2012Green | 0, 0, 255, 255 |
ToneCurvePV2012Red | 0, 0, 255, 255 |
URL_List | |
Version | 7.4 |
Vibrance | +16 |
VignetteAmount | 0 |
WhiteBalance (1) | As Shot |
WhiteBalance | Auto |
Whites2012 | +51 |