Felt | Verdi |
AlreadyApplied | True |
Aperture | 3.2 |
ApertureValue | 3.2 |
AutoLateralCA | 0 |
BitsPerSample | 8 |
Blacks2012 | -18 |
BlueHue | 0 |
BlueSaturation | 0 |
BrightnessValue | 5.8 |
CameraProfile | Adobe Standard |
CircleOfConfusion | 0.016 mm |
Clarity2012 | +46 |
ColorComponents | 3 |
ColorNoiseReduction | 25 |
ColorNoiseReductionDetail | 50 |
ColorTemperature | 5000 |
ColorTransform | YCbCr |
Contrast2012 | +10 |
ConvertToGrayscale | True |
CreateDate | 2015:06:28 00:45:14 |
CreatorTool | Adobe Photoshop Lightroom 4.4 (Windows) |
CropAngle | 0 |
CropBottom | 0.951872 |
CropConstrainToWarp | 0 |
CropHeight | 7255 |
CropLeft | 0.016048 |
CropRight | 1 |
CropTop | 0 |
CropUnit | pixels |
CropWidth | 10000 |
CustomRendered | Normal |
DateCreated (1) | 2015:06:28 |
DateCreated | 2015:06:28 00:45:14 |
DateTimeOriginal | 2015:06:28 00:45:14 |
Exposure2012 | -2.40 |
ExposureCompensation | -0.3 |
ExposureMode | Auto |
ExposureProgram | Program AE |
ExposureTime | 1/180 |
Flash | Off, Did not fire |
FNumber | 3.2 |
FocalLength | 4.3 mm |
FocalLength35efl | 4.3 mm (35 mm equivalent: 8.0 mm) |
Format | image/jpeg |
FOV | 132.3 deg |
GrainAmount | 0 |
GrayMixerAqua | -19 |
GrayMixerBlue | +7 |
GrayMixerGreen | -25 |
GrayMixerMagenta | +5 |
GrayMixerOrange | -16 |
GrayMixerPurple | +14 |
GrayMixerRed | -7 |
GrayMixerYellow | -20 |
GreenHue | 0 |
GreenSaturation | 0 |
HasCrop | True |
HasSettings | True |
Highlights2012 | -29 |
HyperfocalDistance | 0.36 m |
ImageHeight | 7255 |
ImageSize | 10000x7255 |
ImageWidth | 10000 |
ISO | 100 |
LensManualDistortionAmount | 0 |
LensProfileEnable | 0 |
LensProfileSetup | LensDefaults |
LightSource | Unknown |
LightValue | 10.8 |
LuminanceNoiseReductionContrast | 0 |
LuminanceNoiseReductionDetail | 50 |
LuminanceSmoothing | 100 |
Make | FUJIFILM |
MaxApertureValue | 2.9 |
Megapixels | 72.5 |
MeteringMode | Multi-segment |
Model | FinePix SL1000 |
ModifyDate (1) | 2016:03:09 09:43:35+01:00 |
ModifyDate | 2016:03:09 09:43:35 |
PaintCorrectionActive | true |
PaintCorrectionAmount | 1.000000 |
PaintCorrectionBrightness | 0.000000 |
PaintCorrectionClarity2012 | 1.000000 |
PaintCorrectionContrast2012 (2) | 0.207100 |
PaintCorrectionContrast2012 | 0.250000 |
PaintCorrectionDefringe (2) | 0.045050 |
PaintCorrectionDefringe | 0.178570 |
PaintCorrectionExposure2012 (1) | 1.000000 |
PaintCorrectionExposure2012 (3) | -1.000000 |
PaintCorrectionExposure2012 (5) | 0.045750 |
PaintCorrectionExposure2012 | 0.302750 |
PaintCorrectionHighlights2012 (1) | -0.129630 |
PaintCorrectionHighlights2012 | 0.214290 |
PaintCorrectionHue (2) | 60.000000 |
PaintCorrectionHue | 186.000000 |
PaintCorrectionLuminanceNoise (3) | 0.000000 |
PaintCorrectionLuminanceNoise | -0.266060 |
PaintCorrectionMaskCenterWeight | 0.000000 |
PaintCorrectionMaskFlow | 0.550000 |
PaintCorrectionMaskRadius (1) | 0.044871 |
PaintCorrectionMaskRadius (12) | 0.009361 |
PaintCorrectionMaskRadius (15) | 0.067770 |
PaintCorrectionMaskRadius (17) | 0.030269 |
PaintCorrectionMaskRadius (26) | 0.087683 |
PaintCorrectionMaskRadius (3) | 0.143635 |
PaintCorrectionMaskRadius (6) | 0.037504 |
PaintCorrectionMaskRadius | 0.022118 |
PaintCorrectionMaskValue | 0.580000 |
PaintCorrectionMaskWhat | Mask/Paint |
PaintCorrectionMoire (3) | 0.000000 |
PaintCorrectionMoire | -0.321100 |
PaintCorrectionSaturation (4) | 0.500000 |
PaintCorrectionSaturation (5) | 0.425930 |
PaintCorrectionSaturation (7) | 0.250000 |
PaintCorrectionSaturation | 0.020000 |
PaintCorrectionShadows2012 (3) | 0.129630 |
PaintCorrectionShadows2012 | 0.321430 |
PaintCorrectionSharpness (3) | -0.351850 |
PaintCorrectionSharpness | 1.000000 |
PaintCorrectionTemperature (2) | 0.166670 |
PaintCorrectionTemperature | 0.155960 |
PaintCorrectionTint (2) | -0.203700 |
PaintCorrectionTint | -0.196430 |
PaintCorrectionWhat | Correction |
ParametricDarks | 0 |
ParametricHighlights | 0 |
ParametricHighlightSplit | 75 |
ParametricLights | -1 |
ParametricMidtoneSplit | 50 |
ParametricShadows | 0 |
ParametricShadowSplit | 25 |
PerspectiveHorizontal | 0 |
PerspectiveRotate | 0.0 |
PerspectiveScale | 100 |
PerspectiveVertical | 0 |
PostCropVignetteAmount | 0 |
ProcessVersion | 6.7 |
ProfileDescription | sRGB IEC61966-2.1 |
RedHue | 0 |
RedSaturation | 0 |
ScaleFactor35efl | 1.9 |
SceneCaptureType | Standard |
SceneType | Directly photographed |
SensingMethod | One-chip color area |
SensitivityType | Standard Output Sensitivity |
Shadows2012 | -100 |
ShadowTint | 0 |
SharpenDetail | 66 |
SharpenEdgeMasking | 0 |
SharpenRadius | +1.2 |
Sharpness (1) | 4 |
Sharpness | Normal |
ShutterSpeed | 1/180 |
ShutterSpeedValue | 1/180 |
Software | Adobe Photoshop Lightroom 4.4 (Windows) |
SplitToningBalance | 0 |
SplitToningHighlightHue | 0 |
SplitToningHighlightSaturation | 0 |
SplitToningShadowHue | 0 |
SplitToningShadowSaturation | 0 |
SubjectDistanceRange | Unknown |
Tint | +3 |
ToneCurveName2012 | Linear |
ToneCurvePV2012 | 0, 0, 255, 255 |
ToneCurvePV2012Blue | 0, 0, 255, 255 |
ToneCurvePV2012Green | 0, 0, 255, 255 |
ToneCurvePV2012Red | 0, 0, 255, 255 |
Version | 7.4 |
VignetteAmount | 0 |
WhiteBalance (1) | As Shot |
WhiteBalance | Auto |
Whites2012 | -27 |