Felt | Verdi |
AlreadyApplied | True |
ApproximateFocusDistance | 4.47 |
Artist | Trond Walter |
AutoLateralCA | 0 |
AutoWhiteVersion | 134348800 |
BitsPerSample | 8 |
Blacks2012 | -60 |
BlueHue | 0 |
BlueSaturation | 0 |
By-line | Trond Walter |
CameraProfile | Adobe Standard |
Clarity2012 | +100 |
ColorComponents | 3 |
ColorNoiseReduction | 25 |
ColorNoiseReductionDetail | 50 |
ColorNoiseReductionSmoothness | 50 |
ColorTemperature | 5550 |
Contrast2012 | 0 |
ConvertToGrayscale | False |
Copyright | TROND WALTERR |
CopyrightNotice | TROND WALTERR |
CreateDate | 2016:05:19 16:27:57.20 |
Creator | Trond Walter |
CreatorTool | Adobe Photoshop Lightroom 6.0 (Windows) |
DateCreated (1) | 2016:05:19 16:27:57.20 |
DateCreated | 2016:05:19 |
DateTimeOriginal | 2016:05:19 16:27:57+00:00 |
DefringeGreenAmount | 0 |
DefringeGreenHueHi | 60 |
DefringeGreenHueLo | 40 |
DefringePurpleAmount | 0 |
DefringePurpleHueHi | 70 |
DefringePurpleHueLo | 30 |
ExifImageHeight | 4159 |
ExifImageWidth | 4553 |
Exposure2012 | -0.33 |
Format | image/jpeg |
GrainAmount | 0 |
GreenHue | 0 |
GreenSaturation | 0 |
HasCrop | False |
HasSettings | True |
Highlights2012 | 0 |
HueAdjustmentAqua | 0 |
HueAdjustmentBlue | 0 |
HueAdjustmentGreen | 0 |
HueAdjustmentMagenta | 0 |
HueAdjustmentOrange | 0 |
HueAdjustmentPurple | 0 |
HueAdjustmentRed | 0 |
HueAdjustmentYellow | 0 |
ImageHeight | 4159 |
ImageNumber | 48952 |
ImageSize | 4553x4159 |
ImageWidth | 4553 |
Lens | 150.0-600.0 mm f/5.0-6.3 |
LensID (1) | 235 |
LensID | Tamron SP AF 150-600mm f/5-6.3 VC USD (A011) |
LensInfo | 150-600mm f/5-6.3 |
LensManualDistortionAmount | 0 |
LensProfileEnable | 0 |
LensProfileSetup | LensDefaults |
LuminanceAdjustmentAqua | 0 |
LuminanceAdjustmentBlue | 0 |
LuminanceAdjustmentGreen | 0 |
LuminanceAdjustmentMagenta | 0 |
LuminanceAdjustmentOrange | 0 |
LuminanceAdjustmentPurple | 0 |
LuminanceAdjustmentRed | 0 |
LuminanceAdjustmentYellow | 0 |
LuminanceSmoothing | 0 |
Make | NIKON CORPORATION |
Megapixels | 18.9 |
Model | NIKON D800 |
ModifyDate (1) | 2016:05:21 00:11:52+02:00 |
ModifyDate | 2016:05:21 00:11:52 |
ParametricDarks | 0 |
ParametricHighlights | 0 |
ParametricHighlightSplit | 75 |
ParametricLights | 0 |
ParametricMidtoneSplit | 50 |
ParametricShadows | 0 |
ParametricShadowSplit | 25 |
PerspectiveAspect | 0 |
PerspectiveHorizontal | 0 |
PerspectiveRotate | 0.0 |
PerspectiveScale | 100 |
PerspectiveUpright | 0 |
PerspectiveVertical | 0 |
PostCropVignetteAmount | 0 |
ProcessVersion | 6.7 |
ProfileDescription | sRGB IEC61966-2.1 |
RawFileName | _DSC0176.jpg |
RedHue | 0 |
RedSaturation | 0 |
RelatedImageHeight | 4912 |
RelatedImageWidth | 7360 |
Rights | TROND WALTERR |
Saturation | 0 |
SaturationAdjustmentAqua | 0 |
SaturationAdjustmentBlue | 0 |
SaturationAdjustmentGreen | 0 |
SaturationAdjustmentMagenta | 0 |
SaturationAdjustmentOrange | 0 |
SaturationAdjustmentPurple | 0 |
SaturationAdjustmentRed | 0 |
SaturationAdjustmentYellow | 0 |
SerialNumber | 6056080 |
Shadows2012 | -60 |
ShadowTint | 0 |
SharpenDetail | 25 |
SharpenEdgeMasking | 0 |
SharpenRadius | +1.0 |
Sharpness | 25 |
Software | Adobe Photoshop Lightroom 6.0 (Windows) |
SplitToningBalance | 0 |
SplitToningHighlightHue | 0 |
SplitToningHighlightSaturation | 0 |
SplitToningShadowHue | 0 |
SplitToningShadowSaturation | 0 |
Tint | 0 |
ToneCurve | 0, 0, 255, 255 |
ToneCurveBlue | 0, 0, 255, 255 |
ToneCurveGreen | 0, 0, 255, 255 |
ToneCurveName | Linear |
ToneCurveName2012 | Linear |
ToneCurvePV2012 | 0, 0, 255, 255 |
ToneCurvePV2012Blue | 0, 0, 255, 255 |
ToneCurvePV2012Green | 0, 0, 255, 255 |
ToneCurvePV2012Red | 0, 0, 255, 255 |
ToneCurveRed | 0, 0, 255, 255 |
Version | 9.0 |
Vibrance | +40 |
VignetteAmount | 0 |
WhiteBalance | As Shot |
Whites2012 | 0 |