Felt | Verdi |
AlreadyApplied | True |
Aperture | 2.8 |
ApertureValue | 2.8 |
AutoLateralCA | 0 |
AutoWhiteVersion | 134348800 |
BitsPerSample | 8 |
Blacks2012 | -46 |
BlueHue | 0 |
BlueSaturation | 0 |
CameraProfile | Embedded |
CircleOfConfusion | 0.011 mm |
Clarity2012 | +24 |
ColorComponents | 3 |
ColorNoiseReduction | 70 |
ColorNoiseReductionDetail | 50 |
ColorNoiseReductionSmoothness | 87 |
ColorSpace | sRGB |
ColorTransform | YCbCr |
Contrast2012 | +34 |
ConvertToGrayscale | False |
CreateDate | 2016:01:29 16:42:23 |
CreatorTool | Adobe Photoshop Lightroom 5.7.1 (Macintosh) |
CropAngle | 0 |
CropBottom | 0.769674 |
CropConstrainToWarp | 0 |
CropLeft | 0.430744 |
CropRight | 0.992942 |
CropTop | 0.209871 |
CustomRendered | Normal |
DateCreated (1) | 2016:01:29 |
DateCreated | 2016:01:29 16:42:23 |
DateTimeOriginal | 2016:01:29 16:42:23 |
DefringeGreenAmount | 0 |
DefringeGreenHueHi | 60 |
DefringeGreenHueLo | 40 |
DefringePurpleAmount | 0 |
DefringePurpleHueHi | 70 |
DefringePurpleHueLo | 30 |
Exposure2012 | -0.90 |
ExposureCompensation | 0 |
ExposureMode | Manual |
ExposureProgram | Manual |
ExposureTime | 1/1000 |
Firmware | Firmware Version 1.0.9 |
Flash | Off, Did not fire |
FlashCompensation | 0 |
FNumber | 2.8 |
FocalLength | 70.0 mm |
FocalLength35efl | 70.0 mm (35 mm equivalent: 196.2 mm) |
Format | image/jpeg |
FOV | 10.5 deg |
GrainAmount | 0 |
GreenHue | 0 |
GreenSaturation | 0 |
HasCrop | True |
HasSettings | True |
Highlights2012 | -81 |
HueAdjustmentAqua | 0 |
HueAdjustmentBlue | 0 |
HueAdjustmentGreen | 0 |
HueAdjustmentMagenta | 0 |
HueAdjustmentOrange | 0 |
HueAdjustmentPurple | 0 |
HueAdjustmentRed | 0 |
HueAdjustmentYellow | 0 |
HyperfocalDistance | 163.22 m |
ImageHeight | 1934 |
ImageSize | 2913x1934 |
ImageWidth | 2913 |
IncrementalTemperature | +2 |
IncrementalTint | +12 |
ISO | 100 |
Lens | Sigma 24-70mm f/2.8 IF EX DG HSM |
LensID (1) | 137 |
LensID | Sigma 24-70mm f/2.8 IF EX DG HSM or Tamron SP 24-70mm f/2.8 Di VC USD |
LensInfo | 24-70mm f/? |
LensManualDistortionAmount | 0 |
LensModel | Sigma 24-70mm f/2.8 IF EX DG HSM |
LensProfileEnable | 0 |
LensProfileSetup | LensDefaults |
LightValue | 12.9 |
LuminanceAdjustmentAqua | +100 |
LuminanceAdjustmentBlue | +20 |
LuminanceAdjustmentGreen | 0 |
LuminanceAdjustmentMagenta | +29 |
LuminanceAdjustmentOrange | +17 |
LuminanceAdjustmentPurple | +70 |
LuminanceAdjustmentRed | 0 |
LuminanceAdjustmentYellow | -23 |
LuminanceNoiseReductionContrast | 70 |
LuminanceNoiseReductionDetail | 50 |
LuminanceSmoothing | 69 |
Make | Canon |
MaxApertureValue | 2.7 |
Megapixels | 5.6 |
MeteringMode | Multi-segment |
Model | Canon EOS 550D |
ModifyDate (1) | 2016:05:25 16:09:31+02:00 |
ModifyDate | 2016:05:25 16:09:31 |
ParametricDarks | -12 |
ParametricHighlights | +26 |
ParametricHighlightSplit | 75 |
ParametricLights | +45 |
ParametricMidtoneSplit | 50 |
ParametricShadows | +22 |
ParametricShadowSplit | 25 |
PerspectiveAspect | 0 |
PerspectiveHorizontal | 0 |
PerspectiveRotate | 0.0 |
PerspectiveScale | 100 |
PerspectiveUpright | 0 |
PerspectiveVertical | 0 |
PostCropVignetteAmount | 0 |
ProcessVersion | 6.7 |
ProfileDescription | sRGB IEC61966-2.1 |
RedHue | 0 |
RedSaturation | 0 |
Saturation | 0 |
SaturationAdjustmentAqua | +17 |
SaturationAdjustmentBlue | +22 |
SaturationAdjustmentGreen | 0 |
SaturationAdjustmentMagenta | +19 |
SaturationAdjustmentOrange | +25 |
SaturationAdjustmentPurple | +70 |
SaturationAdjustmentRed | 0 |
SaturationAdjustmentYellow | +19 |
ScaleFactor35efl | 2.8 |
SceneCaptureType | Standard |
SerialNumber | 1933171180 |
Shadows2012 | +96 |
ShadowTint | 0 |
SharpenDetail | 52 |
SharpenEdgeMasking | 0 |
SharpenRadius | +1.0 |
Sharpness | 48 |
ShutterSpeed | 1/1000 |
ShutterSpeedValue | 1/1000 |
Software | Adobe Photoshop Lightroom 5.7.1 (Macintosh) |
SplitToningBalance | 0 |
SplitToningHighlightHue | 0 |
SplitToningHighlightSaturation | 0 |
SplitToningShadowHue | 0 |
SplitToningShadowSaturation | 0 |
ToneCurve | 0, 0, 255, 255 |
ToneCurveBlue | 0, 0, 255, 255 |
ToneCurveGreen | 0, 0, 255, 255 |
ToneCurveName | Linear |
ToneCurveName2012 | Linear |
ToneCurvePV2012 | 0, 0, 255, 255 |
ToneCurvePV2012Blue | 0, 0, 255, 255 |
ToneCurvePV2012Green | 0, 0, 255, 255 |
ToneCurvePV2012Red | 0, 0, 255, 255 |
ToneCurveRed | 0, 0, 255, 255 |
Version | 8.7.1 |
Vibrance | 0 |
VignetteAmount | 0 |
WhiteBalance (1) | Custom |
WhiteBalance | Manual |
Whites2012 | +64 |