Felt | Verdi |
AlreadyApplied | True |
Aperture | 6.3 |
ApertureValue | 6.3 |
ApproximateFocusDistance | 126 |
Artist | www.dpc.photo |
AutoLateralCA | 1 |
AutoWhiteVersion | 134348800 |
BitsPerSample (1) | 16 16 16 |
BitsPerSample | 8 |
Blacks2012 | -30 |
BlueHue | 0 |
BlueSaturation | 0 |
By-line | www.dpc.photo |
CameraProfile | Adobe Standard |
CFAPattern | [Red,Green][Green,Blue] |
CircleOfConfusion | 0.030 mm |
Clarity2012 | +25 |
ColorComponents | 3 |
ColorMode | RGB |
ColorNoiseReduction | 25 |
ColorNoiseReductionDetail | 50 |
ColorNoiseReductionSmoothness | 50 |
ColorSpace | sRGB |
ColorTemperature | 5050 |
ColorTransform | YCbCr |
Contrast | Normal |
Contrast2012 | +10 |
ConvertToGrayscale | False |
Copyright | www.dpc.photo |
CopyrightNotice | www.dpc.photo |
CreateDate | 2016:06:11 19:23:53 |
Creator | www.dpc.photo |
CreatorTool | Adobe Photoshop CC 2015 (Windows) |
CropAngle | 0 |
CropBottom | 0.746119 |
CropConstrainToWarp | 0 |
CropLeft | 0.100735 |
CropRight | 0.762875 |
CropTop | 0 |
CustomRendered | Normal |
DateCreated (1) | 2016:06:11 |
DateCreated | 2016:06:11 19:23:53.091 |
DateTimeOriginal | 2016:06:11 19:23:53 |
DefringeGreenAmount | 0 |
DefringeGreenHueHi | 60 |
DefringeGreenHueLo | 40 |
DefringePurpleAmount | 0 |
DefringePurpleHueHi | 70 |
DefringePurpleHueLo | 30 |
DigitalZoomRatio | 1 |
DOF | 16.69 m (118.21 - 134.89 m) |
ExifImageHeight | 960 |
ExifImageWidth | 1280 |
Exposure2012 | +0.50 |
ExposureCompensation | 0 |
ExposureMode | Auto |
ExposureProgram | Shutter speed priority AE |
ExposureTime | 1/2000 |
Flash | No Flash |
FNumber | 6.3 |
FocalLength | 600.0 mm |
FocalLength35efl | 600.0 mm (35 mm equivalent: 600.0 mm) |
FocalLengthIn35mmFormat | 600 mm |
Format | image/jpeg |
FOV | 3.4 deg |
GainControl | None |
GrainAmount | 0 |
GreenHue | 0 |
GreenSaturation | 0 |
HasCrop | True |
HasExtendedXMP | 6E7AC113CE96981FB7DEDC93B979D72D |
HasSettings | True |
Highlights2012 | 0 |
HueAdjustmentAqua | 0 |
HueAdjustmentBlue | 0 |
HueAdjustmentGreen | 0 |
HueAdjustmentMagenta | 0 |
HueAdjustmentOrange | 0 |
HueAdjustmentPurple | 0 |
HueAdjustmentRed | 0 |
HueAdjustmentYellow | 0 |
HyperfocalDistance | 1901.83 m |
ICCProfileName | sRGB IEC61966-2.1 |
ImageHeight (1) | 2447 |
ImageHeight | 960 |
ImageNumber | 44475 |
ImageSize | 1280x960 |
ImageWidth (1) | 3263 |
ImageWidth | 1280 |
ISO | 200 |
Lens | 150.0-600.0 mm f/5.0-6.3 |
LensID (1) | 129 |
LensID | Sigma 150-600mm F5-6.3 DG OS HSM | S |
LensInfo | 150-600mm f/5-6.3 |
LensManualDistortionAmount | 0 |
LensModel | 150.0-600.0 mm f/5.0-6.3 |
LensProfileChromaticAberrationScale | 100 |
LensProfileDistortionScale | 100 |
LensProfileEnable | 1 |
LensProfileFilename | NIKON CORPORATION (SIGMA 150-600mm F5-6.3 DG OS HSM S014) - RAW.lcp |
LensProfileName | Adobe (SIGMA 150-600mm F5-6.3 DG OS HSM S014, NIKON CORPORATION) |
LensProfileSetup | LensDefaults |
LensProfileVignettingScale | 100 |
LightSource | Unknown |
LightValue | 15.3 |
LuminanceAdjustmentAqua | +2 |
LuminanceAdjustmentBlue | +12 |
LuminanceAdjustmentGreen | 0 |
LuminanceAdjustmentMagenta | 0 |
LuminanceAdjustmentOrange | 0 |
LuminanceAdjustmentPurple | 0 |
LuminanceAdjustmentRed | 0 |
LuminanceAdjustmentYellow | 0 |
LuminanceSmoothing | 0 |
Make | NIKON CORPORATION |
MaxApertureValue | 6.3 |
Megapixels | 1.2 |
MeteringMode | Multi-segment |
Model | NIKON D4S |
ModifyDate (1) | 2016:06:12 22:17:36+02:00 |
ModifyDate | 2016:06:12 22:17:36 |
Orientation | Horizontal (normal) |
PaintCorrectionActive | true |
PaintCorrectionAmount | 1.000000 |
PaintCorrectionBrightness | 0.000000 |
PaintCorrectionClarity2012 (1) | 0.108430 |
PaintCorrectionClarity2012 (4) | 0.084340 |
PaintCorrectionClarity2012 | 0.000000 |
PaintCorrectionContrast2012 | 0.000000 |
PaintCorrectionDefringe | 0.000000 |
PaintCorrectionExposure2012 (3) | 0.000000 |
PaintCorrectionExposure2012 | -0.036250 |
PaintCorrectionHighlights2012 (1) | 0.000000 |
PaintCorrectionHighlights2012 (2) | 0.108430 |
PaintCorrectionHighlights2012 | -0.108430 |
PaintCorrectionHue | 240.000000 |
PaintCorrectionLuminanceNoise | 0.000000 |
PaintCorrectionMaskCenterWeight (13) | 0.000000 |
PaintCorrectionMaskCenterWeight | 0.240684 |
PaintCorrectionMaskFlow | 1.000000 |
PaintCorrectionMaskRadius (1) | 0.059254 |
PaintCorrectionMaskRadius (11) | 0.000735 |
PaintCorrectionMaskRadius (14) | 0.006337 |
PaintCorrectionMaskRadius (15) | 0.006339 |
PaintCorrectionMaskRadius (17) | 0.011325 |
PaintCorrectionMaskRadius (18) | 0.011326 |
PaintCorrectionMaskRadius (19) | 0.008120 |
PaintCorrectionMaskRadius (20) | 0.006559 |
PaintCorrectionMaskRadius (22) | 0.002045 |
PaintCorrectionMaskRadius (23) | 0.002044 |
PaintCorrectionMaskRadius (24) | 0.002043 |
PaintCorrectionMaskRadius (30) | 0.005024 |
PaintCorrectionMaskRadius (33) | 0.002042 |
PaintCorrectionMaskRadius (37) | 0.000736 |
PaintCorrectionMaskRadius (42) | 0.009709 |
PaintCorrectionMaskRadius (44) | 0.006561 |
PaintCorrectionMaskRadius (45) | 0.005028 |
PaintCorrectionMaskRadius (46) | 0.003523 |
PaintCorrectionMaskRadius (48) | 0.002050 |
PaintCorrectionMaskRadius (49) | 0.002049 |
PaintCorrectionMaskRadius (51) | 0.002047 |
PaintCorrectionMaskRadius (53) | 0.002046 |
PaintCorrectionMaskRadius (54) | 0.000739 |
PaintCorrectionMaskRadius (56) | 0.000738 |
PaintCorrectionMaskRadius (59) | 0.006353 |
PaintCorrectionMaskRadius (6) | 0.003516 |
PaintCorrectionMaskRadius (60) | 0.005023 |
PaintCorrectionMaskRadius (61) | 0.003517 |
PaintCorrectionMaskRadius (62) | 0.002039 |
PaintCorrectionMaskRadius (63) | 0.003515 |
PaintCorrectionMaskRadius (65) | 0.005032 |
PaintCorrectionMaskRadius (66) | 0.005030 |
PaintCorrectionMaskRadius (68) | 0.003518 |
PaintCorrectionMaskRadius (69) | 0.003520 |
PaintCorrectionMaskRadius (70) | 0.003522 |
PaintCorrectionMaskRadius (71) | 0.003519 |
PaintCorrectionMaskRadius (76) | 0.002040 |
PaintCorrectionMaskRadius (77) | 0.025167 |
PaintCorrectionMaskRadius (78) | 0.013938 |
PaintCorrectionMaskRadius (79) | 0.013934 |
PaintCorrectionMaskRadius (80) | 0.022311 |
PaintCorrectionMaskRadius (81) | 0.022339 |
PaintCorrectionMaskRadius (82) | 0.006094 |
PaintCorrectionMaskRadius (83) | 0.006111 |
PaintCorrectionMaskRadius (84) | 0.006088 |
PaintCorrectionMaskRadius (85) | 0.008645 |
PaintCorrectionMaskRadius (86) | 0.006061 |
PaintCorrectionMaskRadius (87) | 0.028276 |
PaintCorrectionMaskRadius (88) | 0.028193 |
PaintCorrectionMaskRadius (89) | 0.028153 |
PaintCorrectionMaskRadius (9) | 0.006553 |
PaintCorrectionMaskRadius (90) | 0.028475 |
PaintCorrectionMaskRadius | 0.028313 |
PaintCorrectionMaskValue (15) | 0.000000 |
PaintCorrectionMaskValue | 1.000000 |
PaintCorrectionMaskWhat | Mask/Paint |
PaintCorrectionMoire | 0.000000 |
PaintCorrectionSaturation | 0.000000 |
PaintCorrectionShadows2012 (3) | -0.060240 |
PaintCorrectionShadows2012 | 0.000000 |
PaintCorrectionSharpness (1) | 1.000000 |
PaintCorrectionSharpness | 0.000000 |
PaintCorrectionTemperature | 0.000000 |
PaintCorrectionTint | 0.000000 |
PaintCorrectionWhat | Correction |
ParametricDarks | 0 |
ParametricHighlights | 0 |
ParametricHighlightSplit | 75 |
ParametricLights | +10 |
ParametricMidtoneSplit | 50 |
ParametricShadows | +31 |
ParametricShadowSplit | 25 |
PerspectiveAspect | 0 |
PerspectiveHorizontal | 0 |
PerspectiveRotate | 0.0 |
PerspectiveScale | 100 |
PerspectiveUpright | 0 |
PerspectiveVertical | 0 |
PhotometricInterpretation | RGB |
PlanarConfiguration | Chunky |
PostCropVignetteAmount | -5 |
PostCropVignetteFeather | 50 |
PostCropVignetteHighlightContrast | 0 |
PostCropVignetteMidpoint | 50 |
PostCropVignetteRoundness | 0 |
PostCropVignetteStyle | 1 |
ProcessVersion | 6.7 |
ProfileDescription | sRGB IEC61966-2.1 |
Rating | 5 |
RedHue | 0 |
RedSaturation | 0 |
Rights | www.dpc.photo |
SamplesPerPixel | 3 |
Saturation (1) | 0 |
Saturation | Normal |
SaturationAdjustmentAqua | 0 |
SaturationAdjustmentBlue | 0 |
SaturationAdjustmentGreen | 0 |
SaturationAdjustmentMagenta | 0 |
SaturationAdjustmentOrange | 0 |
SaturationAdjustmentPurple | 0 |
SaturationAdjustmentRed | 0 |
SaturationAdjustmentYellow | 0 |
ScaleFactor35efl | 1.0 |
SceneCaptureType | Standard |
SceneType | Directly photographed |
SensingMethod | One-chip color area |
SensitivityType | Recommended Exposure Index |
SerialNumber | 2009464 |
Shadows2012 | +100 |
ShadowTint | 0 |
SharpenDetail | 25 |
SharpenEdgeMasking | 94 |
SharpenRadius | +1.0 |
Sharpness (1) | 66 |
Sharpness | Normal |
ShutterSpeed | 1/2000 |
ShutterSpeedValue | 1/2000 |
Software | Adobe Photoshop CC 2015 (Windows) |
SplitToningBalance | 0 |
SplitToningHighlightHue | 0 |
SplitToningHighlightSaturation | 0 |
SplitToningShadowHue | 0 |
SplitToningShadowSaturation | 0 |
SubjectDistanceRange | Unknown |
Tint | -1 |
ToneCurve | 0, 0, 255, 255 |
ToneCurveBlue | 0, 0, 255, 255 |
ToneCurveGreen | 0, 0, 255, 255 |
ToneCurveName | Linear |
ToneCurveName2012 | Linear |
ToneCurvePV2012 | 0, 0, 255, 255 |
ToneCurvePV2012Blue | 0, 0, 255, 255 |
ToneCurvePV2012Green | 0, 0, 255, 255 |
ToneCurvePV2012Red | 0, 0, 255, 255 |
ToneCurveRed | 0, 0, 255, 255 |
URL_List | |
UserComment | www.dpc.photo |
Version | 8.7.1 |
Vibrance | +12 |
VignetteAmount | 0 |
WhiteBalance (1) | As Shot |
WhiteBalance | Auto |
Whites2012 | 0 |