Felt | Verdi |
AlreadyApplied | True |
Aperture | 18.0 |
ApertureValue | 18.0 |
ApproximateFocusDistance | 2.13 |
AutoLateralCA | 0 |
AutoWhiteVersion | 134348800 |
BitsPerSample (1) | 8 8 8 |
BitsPerSample | 8 |
Blacks2012 | +5 |
BlueHue | 0 |
BlueSaturation | 0 |
CameraProfile | Adobe Standard |
CircGradBasedCorrActive | true |
CircGradBasedCorrAmount | 1.000000 |
CircGradBasedCorrBrightness | 0.000000 |
CircGradBasedCorrClarity2012 | 0.000000 |
CircGradBasedCorrContrast2012 | 0.000000 |
CircGradBasedCorrDefringe | 0.000000 |
CircGradBasedCorrExposure2012 | -0.028026 |
CircGradBasedCorrHighlights2012 | -0.011567 |
CircGradBasedCorrHue | 233.000000 |
CircGradBasedCorrLocalBlacks2012 | 0.007206 |
CircGradBasedCorrLocalDehaze | 0.000000 |
CircGradBasedCorrLocalWhites2012 | 0.003944 |
CircGradBasedCorrLuminanceNoise | 0.000000 |
CircGradBasedCorrMaskAngle | 0.989769 |
CircGradBasedCorrMaskBottom | 0.764048 |
CircGradBasedCorrMaskFeather | +50 |
CircGradBasedCorrMaskFlipped | false |
CircGradBasedCorrMaskLeft | 0.092736 |
CircGradBasedCorrMaskMidpoint | +50 |
CircGradBasedCorrMaskRight | 0.868675 |
CircGradBasedCorrMaskRoundness | 0 |
CircGradBasedCorrMaskTop | 0.394943 |
CircGradBasedCorrMaskValue | 1.000000 |
CircGradBasedCorrMaskVersion | +2 |
CircGradBasedCorrMaskWhat | Mask/CircularGradient |
CircGradBasedCorrMoire | 0.000000 |
CircGradBasedCorrSaturation (1) | 0.005954 |
CircGradBasedCorrSaturation | 0.000000 |
CircGradBasedCorrShadows2012 | 0.005765 |
CircGradBasedCorrSharpness | 0.000000 |
CircGradBasedCorrTemperature | -0.004589 |
CircGradBasedCorrTint | 0.001327 |
CircGradBasedCorrWhat | Correction |
CircleOfConfusion | 0.031 mm |
Clarity2012 | +70 |
ColorComponents | 3 |
ColorMode | RGB |
ColorNoiseReduction | 84 |
ColorNoiseReductionDetail | 50 |
ColorNoiseReductionSmoothness | 100 |
ColorSpace | Uncalibrated |
ColorTemperature | 5350 |
ColorTransform | YCbCr |
Contrast2012 | +37 |
ConvertToGrayscale | False |
CreateDate | 2012:07:27 21:21:20 |
CreatorTool | Adobe Photoshop Lightroom 6.3 (Macintosh) |
CropAngle | 0.989769 |
CropBottom | 0.964738 |
CropConstrainToWarp | 0 |
CropLeft | 0.017072 |
CropRight | 0.982163 |
CropTop | 0.101639 |
CustomRendered | Normal |
DateCreated (1) | 2012:07:27 |
DateCreated | 2012:07:27 21:21:20.053 |
DateTimeOriginal | 2012:07:27 21:21:20 |
DefringeGreenAmount | 0 |
DefringeGreenHueHi | 60 |
DefringeGreenHueLo | 40 |
DefringePurpleAmount | 0 |
DefringePurpleHueHi | 70 |
DefringePurpleHueLo | 30 |
Dehaze | 0 |
DOF | inf (0.70 m - inf) |
ExifImageHeight | 3137 |
ExifImageWidth | 5474 |
Exposure2012 | +2.05 |
ExposureCompensation | -5/3 |
ExposureMode | Auto |
ExposureProgram | Aperture-priority AE |
ExposureTime | 1/80 |
Firmware | 1.0.6 |
Flash | Off, Did not fire |
FlashCompensation | 0 |
FNumber | 18.0 |
FocalLength | 24.0 mm |
FocalLength35efl | 24.0 mm (35 mm equivalent: 23.4 mm) |
Format | image/jpeg |
FOV | 75.1 deg |
GradientBasedCorrActive | true |
GradientBasedCorrAmount | 1.000000 |
GradientBasedCorrBrightness | 0.000000 |
GradientBasedCorrClarity2012 | 0.000000 |
GradientBasedCorrContrast2012 | 0.000000 |
GradientBasedCorrDefringe | 0.000000 |
GradientBasedCorrExposure2012 | -0.331538 |
GradientBasedCorrHighlights2012 | -0.011567 |
GradientBasedCorrHue | 233.000000 |
GradientBasedCorrLocalBlacks2012 | 0.007206 |
GradientBasedCorrLocalDehaze | 0.000000 |
GradientBasedCorrLocalWhites2012 | 0.003944 |
GradientBasedCorrLuminanceNoise | 0.000000 |
GradientBasedCorrMaskFullX | 0.495941 |
GradientBasedCorrMaskFullY | 0.115695 |
GradientBasedCorrMaskValue | 1.000000 |
GradientBasedCorrMaskWhat | Mask/Gradient |
GradientBasedCorrMaskZeroX | 0.490335 |
GradientBasedCorrMaskZeroY | 0.653078 |
GradientBasedCorrMoire | 0.000000 |
GradientBasedCorrSaturation (1) | 0.005954 |
GradientBasedCorrSaturation | 0.000000 |
GradientBasedCorrShadows2012 | 0.005765 |
GradientBasedCorrSharpness | 0.000000 |
GradientBasedCorrTemperature | -0.004589 |
GradientBasedCorrTint | 0.001327 |
GradientBasedCorrWhat | Correction |
GrainAmount | 0 |
GreenHue | 0 |
GreenSaturation | 0 |
HasCrop | True |
HasSettings | True |
Highlights2012 | -91 |
HueAdjustmentAqua | 0 |
HueAdjustmentBlue | 0 |
HueAdjustmentGreen | +17 |
HueAdjustmentMagenta | 0 |
HueAdjustmentOrange | 0 |
HueAdjustmentPurple | 0 |
HueAdjustmentRed | 0 |
HueAdjustmentYellow | 0 |
HyperfocalDistance | 1.04 m |
ICCProfileName | Adobe RGB (1998) |
ImageHeight | 3137 |
ImageNumber | 0 |
ImageSize | 5474x3137 |
ImageWidth | 5474 |
ISO | 200 |
Keywords | lofoten |
Label | Red |
Lens | 24-70mm |
LensID (1) | 137 |
LensID | Sigma 24-70mm f/2.8 IF EX DG HSM or Tamron SP 24-70mm f/2.8 Di VC USD |
LensInfo | 24-70mm f/? |
LensManualDistortionAmount | 0 |
LensModel | 24-70mm |
LensProfileEnable | 0 |
LensProfileSetup | LensDefaults |
LightValue | 13.7 |
LuminanceAdjustmentAqua | 0 |
LuminanceAdjustmentBlue | 0 |
LuminanceAdjustmentGreen | +98 |
LuminanceAdjustmentMagenta | 0 |
LuminanceAdjustmentOrange | 0 |
LuminanceAdjustmentPurple | 0 |
LuminanceAdjustmentRed | 0 |
LuminanceAdjustmentYellow | +80 |
LuminanceNoiseReductionContrast | 0 |
LuminanceNoiseReductionDetail | 50 |
LuminanceSmoothing | 78 |
Make | Canon |
MaxApertureValue | 2.8 |
Megapixels | 17.2 |
MeteringMode | Center-weighted average |
Model | Canon EOS 5D Mark II |
ModifyDate (1) | 2016:07:06 17:14:22+02:00 |
ModifyDate | 2016:07:06 17:14:22 |
Orientation | Horizontal (normal) |
PaintCorrectionActive | true |
PaintCorrectionAmount | 1.000000 |
PaintCorrectionBrightness | 0.000000 |
PaintCorrectionClarity2012 | 0.000000 |
PaintCorrectionContrast2012 (13) | 0.174378 |
PaintCorrectionContrast2012 (16) | 0.416755 |
PaintCorrectionContrast2012 (17) | 0.436893 |
PaintCorrectionContrast2012 | 0.000000 |
PaintCorrectionDefringe (8) | 0.006409 |
PaintCorrectionDefringe | 0.000000 |
PaintCorrectionExposure2012 (1) | 0.431887 |
PaintCorrectionExposure2012 (13) | -0.368211 |
PaintCorrectionExposure2012 (14) | -0.704528 |
PaintCorrectionExposure2012 (15) | -0.139867 |
PaintCorrectionExposure2012 (16) | 0.000000 |
PaintCorrectionExposure2012 (17) | 0.407767 |
PaintCorrectionExposure2012 (2) | 0.460293 |
PaintCorrectionExposure2012 (3) | 0.320388 |
PaintCorrectionExposure2012 (4) | 0.266080 |
PaintCorrectionExposure2012 (5) | 0.250948 |
PaintCorrectionExposure2012 (6) | 0.416755 |
PaintCorrectionExposure2012 (8) | 0.100008 |
PaintCorrectionExposure2012 (9) | -0.019417 |
PaintCorrectionExposure2012 | 0.400978 |
PaintCorrectionHighlights2012 (11) | 0.598149 |
PaintCorrectionHighlights2012 (13) | -0.975576 |
PaintCorrectionHighlights2012 (7) | -1.000000 |
PaintCorrectionHighlights2012 | -0.011567 |
PaintCorrectionHue | 233.000000 |
PaintCorrectionLocalBlacks2012 (10) | 0.619615 |
PaintCorrectionLocalBlacks2012 (11) | -0.017256 |
PaintCorrectionLocalBlacks2012 (6) | -0.408488 |
PaintCorrectionLocalBlacks2012 (7) | -0.214237 |
PaintCorrectionLocalBlacks2012 | 0.007206 |
PaintCorrectionLocalDehaze | 0.000000 |
PaintCorrectionLocalWhites2012 | 0.003944 |
PaintCorrectionLuminanceNoise | 0.000000 |
PaintCorrectionMaskCenterWeight | 0.002196 |
PaintCorrectionMaskFlow | 0.543895 |
PaintCorrectionMaskRadius (1) | 0.068642 |
PaintCorrectionMaskRadius (10) | 0.027452 |
PaintCorrectionMaskRadius (12) | 0.107870 |
PaintCorrectionMaskRadius (13) | 0.121751 |
PaintCorrectionMaskRadius (15) | 0.081316 |
PaintCorrectionMaskRadius (16) | 0.087803 |
PaintCorrectionMaskRadius (3) | 0.074929 |
PaintCorrectionMaskRadius (4) | 0.136034 |
PaintCorrectionMaskRadius (8) | 0.062456 |
PaintCorrectionMaskRadius (9) | 0.038718 |
PaintCorrectionMaskRadius | 0.050386 |
PaintCorrectionMaskValue | 1.000000 |
PaintCorrectionMaskWhat | Mask/Paint |
PaintCorrectionMoire | 0.000000 |
PaintCorrectionSaturation (13) | 0.296989 |
PaintCorrectionSaturation (15) | 0.345153 |
PaintCorrectionSaturation (19) | -1.000000 |
PaintCorrectionSaturation (23) | 0.005954 |
PaintCorrectionSaturation | 0.000000 |
PaintCorrectionShadows2012 | 0.005765 |
PaintCorrectionSharpness | 0.000000 |
PaintCorrectionTemperature (10) | -0.607024 |
PaintCorrectionTemperature (14) | -0.718105 |
PaintCorrectionTemperature (15) | -0.019038 |
PaintCorrectionTemperature (16) | -0.517749 |
PaintCorrectionTemperature (7) | 1.000000 |
PaintCorrectionTemperature (8) | -0.416793 |
PaintCorrectionTemperature | -0.004589 |
PaintCorrectionTint (11) | -0.031326 |
PaintCorrectionTint | 0.001327 |
PaintCorrectionWhat | Correction |
ParametricDarks | 0 |
ParametricHighlights | 0 |
ParametricHighlightSplit | 75 |
ParametricLights | 0 |
ParametricMidtoneSplit | 50 |
ParametricShadows | 0 |
ParametricShadowSplit | 25 |
PerspectiveAspect | 0 |
PerspectiveHorizontal | 0 |
PerspectiveRotate | 0.0 |
PerspectiveScale | 100 |
PerspectiveUpright | 0 |
PerspectiveVertical | 0 |
PhotometricInterpretation | RGB |
PostCropVignetteAmount | 0 |
ProcessVersion | 6.7 |
ProfileDescription | Adobe RGB (1998) |
RedHue | 0 |
RedSaturation | 0 |
SamplesPerPixel | 3 |
Saturation | +17 |
SaturationAdjustmentAqua | 0 |
SaturationAdjustmentBlue | 0 |
SaturationAdjustmentGreen | +56 |
SaturationAdjustmentMagenta | 0 |
SaturationAdjustmentOrange | 0 |
SaturationAdjustmentPurple | 0 |
SaturationAdjustmentRed | 0 |
SaturationAdjustmentYellow | +56 |
ScaleFactor35efl | 1.0 |
SceneCaptureType | Standard |
SerialNumber | 130101597 |
Shadows2012 | 0 |
ShadowTint | 0 |
SharpenDetail | 25 |
SharpenEdgeMasking | 0 |
SharpenRadius | +1.0 |
Sharpness | 25 |
ShutterSpeed | 1/80 |
ShutterSpeedValue | 1/80 |
Software | Adobe Photoshop CC 2015 (Macintosh) |
SplitToningBalance | 0 |
SplitToningHighlightHue | 0 |
SplitToningHighlightSaturation | 0 |
SplitToningShadowHue | 0 |
SplitToningShadowSaturation | 0 |
Subject | lofoten |
Tint | +1 |
ToneCurve | 0, 0, 255, 255 |
ToneCurveBlue | 0, 0, 255, 255 |
ToneCurveGreen | 0, 0, 255, 255 |
ToneCurveName | Linear |
ToneCurveName2012 | Linear |
ToneCurvePV2012 | 0, 0, 255, 255 |
ToneCurvePV2012Blue | 0, 0, 255, 255 |
ToneCurvePV2012Green | 0, 0, 255, 255 |
ToneCurvePV2012Red | 0, 0, 255, 255 |
ToneCurveRed | 0, 0, 255, 255 |
ToneMapStrength | 0 |
URL_List | |
Version | 9.3 |
Vibrance | +66 |
VignetteAmount | 0 |
WhiteBalance (1) | As Shot |
WhiteBalance | Auto |
Whites2012 | 0 |