Felt | Verdi |
AlreadyApplied | True |
Aperture | 4.0 |
ApertureValue | 4.0 |
Artist | Anders |
AutoLateralCA | 0 |
AutoWhiteVersion | 134348800 |
BitsPerSample | 8 |
Blacks2012 | 0 |
BlueHue | 0 |
BlueSaturation | 0 |
By-line | Anders |
CameraProfile | Embedded |
Clarity2012 | +100 |
ColorComponents | 3 |
ColorNoiseReduction | 0 |
ColorSpace | sRGB |
ColorTransform | YCbCr |
Contrast2012 | 0 |
ConvertToGrayscale | False |
Copyright | Anders |
CopyrightNotice | Anders |
CreateDate | 2014:12:31 14:13:43 |
Creator | Anders |
CreatorTool | Adobe Photoshop Lightroom 5.7.1 (Windows) |
CropAngle | 0 |
CropBottom | 0.811218 |
CropConstrainToWarp | 0 |
CropLeft | 0 |
CropRight | 1 |
CropTop | 0.166895 |
DateCreated (1) | 2014:12:31 |
DateCreated | 2014:12:31 14:13:43 |
DateTimeOriginal | 2014:12:31 14:13:43 |
DefringeGreenAmount | 0 |
DefringeGreenHueHi | 60 |
DefringeGreenHueLo | 40 |
DefringePurpleAmount | 0 |
DefringePurpleHueHi | 70 |
DefringePurpleHueLo | 30 |
Exposure2012 | 0.00 |
ExposureCompensation | 0 |
ExposureMode | Manual |
ExposureProgram | Manual |
ExposureTime | 1/200 |
Firmware | Firmware Version 1.2.3 |
Flash | Off, Did not fire |
FlashCompensation | 0 |
FNumber | 4.0 |
FocalLength | 105.0 mm |
FocalLength35efl | 105.0 mm |
Format | image/jpeg |
GradientBasedCorrActive | true |
GradientBasedCorrAmount | 1.000000 |
GradientBasedCorrBrightness | 0.000000 |
GradientBasedCorrClarity2012 (1) | -0.307690 |
GradientBasedCorrClarity2012 | -1.000000 |
GradientBasedCorrContrast2012 (1) | 1.000000 |
GradientBasedCorrContrast2012 | 0.000000 |
GradientBasedCorrDefringe | 0.000000 |
GradientBasedCorrExposure2012 (1) | 0.446250 |
GradientBasedCorrExposure2012 | -0.015500 |
GradientBasedCorrHighlights2012 | 0.000000 |
GradientBasedCorrHue | 233.000000 |
GradientBasedCorrLuminanceNoise | 0.000000 |
GradientBasedCorrMaskFullX (1) | 0.828566 |
GradientBasedCorrMaskFullX | 0.472261 |
GradientBasedCorrMaskFullY (1) | 0.349093 |
GradientBasedCorrMaskFullY | 0.512119 |
GradientBasedCorrMaskValue | 1.000000 |
GradientBasedCorrMaskWhat | Mask/Gradient |
GradientBasedCorrMaskZeroX (1) | 0.821607 |
GradientBasedCorrMaskZeroX | 0.508923 |
GradientBasedCorrMaskZeroY (1) | 0.436574 |
GradientBasedCorrMaskZeroY | 0.553469 |
GradientBasedCorrMoire | 0.000000 |
GradientBasedCorrSaturation (1) | -0.338460 |
GradientBasedCorrSaturation | 0.000000 |
GradientBasedCorrShadows2012 (1) | 0.292310 |
GradientBasedCorrShadows2012 | 0.000000 |
GradientBasedCorrSharpness | 0.000000 |
GradientBasedCorrTemperature (1) | -0.415380 |
GradientBasedCorrTemperature | -0.892310 |
GradientBasedCorrTint (1) | 1.000000 |
GradientBasedCorrTint | 0.000000 |
GradientBasedCorrWhat | Correction |
GrainAmount | 0 |
GreenHue | 0 |
GreenSaturation | 0 |
HasCrop | True |
HasExtendedXMP | BFC5AE95B72D8435665663242AA5B441 |
HasSettings | True |
Highlights2012 | 0 |
HueAdjustmentAqua | 0 |
HueAdjustmentBlue | 0 |
HueAdjustmentGreen | 0 |
HueAdjustmentMagenta | 0 |
HueAdjustmentOrange | 0 |
HueAdjustmentPurple | 0 |
HueAdjustmentRed | 0 |
HueAdjustmentYellow | 0 |
ImageHeight | 1939 |
ImageSize | 5759x1939 |
ImageWidth | 5759 |
IncrementalTemperature | 0 |
IncrementalTint | 0 |
ISO | 100 |
Lens | Canon EF 24-105mm f/4L IS |
LensID (1) | 237 |
LensID | Canon EF 24-105mm f/4L IS USM |
LensInfo | 24-105mm f/? |
LensManualDistortionAmount | 0 |
LensModel | Canon EF 24-105mm f/4L IS |
LensProfileEnable | 0 |
LensProfileSetup | LensDefaults |
LensSerialNumber | 000060e704 |
LightValue | 11.6 |
LuminanceAdjustmentAqua | 0 |
LuminanceAdjustmentBlue | 0 |
LuminanceAdjustmentGreen | 0 |
LuminanceAdjustmentMagenta | 0 |
LuminanceAdjustmentOrange | 0 |
LuminanceAdjustmentPurple | 0 |
LuminanceAdjustmentRed | 0 |
LuminanceAdjustmentYellow | 0 |
LuminanceSmoothing | 0 |
Make | Canon |
MaxApertureValue | 4.0 |
Megapixels | 11.2 |
MeteringMode | Center-weighted average |
Model | Canon EOS 5D Mark III |
ModifyDate (1) | 2016:07:22 23:02:31+02:00 |
ModifyDate | 2016:07:22 23:02:31 |
PaintCorrectionActive | true |
PaintCorrectionAmount | 1.000000 |
PaintCorrectionBrightness | 0.000000 |
PaintCorrectionClarity2012 (1) | 0.476920 |
PaintCorrectionClarity2012 (14) | -1.000000 |
PaintCorrectionClarity2012 (17) | -0.076920 |
PaintCorrectionClarity2012 (19) | -0.364107 |
PaintCorrectionClarity2012 (6) | 1.000000 |
PaintCorrectionClarity2012 (7) | 0.092310 |
PaintCorrectionClarity2012 | 0.000000 |
PaintCorrectionContrast2012 (19) | -0.014560 |
PaintCorrectionContrast2012 (6) | 0.215380 |
PaintCorrectionContrast2012 (7) | 1.000000 |
PaintCorrectionContrast2012 (8) | 0.000000 |
PaintCorrectionContrast2012 | -1.000000 |
PaintCorrectionDefringe | 0.000000 |
PaintCorrectionExposure2012 (1) | 0.184500 |
PaintCorrectionExposure2012 (19) | -0.014673 |
PaintCorrectionExposure2012 (4) | 1.000000 |
PaintCorrectionExposure2012 (6) | 0.692250 |
PaintCorrectionExposure2012 (7) | 0.953750 |
PaintCorrectionExposure2012 | -0.015500 |
PaintCorrectionHighlights2012 (16) | 0.015380 |
PaintCorrectionHighlights2012 (19) | -0.334978 |
PaintCorrectionHighlights2012 (4) | 1.000000 |
PaintCorrectionHighlights2012 (7) | 0.138460 |
PaintCorrectionHighlights2012 | 0.000000 |
PaintCorrectionHue | 233.000000 |
PaintCorrectionLuminanceNoise | 0.000000 |
PaintCorrectionMaskCenterWeight | 0.000000 |
PaintCorrectionMaskFlow | 1.000000 |
PaintCorrectionMaskRadius (1) | 0.057312 |
PaintCorrectionMaskRadius (12) | 0.162729 |
PaintCorrectionMaskRadius (13) | 0.073995 |
PaintCorrectionMaskRadius (17) | 0.055874 |
PaintCorrectionMaskRadius (18) | 0.067856 |
PaintCorrectionMaskRadius (19) | 0.011875 |
PaintCorrectionMaskRadius (2) | 0.051318 |
PaintCorrectionMaskRadius (4) | 0.033089 |
PaintCorrectionMaskRadius (6) | 0.038638 |
PaintCorrectionMaskRadius (9) | 0.017031 |
PaintCorrectionMaskRadius | 0.027638 |
PaintCorrectionMaskValue | 1.000000 |
PaintCorrectionMaskWhat | Mask/Paint |
PaintCorrectionMoire | 0.000000 |
PaintCorrectionSaturation (11) | -0.584620 |
PaintCorrectionSaturation (13) | 0.046150 |
PaintCorrectionSaturation (17) | 0.123080 |
PaintCorrectionSaturation (19) | -0.353850 |
PaintCorrectionSaturation (21) | 0.184620 |
PaintCorrectionSaturation (23) | -1.000000 |
PaintCorrectionSaturation (3) | 1.000000 |
PaintCorrectionSaturation (37) | 0.946667 |
PaintCorrectionSaturation (39) | -0.630770 |
PaintCorrectionSaturation (7) | -0.569230 |
PaintCorrectionSaturation | 0.000000 |
PaintCorrectionShadows2012 (16) | 0.292310 |
PaintCorrectionShadows2012 (2) | 0.169230 |
PaintCorrectionShadows2012 | 0.000000 |
PaintCorrectionSharpness | 0.000000 |
PaintCorrectionTemperature (10) | -0.015380 |
PaintCorrectionTemperature (16) | 0.153850 |
PaintCorrectionTemperature (17) | 1.000000 |
PaintCorrectionTemperature (18) | -0.292310 |
PaintCorrectionTemperature (19) | -0.946667 |
PaintCorrectionTemperature (3) | -0.200000 |
PaintCorrectionTemperature (6) | -1.000000 |
PaintCorrectionTemperature | 0.000000 |
PaintCorrectionTint (1) | 0.000000 |
PaintCorrectionTint (13) | 1.000000 |
PaintCorrectionTint (4) | -1.000000 |
PaintCorrectionTint | -0.400000 |
PaintCorrectionWhat | Correction |
ParametricDarks | 0 |
ParametricHighlights | 0 |
ParametricHighlightSplit | 75 |
ParametricLights | 0 |
ParametricMidtoneSplit | 50 |
ParametricShadows | 0 |
ParametricShadowSplit | 25 |
PerspectiveAspect | 0 |
PerspectiveHorizontal | 0 |
PerspectiveRotate | 0.0 |
PerspectiveScale | 100 |
PerspectiveUpright | 0 |
PerspectiveVertical | 0 |
PhotographicSensitivity | 100 |
PostCropVignetteAmount | -75 |
PostCropVignetteFeather | 100 |
PostCropVignetteHighlightContrast | 100 |
PostCropVignetteMidpoint | 50 |
PostCropVignetteRoundness | 0 |
PostCropVignetteStyle | 1 |
ProcessVersion | 6.7 |
ProfileDescription | sRGB IEC61966-2.1 |
RedHue | 0 |
RedSaturation | 0 |
Rights | Anders |
Saturation | 0 |
SaturationAdjustmentAqua | 0 |
SaturationAdjustmentBlue | 0 |
SaturationAdjustmentGreen | 0 |
SaturationAdjustmentMagenta | 0 |
SaturationAdjustmentOrange | 0 |
SaturationAdjustmentPurple | 0 |
SaturationAdjustmentRed | 0 |
SaturationAdjustmentYellow | 0 |
SceneCaptureType | Standard |
SerialNumber | 263021000040 |
Shadows2012 | 0 |
ShadowTint | 0 |
SharpenDetail | 25 |
SharpenEdgeMasking | 0 |
SharpenRadius | +1.0 |
Sharpness | 0 |
ShutterSpeed | 1/200 |
ShutterSpeedValue | 1/200 |
Software | Adobe Photoshop Lightroom 5.7.1 (Windows) |
SplitToningBalance | 0 |
SplitToningHighlightHue | 0 |
SplitToningHighlightSaturation | 0 |
SplitToningShadowHue | 0 |
SplitToningShadowSaturation | 0 |
ToneCurve | 0, 0, 255, 255 |
ToneCurveBlue | 0, 0, 255, 255 |
ToneCurveGreen | 0, 0, 255, 255 |
ToneCurveName | Linear |
ToneCurveName2012 | Linear |
ToneCurvePV2012 | 0, 0, 255, 255 |
ToneCurvePV2012Blue | 0, 0, 255, 255 |
ToneCurvePV2012Green | 0, 0, 255, 255 |
ToneCurvePV2012Red | 0, 0, 255, 255 |
ToneCurveRed | 0, 0, 255, 255 |
Version | 8.7.1 |
Vibrance | 0 |
VignetteAmount | 0 |
WhiteBalance (1) | Custom |
WhiteBalance | Auto |
Whites2012 | 0 |