Felt | Verdi |
AlreadyApplied | True |
Aperture | 4.0 |
ApertureValue | 4.0 |
Artist | Anders |
AutoLateralCA | 0 |
AutoWhiteVersion | 134348800 |
BitsPerSample | 8 |
Blacks2012 | 0 |
BlueHue | 0 |
BlueSaturation | 0 |
By-line | Anders |
CameraProfile | Embedded |
Clarity2012 | 0 |
ColorComponents | 3 |
ColorNoiseReduction | 0 |
ColorSpace | sRGB |
ColorTransform | YCbCr |
Contrast2012 | 0 |
ConvertToGrayscale | False |
Copyright | Anders |
CopyrightNotice | Anders |
CreateDate | 2014:12:31 14:13:51 |
Creator | Anders |
CreatorTool | Adobe Photoshop Lightroom 5.7.1 (Windows) |
CropAngle | 0 |
CropBottom | 0.9801 |
CropConstrainToWarp | 0 |
CropLeft | 0.094774 |
CropRight | 1 |
CropTop | 0.142619 |
DateCreated (1) | 2014:12:31 |
DateCreated | 2014:12:31 14:13:51 |
DateTimeOriginal | 2014:12:31 14:13:51 |
DefringeGreenAmount | 0 |
DefringeGreenHueHi | 60 |
DefringeGreenHueLo | 40 |
DefringePurpleAmount | 0 |
DefringePurpleHueHi | 70 |
DefringePurpleHueLo | 30 |
Exposure2012 | 0.00 |
ExposureCompensation | 0 |
ExposureMode | Manual |
ExposureProgram | Manual |
ExposureTime | 1/200 |
Firmware | Firmware Version 1.2.3 |
Flash | Off, Did not fire |
FlashCompensation | 0 |
FNumber | 4.0 |
FocalLength | 105.0 mm |
FocalLength35efl | 105.0 mm |
Format | image/jpeg |
GradientBasedCorrActive | true |
GradientBasedCorrAmount | 1.000000 |
GradientBasedCorrBrightness | 0.000000 |
GradientBasedCorrClarity2012 (1) | -1.000000 |
GradientBasedCorrClarity2012 (2) | 1.000000 |
GradientBasedCorrClarity2012 | 0.000000 |
GradientBasedCorrContrast2012 (3) | 0.000000 |
GradientBasedCorrContrast2012 | 1.000000 |
GradientBasedCorrDefringe | 0.000000 |
GradientBasedCorrExposure2012 | -0.015500 |
GradientBasedCorrHighlights2012 (3) | 0.000000 |
GradientBasedCorrHighlights2012 | -1.000000 |
GradientBasedCorrHue | 233.000000 |
GradientBasedCorrLuminanceNoise | 0.000000 |
GradientBasedCorrMaskFullX (1) | 0.384253 |
GradientBasedCorrMaskFullX (2) | 0.398437 |
GradientBasedCorrMaskFullX (3) | 0.769919 |
GradientBasedCorrMaskFullX | 0.889278 |
GradientBasedCorrMaskFullY (1) | 0.298628 |
GradientBasedCorrMaskFullY (2) | 0.767839 |
GradientBasedCorrMaskFullY (3) | 0.381936 |
GradientBasedCorrMaskFullY | 0.421343 |
GradientBasedCorrMaskValue | 1.000000 |
GradientBasedCorrMaskWhat | Mask/Gradient |
GradientBasedCorrMaskZeroX (1) | 0.377004 |
GradientBasedCorrMaskZeroX (2) | 0.411318 |
GradientBasedCorrMaskZeroX (3) | 0.732519 |
GradientBasedCorrMaskZeroX | 0.866192 |
GradientBasedCorrMaskZeroY (1) | 0.399668 |
GradientBasedCorrMaskZeroY (2) | 0.636803 |
GradientBasedCorrMaskZeroY (3) | 0.483736 |
GradientBasedCorrMaskZeroY | 0.529068 |
GradientBasedCorrMoire | 0.000000 |
GradientBasedCorrSaturation (1) | 0.353850 |
GradientBasedCorrSaturation (3) | -0.230770 |
GradientBasedCorrSaturation (5) | 1.000000 |
GradientBasedCorrSaturation | 0.000000 |
GradientBasedCorrShadows2012 (2) | 0.000000 |
GradientBasedCorrShadows2012 | 0.707690 |
GradientBasedCorrSharpness | 0.000000 |
GradientBasedCorrTemperature (1) | 1.000000 |
GradientBasedCorrTemperature | -1.000000 |
GradientBasedCorrTint (1) | 1.000000 |
GradientBasedCorrTint (3) | 0.000000 |
GradientBasedCorrTint | -1.000000 |
GradientBasedCorrWhat | Correction |
GrainAmount | 0 |
GreenHue | 0 |
GreenSaturation | 0 |
HasCrop | True |
HasExtendedXMP | 97FFBCB065099E8602CA9D618C232A20 |
HasSettings | True |
Highlights2012 | -13 |
HueAdjustmentAqua | 0 |
HueAdjustmentBlue | 0 |
HueAdjustmentGreen | 0 |
HueAdjustmentMagenta | 0 |
HueAdjustmentOrange | 0 |
HueAdjustmentPurple | 0 |
HueAdjustmentRed | 0 |
HueAdjustmentYellow | 0 |
ImageHeight | 2028 |
ImageSize | 5213x2028 |
ImageWidth | 5213 |
IncrementalTemperature | 0 |
IncrementalTint | 0 |
ISO | 100 |
Lens | Canon EF 24-105mm f/4L IS |
LensID (1) | 237 |
LensID | Canon EF 24-105mm f/4L IS USM |
LensInfo | 24-105mm f/? |
LensManualDistortionAmount | 0 |
LensModel | Canon EF 24-105mm f/4L IS |
LensProfileEnable | 0 |
LensProfileSetup | LensDefaults |
LensSerialNumber | 000060e704 |
LightValue | 11.6 |
LuminanceAdjustmentAqua | 0 |
LuminanceAdjustmentBlue | 0 |
LuminanceAdjustmentGreen | 0 |
LuminanceAdjustmentMagenta | 0 |
LuminanceAdjustmentOrange | 0 |
LuminanceAdjustmentPurple | 0 |
LuminanceAdjustmentRed | 0 |
LuminanceAdjustmentYellow | 0 |
LuminanceSmoothing | 0 |
Make | Canon |
MaxApertureValue | 4.0 |
Megapixels | 10.6 |
MeteringMode | Center-weighted average |
Model | Canon EOS 5D Mark III |
ModifyDate (1) | 2016:07:23 22:25:36+02:00 |
ModifyDate | 2016:07:23 22:25:36 |
PaintCorrectionActive | true |
PaintCorrectionAmount | 1.000000 |
PaintCorrectionBrightness | 0.000000 |
PaintCorrectionClarity2012 (17) | 0.353850 |
PaintCorrectionClarity2012 (22) | -1.000000 |
PaintCorrectionClarity2012 (3) | -0.200000 |
PaintCorrectionClarity2012 (6) | 0.061540 |
PaintCorrectionClarity2012 (7) | 0.000000 |
PaintCorrectionClarity2012 | 1.000000 |
PaintCorrectionContrast2012 (1) | -1.000000 |
PaintCorrectionContrast2012 (12) | 1.000000 |
PaintCorrectionContrast2012 (13) | 0.461540 |
PaintCorrectionContrast2012 (14) | 0.215380 |
PaintCorrectionContrast2012 (20) | 0.184620 |
PaintCorrectionContrast2012 (24) | 0.123080 |
PaintCorrectionContrast2012 (5) | 0.615380 |
PaintCorrectionContrast2012 (7) | 0.138460 |
PaintCorrectionContrast2012 (9) | 0.153850 |
PaintCorrectionContrast2012 | 0.000000 |
PaintCorrectionDefringe | 0.000000 |
PaintCorrectionExposure2012 (1) | 0.107750 |
PaintCorrectionExposure2012 (10) | 0.353750 |
PaintCorrectionExposure2012 (11) | 0.200000 |
PaintCorrectionExposure2012 (13) | -0.430750 |
PaintCorrectionExposure2012 (18) | 0.077000 |
PaintCorrectionExposure2012 (2) | -0.107750 |
PaintCorrectionExposure2012 (27) | 0.677000 |
PaintCorrectionExposure2012 (5) | -0.077000 |
PaintCorrectionExposure2012 (6) | -0.015500 |
PaintCorrectionExposure2012 (8) | 0.000000 |
PaintCorrectionExposure2012 | 0.307750 |
PaintCorrectionHighlights2012 (11) | 0.092310 |
PaintCorrectionHighlights2012 (12) | 0.400000 |
PaintCorrectionHighlights2012 (13) | 0.461540 |
PaintCorrectionHighlights2012 (14) | -0.107690 |
PaintCorrectionHighlights2012 (17) | -1.000000 |
PaintCorrectionHighlights2012 (18) | 0.723080 |
PaintCorrectionHighlights2012 (21) | -0.030770 |
PaintCorrectionHighlights2012 (24) | -0.153850 |
PaintCorrectionHighlights2012 (25) | 1.000000 |
PaintCorrectionHighlights2012 (26) | 0.707690 |
PaintCorrectionHighlights2012 (6) | 0.369230 |
PaintCorrectionHighlights2012 (8) | 0.215380 |
PaintCorrectionHighlights2012 | 0.000000 |
PaintCorrectionHue | 233.000000 |
PaintCorrectionLuminanceNoise | 0.000000 |
PaintCorrectionMaskCenterWeight | 0.000000 |
PaintCorrectionMaskFlow | 1.000000 |
PaintCorrectionMaskRadius (1) | 0.050031 |
PaintCorrectionMaskRadius (10) | 0.011875 |
PaintCorrectionMaskRadius (11) | 0.002349 |
PaintCorrectionMaskRadius (15) | 0.017031 |
PaintCorrectionMaskRadius (18) | 0.027638 |
PaintCorrectionMaskRadius (21) | 0.044285 |
PaintCorrectionMaskRadius (22) | 0.002120 |
PaintCorrectionMaskRadius (23) | 0.029861 |
PaintCorrectionMaskRadius (24) | 0.050423 |
PaintCorrectionMaskRadius (25) | 0.061236 |
PaintCorrectionMaskRadius (26) | 0.034869 |
PaintCorrectionMaskRadius (28) | 0.055785 |
PaintCorrectionMaskRadius (3) | 0.022286 |
PaintCorrectionMaskRadius (8) | 0.006817 |
PaintCorrectionMaskRadius | 0.039965 |
PaintCorrectionMaskValue | 1.000000 |
PaintCorrectionMaskWhat | Mask/Paint |
PaintCorrectionMoire (1) | 1.000000 |
PaintCorrectionMoire | 0.000000 |
PaintCorrectionSaturation (1) | 0.138460 |
PaintCorrectionSaturation (3) | -1.000000 |
PaintCorrectionSaturation (33) | -0.184620 |
PaintCorrectionSaturation (43) | 0.307690 |
PaintCorrectionSaturation (47) | 1.000000 |
PaintCorrectionSaturation (55) | 0.230770 |
PaintCorrectionSaturation (57) | 0.184620 |
PaintCorrectionSaturation | 0.000000 |
PaintCorrectionShadows2012 (1) | 0.692310 |
PaintCorrectionShadows2012 (12) | 1.000000 |
PaintCorrectionShadows2012 (14) | -0.461540 |
PaintCorrectionShadows2012 (20) | 0.215380 |
PaintCorrectionShadows2012 (5) | 0.046150 |
PaintCorrectionShadows2012 (7) | -1.000000 |
PaintCorrectionShadows2012 (9) | -0.430770 |
PaintCorrectionShadows2012 | 0.000000 |
PaintCorrectionSharpness (14) | 1.000000 |
PaintCorrectionSharpness | 0.000000 |
PaintCorrectionTemperature (12) | -1.000000 |
PaintCorrectionTemperature (13) | 0.015380 |
PaintCorrectionTemperature (19) | 0.784620 |
PaintCorrectionTemperature (2) | -0.030770 |
PaintCorrectionTemperature (21) | -0.569230 |
PaintCorrectionTemperature (25) | -0.061540 |
PaintCorrectionTemperature (28) | 0.000000 |
PaintCorrectionTemperature | 1.000000 |
PaintCorrectionTint (13) | -1.000000 |
PaintCorrectionTint (19) | 1.000000 |
PaintCorrectionTint (6) | 0.246150 |
PaintCorrectionTint (8) | 0.353850 |
PaintCorrectionTint (9) | 0.646150 |
PaintCorrectionTint | 0.000000 |
PaintCorrectionWhat | Correction |
ParametricDarks | 0 |
ParametricHighlights | 0 |
ParametricHighlightSplit | 75 |
ParametricLights | 0 |
ParametricMidtoneSplit | 50 |
ParametricShadows | 0 |
ParametricShadowSplit | 25 |
PerspectiveAspect | 0 |
PerspectiveHorizontal | 0 |
PerspectiveRotate | 0.0 |
PerspectiveScale | 100 |
PerspectiveUpright | 0 |
PerspectiveVertical | 0 |
PhotographicSensitivity | 100 |
PostCropVignetteAmount | 0 |
ProcessVersion | 6.7 |
ProfileDescription | sRGB IEC61966-2.1 |
RedHue | 0 |
RedSaturation | 0 |
Rights | Anders |
Saturation | 0 |
SaturationAdjustmentAqua | 0 |
SaturationAdjustmentBlue | 0 |
SaturationAdjustmentGreen | 0 |
SaturationAdjustmentMagenta | 0 |
SaturationAdjustmentOrange | 0 |
SaturationAdjustmentPurple | 0 |
SaturationAdjustmentRed | 0 |
SaturationAdjustmentYellow | 0 |
SceneCaptureType | Standard |
SerialNumber | 263021000040 |
Shadows2012 | 0 |
ShadowTint | 0 |
SharpenDetail | 25 |
SharpenEdgeMasking | 0 |
SharpenRadius | +1.0 |
Sharpness | 0 |
ShutterSpeed | 1/200 |
ShutterSpeedValue | 1/200 |
Software | Adobe Photoshop Lightroom 5.7.1 (Windows) |
SplitToningBalance | +17 |
SplitToningHighlightHue | 52 |
SplitToningHighlightSaturation | 64 |
SplitToningShadowHue | 0 |
SplitToningShadowSaturation | 0 |
ToneCurve | 0, 0, 255, 255 |
ToneCurveBlue | 0, 0, 255, 255 |
ToneCurveGreen | 0, 0, 255, 255 |
ToneCurveName | Linear |
ToneCurveName2012 | Linear |
ToneCurvePV2012 | 0, 0, 255, 255 |
ToneCurvePV2012Blue | 0, 0, 255, 255 |
ToneCurvePV2012Green | 0, 0, 255, 255 |
ToneCurvePV2012Red | 0, 0, 255, 255 |
ToneCurveRed | 0, 0, 255, 255 |
Version | 8.7.1 |
Vibrance | 0 |
VignetteAmount | 0 |
WhiteBalance (1) | Custom |
WhiteBalance | Auto |
Whites2012 | -18 |