Felt | Verdi |
AlreadyApplied | True |
Aperture | 16.0 |
ApertureValue | 16.0 |
Artist | Sahand Nasiribehrouz |
AutoLateralCA | 1 |
AutoWhiteVersion | 134348800 |
BitsPerSample | 8 |
Blacks2012 | -51 |
BlueHue | 0 |
BlueSaturation | 0 |
BrightnessValue | -4.47890625 |
By-line | Sahand Nasiribehrouz |
CameraProfile | Adobe Standard |
CircleOfConfusion | 0.030 mm |
Clarity2012 | +100 |
ColorComponents | 3 |
ColorNoiseReduction | 25 |
ColorNoiseReductionDetail | 50 |
ColorNoiseReductionSmoothness | 50 |
ColorSpace | sRGB |
ColorTemperature | 5850 |
ColorTransform | YCbCr |
Contrast | Normal |
Contrast2012 | 0 |
ConvertToGrayscale | False |
Copyright | SNB |
CopyrightNotice | SNB |
CreateDate | 2016:08:06 22:00:17 |
Creator | Sahand Nasiribehrouz |
CreatorTool | Adobe Photoshop Lightroom 6.6.1 (Windows) |
CropAngle | -0.62006 |
CropBottom | 0.984033 |
CropConstrainToWarp | 0 |
CropLeft | 0.004432 |
CropRight | 0.995568 |
CropTop | 0.015967 |
CustomRendered | Normal |
DateCreated (1) | 2016:08:06 |
DateCreated | 2016:08:06 22:00:17 |
DateTimeOriginal | 2016:08:06 22:00:17 |
DefringeGreenAmount | 0 |
DefringeGreenHueHi | 60 |
DefringeGreenHueLo | 40 |
DefringePurpleAmount | 0 |
DefringePurpleHueHi | 70 |
DefringePurpleHueLo | 30 |
Dehaze | 0 |
DigitalZoomRatio | 1 |
Exposure2012 | +0.29 |
ExposureCompensation | 0 |
ExposureMode | Manual |
ExposureProgram | Manual |
ExposureTime | 198 |
Flash | Off, Did not fire |
FNumber | 16.0 |
FocalLength | 16.0 mm |
FocalLength35efl | 16.0 mm (35 mm equivalent: 16.0 mm) |
FocalLengthIn35mmFormat | 16 mm |
Format | image/jpeg |
FOV | 96.7 deg |
GradientBasedCorrActive | true |
GradientBasedCorrAmount | 1.000000 |
GradientBasedCorrBrightness | 0.000000 |
GradientBasedCorrClarity2012 | 0.000000 |
GradientBasedCorrContrast2012 (1) | 0.845300 |
GradientBasedCorrContrast2012 | 0.000000 |
GradientBasedCorrDefringe | 0.000000 |
GradientBasedCorrExposure2012 (1) | -0.149250 |
GradientBasedCorrExposure2012 (2) | 0.082750 |
GradientBasedCorrExposure2012 | 0.000000 |
GradientBasedCorrHighlights2012 | 0.000000 |
GradientBasedCorrHue | 0.000000 |
GradientBasedCorrLocalBlacks2012 | 0.000000 |
GradientBasedCorrLocalDehaze | 0.000000 |
GradientBasedCorrLocalWhites2012 | 0.000000 |
GradientBasedCorrLuminanceNoise | 0.000000 |
GradientBasedCorrMaskFullX (1) | 0.514191 |
GradientBasedCorrMaskFullX (2) | 0.517221 |
GradientBasedCorrMaskFullX | 0.473234 |
GradientBasedCorrMaskFullY (1) | 0.005755 |
GradientBasedCorrMaskFullY (2) | 0.989505 |
GradientBasedCorrMaskFullY | 0.008104 |
GradientBasedCorrMaskValue | 1.000000 |
GradientBasedCorrMaskWhat | Mask/Gradient |
GradientBasedCorrMaskZeroX (1) | 0.513290 |
GradientBasedCorrMaskZeroX (2) | 0.503774 |
GradientBasedCorrMaskZeroX | 0.477437 |
GradientBasedCorrMaskZeroY (1) | 0.737652 |
GradientBasedCorrMaskZeroY (2) | -0.174159 |
GradientBasedCorrMaskZeroY | 0.622966 |
GradientBasedCorrMoire | 0.000000 |
GradientBasedCorrSaturation | 0.000000 |
GradientBasedCorrShadows2012 | 0.000000 |
GradientBasedCorrSharpness | 0.000000 |
GradientBasedCorrTemperature | 0.000000 |
GradientBasedCorrTint (2) | 0.000000 |
GradientBasedCorrTint | 0.370170 |
GradientBasedCorrWhat | Correction |
GrainAmount | 0 |
GreenHue | 0 |
GreenSaturation | 0 |
HasCrop | True |
HasExtendedXMP | 2FA136FD72D5A361A6EF2E8BB4294770 |
HasSettings | True |
Highlights2012 | -100 |
HueAdjustmentAqua | 0 |
HueAdjustmentBlue | 0 |
HueAdjustmentGreen | -45 |
HueAdjustmentMagenta | 0 |
HueAdjustmentOrange | 0 |
HueAdjustmentPurple | 0 |
HueAdjustmentRed | 0 |
HueAdjustmentYellow | 0 |
HyperfocalDistance | 0.53 m |
ImageHeight | 5219 |
ImageSize | 7825x5219 |
ImageWidth | 7825 |
ISO | 50 |
Lens | DT 16-35mm F4 SAM |
LensID (1) | 61691 |
LensID | Canon EF 16-35mm f/4L IS USM |
LensInfo | 16-35mm f/4 |
LensManualDistortionAmount | 0 |
LensModel | DT 16-35mm F4 SAM |
LensProfileChromaticAberrationScale | 100 |
LensProfileDistortionScale | 100 |
LensProfileEnable | 1 |
LensProfileFilename | Canon EOS-1Ds Mark III (Canon EF 16-35mm f4L IS USM v2) - RAW.lcp |
LensProfileName | Adobe (Canon EF 16-35mm f/4L IS USM) v2 |
LensProfileSetup | Custom |
LensProfileVignettingScale | 100 |
LightSource | Unknown |
LightValue | 1.4 |
LuminanceAdjustmentAqua | 0 |
LuminanceAdjustmentBlue | 0 |
LuminanceAdjustmentGreen | +100 |
LuminanceAdjustmentMagenta | 0 |
LuminanceAdjustmentOrange | 0 |
LuminanceAdjustmentPurple | 0 |
LuminanceAdjustmentRed | 0 |
LuminanceAdjustmentYellow | 0 |
LuminanceSmoothing | 0 |
Make | SONY |
MaxApertureValue | 4.0 |
Megapixels | 40.8 |
MeteringMode | Multi-segment |
Model | ILCE-7RM2 |
ModifyDate (1) | 2016:08:07 11:59:05+02:00 |
ModifyDate | 2016:08:07 11:59:05 |
PaintCorrectionActive | true |
PaintCorrectionAmount | 1.000000 |
PaintCorrectionBrightness | 0.000000 |
PaintCorrectionClarity2012 | 0.000000 |
PaintCorrectionContrast2012 | 0.000000 |
PaintCorrectionDefringe | 0.000000 |
PaintCorrectionExposure2012 (1) | 0.204500 |
PaintCorrectionExposure2012 (2) | 0.049750 |
PaintCorrectionExposure2012 (3) | 0.000000 |
PaintCorrectionExposure2012 | -0.075000 |
PaintCorrectionHighlights2012 | 0.000000 |
PaintCorrectionHue (3) | 0.000000 |
PaintCorrectionHue | 240.000000 |
PaintCorrectionLocalBlacks2012 | 0.000000 |
PaintCorrectionLocalDehaze | 0.000000 |
PaintCorrectionLocalWhites2012 | 0.000000 |
PaintCorrectionLuminanceNoise | 0.000000 |
PaintCorrectionMaskCenterWeight | 0.000000 |
PaintCorrectionMaskFlow (1) | 0.492000 |
PaintCorrectionMaskFlow (20) | 0.524000 |
PaintCorrectionMaskFlow | 1.000000 |
PaintCorrectionMaskRadius (1) | 0.226855 |
PaintCorrectionMaskRadius (10) | 0.262012 |
PaintCorrectionMaskRadius (11) | 0.077367 |
PaintCorrectionMaskRadius (12) | 0.077399 |
PaintCorrectionMaskRadius (13) | 0.100887 |
PaintCorrectionMaskRadius (14) | 0.103760 |
PaintCorrectionMaskRadius (15) | 0.018493 |
PaintCorrectionMaskRadius (16) | 0.018436 |
PaintCorrectionMaskRadius (17) | 0.017561 |
PaintCorrectionMaskRadius (18) | 0.018549 |
PaintCorrectionMaskRadius (19) | 0.018426 |
PaintCorrectionMaskRadius (2) | 0.263699 |
PaintCorrectionMaskRadius (20) | 0.017577 |
PaintCorrectionMaskRadius (3) | 0.257041 |
PaintCorrectionMaskRadius (4) | 0.256716 |
PaintCorrectionMaskRadius (5) | 0.257982 |
PaintCorrectionMaskRadius (6) | 0.257287 |
PaintCorrectionMaskRadius (7) | 0.267558 |
PaintCorrectionMaskRadius (8) | 0.256696 |
PaintCorrectionMaskRadius (9) | 0.257048 |
PaintCorrectionMaskRadius | 0.030562 |
PaintCorrectionMaskValue (2) | 1.000000 |
PaintCorrectionMaskValue | 0.000000 |
PaintCorrectionMaskWhat | Mask/Paint |
PaintCorrectionMoire | 0.000000 |
PaintCorrectionSaturation | 0.000000 |
PaintCorrectionShadows2012 | 0.000000 |
PaintCorrectionSharpness | 0.000000 |
PaintCorrectionTemperature | 0.000000 |
PaintCorrectionTint (3) | 0.458560 |
PaintCorrectionTint | 0.000000 |
PaintCorrectionWhat | Correction |
ParametricDarks | 0 |
ParametricHighlights | 0 |
ParametricHighlightSplit | 75 |
ParametricLights | 0 |
ParametricMidtoneSplit | 50 |
ParametricShadows | 0 |
ParametricShadowSplit | 25 |
PerspectiveAspect | 0 |
PerspectiveHorizontal | 0 |
PerspectiveRotate | 0.0 |
PerspectiveScale | 100 |
PerspectiveUpright | 0 |
PerspectiveVertical | 0 |
PerspectiveX | 0.00 |
PerspectiveY | 0.00 |
PostCropVignetteAmount | 0 |
ProcessVersion | 6.7 |
ProfileDescription | sRGB IEC61966-2.1 |
RecommendedExposureIndex | 50 |
RedHue | 0 |
RedSaturation | 0 |
Rights | SNB |
Saturation (1) | 0 |
Saturation | Normal |
SaturationAdjustmentAqua | 0 |
SaturationAdjustmentBlue | +44 |
SaturationAdjustmentGreen | +19 |
SaturationAdjustmentMagenta | 0 |
SaturationAdjustmentOrange | 0 |
SaturationAdjustmentPurple | 0 |
SaturationAdjustmentRed | 0 |
SaturationAdjustmentYellow | 0 |
ScaleFactor35efl | 1.0 |
SceneCaptureType | Standard |
SceneType | Directly photographed |
SensitivityType | Recommended Exposure Index |
Shadows2012 | +100 |
ShadowTint | 0 |
SharpenDetail | 50 |
SharpenEdgeMasking | 22 |
SharpenRadius | +1.0 |
Sharpness (1) | 50 |
Sharpness | Normal |
ShutterSpeed | 198 |
ShutterSpeedValue | 198 |
Software | Adobe Photoshop Lightroom 6.6.1 (Windows) |
SplitToningBalance | 0 |
SplitToningHighlightHue | 0 |
SplitToningHighlightSaturation | 0 |
SplitToningShadowHue | 0 |
SplitToningShadowSaturation | 0 |
Tint | +12 |
ToneCurve | 0, 0, 255, 255 |
ToneCurveBlue | 0, 0, 255, 255 |
ToneCurveGreen | 0, 0, 255, 255 |
ToneCurveName | Linear |
ToneCurveName2012 | Linear |
ToneCurvePV2012 | 0, 0, 255, 255 |
ToneCurvePV2012Blue | 0, 0, 255, 255 |
ToneCurvePV2012Green | 0, 0, 255, 255 |
ToneCurvePV2012Red | 0, 0, 255, 255 |
ToneCurveRed | 0, 0, 255, 255 |
ToneMapStrength | 0 |
Version | 9.6 |
Vibrance | 0 |
VignetteAmount | 0 |
WhiteBalance (1) | As Shot |
WhiteBalance | Auto |
Whites2012 | +49 |