Felt | Verdi |
AlreadyApplied | True |
Aperture | 13.0 |
ApertureValue | 13.0 |
Artist | Picasa |
AutoLateralCA | 1 |
AutoWhiteVersion | 134348800 |
BitsPerSample | 8 |
Blacks2012 | +33 |
BlueHue | 0 |
BlueSaturation | 0 |
BrightnessValue | 9.09 |
By-line | Picasa |
CameraProfile | Camera ASTIA/SOFT |
CircleOfConfusion | 0.020 mm |
Clarity2012 | 0 |
ColorComponents | 3 |
ColorNoiseReduction | 25 |
ColorNoiseReductionDetail | 50 |
ColorNoiseReductionSmoothness | 50 |
ColorSpace | sRGB |
ColorTemperature | 5100 |
Contrast2012 | -9 |
ConvertToGrayscale | False |
CreateDate | 2016:07:27 13:31:30 |
Creator | Picasa |
CreatorTool | Adobe Photoshop Lightroom 6.6.1 (Windows) |
CropAngle | 0.671357 |
CropBottom | 0.907259 |
CropConstrainToWarp | 0 |
CropLeft | 0.012476 |
CropRight | 0.988249 |
CropTop | 0 |
CustomRendered | Normal |
DateCreated (1) | 2016:07:27 13:31:30 |
DateCreated | 2016:07:27 |
DateTimeOriginal | 2016:07:27 13:31:30 |
DefringeGreenAmount | 0 |
DefringeGreenHueHi | 60 |
DefringeGreenHueLo | 40 |
DefringePurpleAmount | 0 |
DefringePurpleHueHi | 70 |
DefringePurpleHueLo | 30 |
Dehaze | +14 |
ExifImageHeight | 1207 |
ExifImageWidth | 1999 |
Exposure2012 | +0.10 |
ExposureCompensation | -0.33 |
ExposureMode | Auto |
ExposureProgram | Aperture-priority AE |
ExposureTime | 1/450 |
Flash | Off, Did not fire |
FNumber | 13.0 |
FocalLength | 18.5 mm |
FocalLength35efl | 18.5 mm (35 mm equivalent: 28.0 mm) |
FocalLengthIn35mmFormat | 28 mm |
Format | image/jpeg |
FOV | 65.5 deg |
GrainAmount | 0 |
GreenHue | 0 |
GreenSaturation | 0 |
HasCrop | True |
HasSettings | True |
Highlights2012 | -48 |
HueAdjustmentAqua | 0 |
HueAdjustmentBlue | 0 |
HueAdjustmentGreen | 0 |
HueAdjustmentMagenta | 0 |
HueAdjustmentOrange | 0 |
HueAdjustmentPurple | 0 |
HueAdjustmentRed | 0 |
HueAdjustmentYellow | 0 |
HyperfocalDistance | 1.33 m |
ImageHeight | 1207 |
ImageSize | 1999x1207 |
ImageWidth | 1999 |
ISO | 400 |
Lens | XF18-135mmF3.5-5.6R LM OIS WR |
LensInfo | 18-135mm f/3.5-5.6 |
LensMake | FUJIFILM |
LensManualDistortionAmount | 0 |
LensModel | XF18-135mmF3.5-5.6R LM OIS WR |
LensProfileEnable | 0 |
LensProfileSetup | LensDefaults |
LensSerialNumber | 43A08316 |
LightSource | Unknown |
LightValue | 14.2 |
LuminanceAdjustmentAqua | 0 |
LuminanceAdjustmentBlue | 0 |
LuminanceAdjustmentGreen | 0 |
LuminanceAdjustmentMagenta | 0 |
LuminanceAdjustmentOrange | 0 |
LuminanceAdjustmentPurple | 0 |
LuminanceAdjustmentRed | 0 |
LuminanceAdjustmentYellow | 0 |
LuminanceSmoothing | 0 |
Make | FUJIFILM |
MaxApertureValue | 3.5 |
Megapixels | 2.4 |
MeteringMode | Multi-segment |
Model | X-T1 |
ModifyDate (1) | 2016:08:09 11:51:50+02:00 |
ModifyDate | 2016:08:09 11:51:50 |
ParametricDarks | 0 |
ParametricHighlights | 0 |
ParametricHighlightSplit | 75 |
ParametricLights | 0 |
ParametricMidtoneSplit | 50 |
ParametricShadows | 0 |
ParametricShadowSplit | 25 |
PerspectiveAspect | 0 |
PerspectiveHorizontal | 0 |
PerspectiveRotate | 0.0 |
PerspectiveScale | 100 |
PerspectiveUpright | 0 |
PerspectiveVertical | 0 |
PerspectiveX | 0.00 |
PerspectiveY | 0.00 |
PostCropVignetteAmount | -24 |
PostCropVignetteFeather | 50 |
PostCropVignetteHighlightContrast | 0 |
PostCropVignetteMidpoint | 50 |
PostCropVignetteRoundness | 0 |
PostCropVignetteStyle | 1 |
ProcessVersion | 6.7 |
RedHue | 0 |
RedSaturation | 0 |
RelatedImageHeight | 1207 |
RelatedImageWidth | 1999 |
Saturation | 0 |
SaturationAdjustmentAqua | 0 |
SaturationAdjustmentBlue | 0 |
SaturationAdjustmentGreen | 0 |
SaturationAdjustmentMagenta | 0 |
SaturationAdjustmentOrange | 0 |
SaturationAdjustmentPurple | 0 |
SaturationAdjustmentRed | 0 |
SaturationAdjustmentYellow | 0 |
ScaleFactor35efl | 1.5 |
SceneCaptureType | Standard |
SceneType | Directly photographed |
SensingMethod | One-chip color area |
SensitivityType | Standard Output Sensitivity |
Shadows2012 | +79 |
ShadowTint | 0 |
SharpenDetail | 100 |
SharpenEdgeMasking | 12 |
SharpenRadius | +1.0 |
Sharpness (1) | 41 |
Sharpness | Hard |
ShutterSpeed | 1/450 |
ShutterSpeedValue | 1/450 |
Software | Adobe Photoshop Lightroom 6.6.1 (Windows) |
SplitToningBalance | 0 |
SplitToningHighlightHue | 0 |
SplitToningHighlightSaturation | 0 |
SplitToningShadowHue | 0 |
SplitToningShadowSaturation | 0 |
SubjectDistanceRange | Unknown |
Tint | +5 |
ToneCurve | 0, 0, 255, 255 |
ToneCurveBlue | 0, 0, 255, 255 |
ToneCurveGreen | 0, 0, 255, 255 |
ToneCurveName | Linear |
ToneCurveName2012 | Linear |
ToneCurvePV2012 | 0, 0, 255, 255 |
ToneCurvePV2012Blue | 0, 0, 255, 255 |
ToneCurvePV2012Green | 0, 0, 255, 255 |
ToneCurvePV2012Red | 0, 0, 255, 255 |
ToneCurveRed | 0, 0, 255, 255 |
ToneMapStrength | 0 |
Version | 9.6 |
Vibrance | 0 |
VignetteAmount | 0 |
WhiteBalance (1) | As Shot |
WhiteBalance | Auto |
Whites2012 | +5 |