Felt | Verdi |
Accentuation | -1.2 |
AEBBracketValue | 0 |
AlreadyApplied | True |
Aperture | 6.3 |
ApertureValue | 6.3 |
ApproximateFocusDistance | 4.61 |
Artist | |
AutoExposureBracketing | Off |
AutoISO | 100 |
AutoLateralCA | 0 |
AutoWhiteVersion | 134348800 |
BaseISO | 0 |
BitsPerSample | 8 |
BlackClip | 2.200000 |
Blacks2012 | 0 |
BlendingPoint | -0.5 |
BlueHue | 0 |
BlueSaturation | 0 |
BulbDuration | 0 |
CameraProfile | Embedded |
CameraType | n/a |
CanonExposureMode | Unknown (-1) |
CanonFirmwareVersion | |
CanonFlashMode | n/a |
CanonImageSize | n/a |
CanonImageType | |
CircleOfConfusion | 0.019 mm |
Clarity2012 | 0 |
ColorComponents | 3 |
ColorMode | RGB |
ColorNoiseReduction | 0 |
ColorSpace | sRGB |
ContinuousDrive | Unknown (-1) |
Contrast2012 | -1 |
ControlMode | n/a |
ConvertToGrayscale | False |
CreateDate (1) | 2016:07:07 07:13:20+02:00 |
CreateDate | 2016:07:07 07:13:20 |
CreatorTool | Photomatix Pro 5.0.4 (32-bit) |
CustomRendered | Normal |
DateCreated | 2016:07:07 07:13:20.062 |
DateTimeOriginal | 2016:07:07 07:13:20 |
DefringeGreenAmount | 0 |
DefringeGreenHueHi | 60 |
DefringeGreenHueLo | 40 |
DefringePurpleAmount | 0 |
DefringePurpleHueHi | 70 |
DefringePurpleHueLo | 30 |
DigitalZoom | None |
DOF | inf (1.94 m - inf) |
DriveMode | Continuous Shooting |
EasyMode | Unknown (-1) |
ExifImageHeight | 3655 |
ExifImageWidth | 5469 |
Exposure2012 | -0.10 |
ExposureCompensation | 0 |
ExposureMode | Auto bracket |
ExposureTime | 1/40 |
FileNumber | 0 |
Firmware | 1.1.1 |
Flash | Off, Did not fire |
FlashBits | (none) |
FlashCompensation | 0 |
FlashExposureComp | 0 |
FlashGuideNumber | 0 |
FNumber | 6.3 |
FocalLength | 20.0 mm |
FocalLength35efl | 20.0 mm (35 mm equivalent: 31.5 mm) |
FocalUnits | 32/mm |
FocusMode | Single |
FocusRange | Not Known |
Format | image/tiff |
FOV | 59.4 deg |
GrainAmount | 0 |
GreenHue | 0 |
GreenSaturation | 0 |
HasCrop | False |
HasSettings | True |
Highlights2012 | -27 |
HueAdjustmentAqua | 0 |
HueAdjustmentBlue | 0 |
HueAdjustmentGreen | 0 |
HueAdjustmentMagenta | 0 |
HueAdjustmentOrange | 0 |
HueAdjustmentPurple | 0 |
HueAdjustmentRed | 0 |
HueAdjustmentYellow | 0 |
HyperfocalDistance | 3.33 m |
ICCProfileName | sRGB IEC61966-2.1 |
ImageHeight | 3655 |
ImageNumber | 0 |
ImageSize | 5469x3655 |
ImageWidth | 5469 |
IncrementalTemperature | -6 |
IncrementalTint | 0 |
ISO (1) | 0 |
ISO | 100 |
IsPano360 | No |
Lens (1) | 10-20mm |
Lens | 0.0 mm |
Lens35efl | 0.0 mm (35 mm equivalent: 0.0 mm) |
LensID (1) | 152 |
LensID | n/a |
LensInfo | 10-20mm f/? |
LensManualDistortionAmount | 0 |
LensModel | 10-20mm |
LensProfileEnable | 0 |
LensProfileSetup | LensDefaults |
LensSerialNumber | 0000000000 |
LensType | n/a |
LightValue | 10.6 |
LuminanceAdjustmentAqua | 0 |
LuminanceAdjustmentBlue | 0 |
LuminanceAdjustmentGreen | 0 |
LuminanceAdjustmentMagenta | 0 |
LuminanceAdjustmentOrange | 0 |
LuminanceAdjustmentPurple | 0 |
LuminanceAdjustmentRed | 0 |
LuminanceAdjustmentYellow | 0 |
LuminanceSmoothing | 0 |
MacroMode | Unknown (0) |
Make | Canon |
ManualFlashOutput | n/a |
MaxFocalLength | 0 mm |
MeasuredEV | 5.00 |
Megapixels | 20.0 |
MeteringMode | Unknown (-1) |
Method | Fusion/Adjust |
MidtonesAdjustment | 0.4 |
MinFocalLength | 0 mm |
Model | Canon EOS 70D |
ModifyDate (1) | 2016:08:10 12:04:49+02:00 |
ModifyDate | 2016:07:07 07:13:20 |
NDFilter | n/a |
OpticalZoomCode | n/a |
Orientation | Horizontal (normal) |
OwnerName | |
ParametricDarks | 0 |
ParametricHighlights | 0 |
ParametricHighlightSplit | 75 |
ParametricLights | 0 |
ParametricMidtoneSplit | 50 |
ParametricShadows | 0 |
ParametricShadowSplit | 25 |
PerspectiveAspect | 0 |
PerspectiveHorizontal | 0 |
PerspectiveRotate | 0.0 |
PerspectiveScale | 100 |
PerspectiveUpright | 0 |
PerspectiveVertical | 0 |
PostCropVignetteAmount | 0 |
ProcessVersion | 6.7 |
ProfileDescription | sRGB v1.31 (Canon) |
Quality | Fine |
Rating | 0 |
RawFileName | IMG_6999_7000_7001_fused.tif |
RecommendedExposureIndex | 100 |
RedHue | 0 |
RedSaturation | 0 |
RelatedImageHeight | 3655 |
RelatedImageWidth | 5469 |
Saturation (1) | -32 |
Saturation | -4.8 |
SaturationAdjustmentAqua | 0 |
SaturationAdjustmentBlue | 0 |
SaturationAdjustmentGreen | 0 |
SaturationAdjustmentMagenta | 0 |
SaturationAdjustmentOrange | 0 |
SaturationAdjustmentPurple | 0 |
SaturationAdjustmentRed | 0 |
SaturationAdjustmentYellow | 0 |
ScaleFactor35efl | 1.6 |
SceneCaptureType | Standard |
SelfTimer | Off |
SensitivityType | Recommended Exposure Index |
SequenceNumber | 0 |
SerialNumber | 163026000919 |
Shadows | 2.7 |
Shadows2012 | -9 |
ShadowTint | 0 |
SharpenDetail | 25 |
SharpenEdgeMasking | 0 |
SharpenRadius | +1.0 |
Sharpness (1) | 0 |
Sharpness | 8.0 |
ShootingMode | Unknown (-1) |
ShutterSpeed | 1/40 |
ShutterSpeedValue | 1/40 |
SlowShutter | None |
Software | Digital Photo Professional |
SplitToningBalance | 0 |
SplitToningHighlightHue | 0 |
SplitToningHighlightSaturation | 0 |
SplitToningShadowHue | 0 |
SplitToningShadowSaturation | 0 |
SRAWQuality | n/a |
TargetAperture | 6.3 |
TargetExposureTime | 1/40 |
ToneCurve | 0, 0, 255, 255 |
ToneCurveBlue | 0, 0, 255, 255 |
ToneCurveGreen | 0, 0, 255, 255 |
ToneCurveName | Linear |
ToneCurveName2012 | Linear |
ToneCurvePV2012 | 0, 0, 255, 255 |
ToneCurvePV2012Blue | 0, 0, 255, 255 |
ToneCurvePV2012Green | 0, 0, 255, 255 |
ToneCurvePV2012Red | 0, 0, 255, 255 |
ToneCurveRed | 0, 0, 255, 255 |
UserComment | |
Version (1) | 5.0 |
Version | 8.5 |
Vibrance | -9 |
VignetteAmount | 0 |
WhiteBalance (1) | Auto |
WhiteBalance (2) | Custom |
WhiteBalance | Unknown (-1) |
WhiteClip | 0.000000 |
Whites2012 | 0 |
ZoomSourceWidth | 0 |
ZoomTargetWidth | 0 |