Felt | Verdi |
AlreadyApplied | True |
Aperture | 8.0 |
ApertureValue | 8.0 |
ApproximateFocusDistance | 56.2 |
Artist | Sindre Nedrevag |
AutoLateralCA | 0 |
AutoWhiteVersion | 134348800 |
BitsPerSample | 8 |
Blacks2012 | -6 |
BlueHue | 0 |
BlueSaturation | 0 |
By-line | Sindre Nedrevag |
CameraProfile | Adobe Standard |
CFAPattern | [Red,Green][Green,Blue] |
CircleOfConfusion | 0.030 mm |
Clarity2012 | +6 |
ColorComponents | 3 |
ColorNoiseReduction | 30 |
ColorNoiseReductionDetail | 60 |
ColorNoiseReductionSmoothness | 50 |
ColorSpace | sRGB |
ColorTemperature | 5700 |
ColorTransform | YCbCr |
Contrast | Normal |
Contrast2012 | +6 |
ConvertToGrayscale | False |
CreateDate (1) | 2016:08:11 15:38:36.50 |
CreateDate | 2016:08:11 15:38:36 |
Creator | Sindre Nedrevag |
CreatorTool | Adobe Photoshop Lightroom 6.6.1 (Windows) |
CropAngle | 0 |
CropBottom | 0.711491 |
CropConstrainToWarp | 0 |
CropLeft | 0.176566 |
CropRight | 0.995932 |
CropTop | 0 |
CustomRendered | Normal |
DateCreated (1) | 2016:08:11 |
DateCreated | 2016:08:11 15:38:36.50 |
DateTimeOriginal | 2016:08:11 15:38:36 |
DefringeGreenAmount | 0 |
DefringeGreenHueHi | 60 |
DefringeGreenHueLo | 40 |
DefringePurpleAmount | 0 |
DefringePurpleHueHi | 70 |
DefringePurpleHueLo | 30 |
Dehaze | 0 |
DigitalZoomRatio | 1 |
DOF | 6.04 m (53.34 - 59.38 m) |
Exposure2012 | +0.36 |
ExposureCompensation | 0 |
ExposureMode | Auto |
ExposureProgram | Aperture-priority AE |
ExposureTime | 1/1000 |
Flash | No Flash |
FNumber | 8.0 |
FocalLength | 500.0 mm |
FocalLength35efl | 500.0 mm (35 mm equivalent: 500.0 mm) |
FocalLengthIn35mmFormat | 500 mm |
Format | image/jpeg |
FOV | 4.1 deg |
GainControl | Low gain up |
GrainAmount | 0 |
GreenHue | 0 |
GreenSaturation | 0 |
HasCrop | True |
HasSettings | True |
Highlights2012 | +17 |
HueAdjustmentAqua | 0 |
HueAdjustmentBlue | 0 |
HueAdjustmentGreen | 0 |
HueAdjustmentMagenta | 0 |
HueAdjustmentOrange | 0 |
HueAdjustmentPurple | 0 |
HueAdjustmentRed | 0 |
HueAdjustmentYellow | -5 |
HyperfocalDistance | 1040.06 m |
ImageHeight | 2334 |
ImageNumber | 30651 |
ImageSize | 4038x2334 |
ImageWidth | 4038 |
ISO | 400 |
Lens | 200.0-500.0 mm f/5.6 |
LensID (1) | 174 |
LensID | AF-S Nikkor 200-500mm f/5.6E ED VR |
LensInfo | 200-500mm f/5.6 |
LensManualDistortionAmount | 0 |
LensModel | 200.0-500.0 mm f/5.6 |
LensProfileEnable | 0 |
LensProfileSetup | LensDefaults |
LightSource | Fine Weather |
LightValue | 14.0 |
LuminanceAdjustmentAqua | 0 |
LuminanceAdjustmentBlue | 0 |
LuminanceAdjustmentGreen | 0 |
LuminanceAdjustmentMagenta | 0 |
LuminanceAdjustmentOrange | +11 |
LuminanceAdjustmentPurple | 0 |
LuminanceAdjustmentRed | 0 |
LuminanceAdjustmentYellow | +6 |
LuminanceNoiseReductionContrast | 25 |
LuminanceNoiseReductionDetail | 65 |
LuminanceSmoothing | 17 |
Make | NIKON CORPORATION |
MaxApertureValue | 5.7 |
Megapixels | 9.4 |
MeteringMode | Center-weighted average |
Model | NIKON D4 |
ModifyDate (1) | 2016:08:13 17:37:46+02:00 |
ModifyDate | 2016:08:13 17:37:46 |
PaintCorrectionActive | true |
PaintCorrectionAmount | 1.000000 |
PaintCorrectionBrightness | 0.000000 |
PaintCorrectionClarity2012 (1) | 0.000000 |
PaintCorrectionClarity2012 | 0.010000 |
PaintCorrectionContrast2012 (1) | 0.000000 |
PaintCorrectionContrast2012 | 0.050000 |
PaintCorrectionDefringe | 0.000000 |
PaintCorrectionExposure2012 (1) | 0.000000 |
PaintCorrectionExposure2012 | 0.012500 |
PaintCorrectionHighlights2012 (1) | -0.103450 |
PaintCorrectionHighlights2012 | 0.000000 |
PaintCorrectionHue | 0.000000 |
PaintCorrectionLocalBlacks2012 | 0.000000 |
PaintCorrectionLocalDehaze | 0.000000 |
PaintCorrectionLocalWhites2012 | 0.000000 |
PaintCorrectionLuminanceNoise (1) | 0.000000 |
PaintCorrectionLuminanceNoise | 0.100000 |
PaintCorrectionMaskCenterWeight | 0.000000 |
PaintCorrectionMaskFlow | 1.000000 |
PaintCorrectionMaskRadius (1) | 0.007562 |
PaintCorrectionMaskRadius (12) | 0.005102 |
PaintCorrectionMaskRadius (14) | 0.006795 |
PaintCorrectionMaskRadius (8) | 0.002732 |
PaintCorrectionMaskRadius | 0.002916 |
PaintCorrectionMaskValue | 1.000000 |
PaintCorrectionMaskWhat | Mask/Paint |
PaintCorrectionMoire | 0.000000 |
PaintCorrectionSaturation (3) | 0.020000 |
PaintCorrectionSaturation | 0.000000 |
PaintCorrectionShadows2012 | 0.000000 |
PaintCorrectionSharpness (1) | 0.000000 |
PaintCorrectionSharpness | 0.200000 |
PaintCorrectionTemperature (1) | 0.000000 |
PaintCorrectionTemperature | 0.020000 |
PaintCorrectionTint | 0.000000 |
PaintCorrectionWhat | Correction |
ParametricDarks | 0 |
ParametricHighlights | -26 |
ParametricHighlightSplit | 75 |
ParametricLights | -15 |
ParametricMidtoneSplit | 50 |
ParametricShadows | +28 |
ParametricShadowSplit | 25 |
PerspectiveAspect | 0 |
PerspectiveHorizontal | 0 |
PerspectiveRotate | 0.0 |
PerspectiveScale | 110 |
PerspectiveUpright | 0 |
PerspectiveVertical | 0 |
PerspectiveX | 0.00 |
PerspectiveY | 0.00 |
PostCropVignetteAmount | 0 |
ProcessVersion | 6.7 |
ProfileDescription | sRGB IEC61966-2.1 |
RedHue | 0 |
RedSaturation | 0 |
Saturation (1) | +2 |
Saturation | Normal |
SaturationAdjustmentAqua | 0 |
SaturationAdjustmentBlue | 0 |
SaturationAdjustmentGreen | 0 |
SaturationAdjustmentMagenta | 0 |
SaturationAdjustmentOrange | +10 |
SaturationAdjustmentPurple | 0 |
SaturationAdjustmentRed | 0 |
SaturationAdjustmentYellow | +10 |
ScaleFactor35efl | 1.0 |
SceneCaptureType | Standard |
SceneType | Directly photographed |
SensingMethod | One-chip color area |
SensitivityType | Recommended Exposure Index |
SerialNumber | 2055090 |
Shadows2012 | +35 |
ShadowTint | 0 |
SharpenDetail | 45 |
SharpenEdgeMasking | 32 |
SharpenRadius | +1.0 |
Sharpness (1) | 45 |
Sharpness | Normal |
ShutterSpeed | 1/1000 |
ShutterSpeedValue | 1/1000 |
Software | Adobe Photoshop Lightroom 6.6.1 (Windows) |
SplitToningBalance | 0 |
SplitToningHighlightHue | 0 |
SplitToningHighlightSaturation | 0 |
SplitToningShadowHue | 0 |
SplitToningShadowSaturation | 0 |
SubjectDistanceRange | Unknown |
Tint | 0 |
ToneCurve | 0, 0, 255, 255 |
ToneCurveBlue | 0, 0, 255, 255 |
ToneCurveGreen | 0, 0, 255, 255 |
ToneCurveName | Linear |
ToneCurveName2012 | Linear |
ToneCurvePV2012 | 0, 0, 255, 255 |
ToneCurvePV2012Blue | 0, 0, 255, 255 |
ToneCurvePV2012Green | 0, 0, 255, 255 |
ToneCurvePV2012Red | 0, 0, 255, 255 |
ToneCurveRed | 0, 0, 255, 255 |
ToneMapStrength | 0 |
Version | 9.6 |
Vibrance | +26 |
VignetteAmount | +26 |
VignetteMidpoint | 31 |
WhiteBalance (1) | Custom |
WhiteBalance | Manual |
Whites2012 | -14 |