Felt | Verdi |
AlreadyApplied | True |
Aperture | 9.0 |
ApertureValue | 9.0 |
AutoLateralCA | 0 |
AutoWhiteVersion | 134348800 |
BitsPerSample | 8 |
Blacks2012 | -53 |
BlueHue | 0 |
BlueSaturation | 0 |
CameraProfile | Embedded |
CircleOfConfusion | 0.031 mm |
Clarity2012 | +100 |
ColorComponents | 3 |
ColorMode | RGB |
ColorNoiseReduction | 0 |
ColorSpace | Uncalibrated |
ColorTransform | YCbCr |
Contrast2012 | +44 |
ConvertToGrayscale | False |
CreateDate | 2017:08:21 15:52:05 |
CustomRendered | Normal |
DateCreated (1) | 2017:08:21 |
DateCreated | 2017:08:21 15:52:05.077 |
DateTimeOriginal | 2017:08:21 15:52:05 |
DefringeGreenAmount | 0 |
DefringeGreenHueHi | 60 |
DefringeGreenHueLo | 40 |
DefringePurpleAmount | 0 |
DefringePurpleHueHi | 70 |
DefringePurpleHueLo | 30 |
Dehaze | 0 |
ExifImageHeight | 800 |
ExifImageWidth | 1200 |
Exposure2012 | -2.10 |
ExposureCompensation | +1/3 |
ExposureMode | Auto |
ExposureProgram | Aperture-priority AE |
ExposureTime | 1/30 |
Firmware | 2.1.2 |
Flash | On, Fired |
FlashCompensation | 0.5 |
FNumber | 9.0 |
FocalLength | 14.0 mm |
FocalLength35efl | 14.0 mm (35 mm equivalent: 13.7 mm) |
Format | image/jpeg |
FOV | 105.6 deg |
GrainAmount | 0 |
GreenHue | 0 |
GreenSaturation | 0 |
HasCrop | False |
HasSettings | True |
Highlights2012 | -89 |
HueAdjustmentAqua | +62 |
HueAdjustmentBlue | +13 |
HueAdjustmentGreen | +33 |
HueAdjustmentMagenta | 0 |
HueAdjustmentOrange | -9 |
HueAdjustmentPurple | 0 |
HueAdjustmentRed | -48 |
HueAdjustmentYellow | -24 |
HyperfocalDistance | 0.71 m |
ICCProfileName | Adobe RGB (1998) |
ImageHeight | 800 |
ImageNumber | 0 |
ImageSize | 1200x800 |
ImageWidth | 1200 |
IncrementalTemperature | -37 |
IncrementalTint | 0 |
ISO | 160 |
Lens | 14mm |
LensID (1) | 152 |
LensID | Sigma 14mm f/2.8 EX Aspherical HSM |
LensInfo | 14mm f/? |
LensManualDistortionAmount | 0 |
LensModel | 14mm |
LensProfileEnable | 0 |
LensProfileSetup | LensDefaults |
LightValue | 10.6 |
LuminanceAdjustmentAqua | -51 |
LuminanceAdjustmentBlue | -22 |
LuminanceAdjustmentGreen | +98 |
LuminanceAdjustmentMagenta | 0 |
LuminanceAdjustmentOrange | +77 |
LuminanceAdjustmentPurple | 0 |
LuminanceAdjustmentRed | -8 |
LuminanceAdjustmentYellow | +38 |
LuminanceSmoothing | 0 |
Make | Canon |
MaxApertureValue | 2.8 |
Megapixels | 0.960 |
MeteringMode | Multi-segment |
Model | Canon EOS 5D Mark II |
ModifyDate (1) | 2016:08:24 20:20:37+02:00 |
ModifyDate | 2016:08:24 20:20:37 |
Orientation | Horizontal (normal) |
ParametricDarks | 0 |
ParametricHighlights | 0 |
ParametricHighlightSplit | 75 |
ParametricLights | 0 |
ParametricMidtoneSplit | 50 |
ParametricShadows | 0 |
ParametricShadowSplit | 25 |
PerspectiveAspect | 0 |
PerspectiveHorizontal | 0 |
PerspectiveRotate | 0.0 |
PerspectiveScale | 100 |
PerspectiveUpright | 0 |
PerspectiveVertical | 0 |
PhotographicSensitivity | 160 |
PostCropVignetteAmount | 0 |
ProcessVersion | 6.7 |
ProfileDescription | Adobe RGB (1998) |
Rating | 0 |
RawFileName | IMG_1387.JPG |
RedHue | 0 |
RedSaturation | 0 |
Saturation | 0 |
SaturationAdjustmentAqua | 0 |
SaturationAdjustmentBlue | 0 |
SaturationAdjustmentGreen | +51 |
SaturationAdjustmentMagenta | 0 |
SaturationAdjustmentOrange | 0 |
SaturationAdjustmentPurple | 0 |
SaturationAdjustmentRed | -2 |
SaturationAdjustmentYellow | 0 |
ScaleFactor35efl | 1.0 |
SceneCaptureType | Standard |
SerialNumber | 530304310 |
Shadows2012 | -22 |
ShadowTint | 0 |
SharpenDetail | 25 |
SharpenEdgeMasking | 0 |
SharpenRadius | +1.0 |
Sharpness | 0 |
ShutterSpeed | 1/30 |
ShutterSpeedValue | 1/30 |
Software | Adobe Photoshop CS6 (Macintosh) |
SplitToningBalance | 0 |
SplitToningHighlightHue | 0 |
SplitToningHighlightSaturation | 0 |
SplitToningShadowHue | 0 |
SplitToningShadowSaturation | 0 |
ToneCurve | 0, 0, 255, 255 |
ToneCurveBlue | 0, 0, 255, 255 |
ToneCurveGreen | 0, 0, 255, 255 |
ToneCurveName | Linear |
ToneCurveName2012 | Linear |
ToneCurvePV2012 | 0, 0, 255, 255 |
ToneCurvePV2012Blue | 0, 0, 255, 255 |
ToneCurvePV2012Green | 0, 0, 255, 255 |
ToneCurvePV2012Red | 0, 0, 255, 255 |
ToneCurveRed | 0, 0, 255, 255 |
ToneMapStrength | 0 |
URL_List | |
Version | 9.1.1 |
Vibrance | 0 |
VignetteAmount | 0 |
WhiteBalance (1) | Custom |
WhiteBalance | Auto |
Whites2012 | +63 |