Felt | Verdi |
AlreadyApplied | True |
Aperture | 22.0 |
ApertureValue | 22.0 |
ApproximateFocusDistance | 2 |
Artist | JarleKalberg |
AutoLateralCA | 1 |
AutoWhiteVersion | 134348800 |
BitsPerSample | 8 |
Blacks2012 | -14 |
BlueHue | 0 |
BlueSaturation | 0 |
By-line | JarleKalberg |
CameraProfile | Adobe Standard |
CircGradBasedCorrActive | true |
CircGradBasedCorrAmount | 1.000000 |
CircGradBasedCorrBrightness | 0.000000 |
CircGradBasedCorrClarity2012 | -0.761900 |
CircGradBasedCorrContrast2012 | 0.000000 |
CircGradBasedCorrDefringe | 0.000000 |
CircGradBasedCorrExposure2012 | 0.595250 |
CircGradBasedCorrHighlights2012 | 0.000000 |
CircGradBasedCorrHue | 240.000000 |
CircGradBasedCorrLocalBlacks2012 | 0.000000 |
CircGradBasedCorrLocalDehaze | 0.000000 |
CircGradBasedCorrLocalWhites2012 | 0.000000 |
CircGradBasedCorrLuminanceNoise | 0.000000 |
CircGradBasedCorrMaskAngle | 1.127320 |
CircGradBasedCorrMaskBottom | 0.738391 |
CircGradBasedCorrMaskFeather | +93 |
CircGradBasedCorrMaskFlipped | true |
CircGradBasedCorrMaskLeft | 0.548286 |
CircGradBasedCorrMaskMidpoint | +50 |
CircGradBasedCorrMaskRight | 0.556381 |
CircGradBasedCorrMaskRoundness | 0 |
CircGradBasedCorrMaskTop | 0.729472 |
CircGradBasedCorrMaskValue | 1.000000 |
CircGradBasedCorrMaskVersion | +2 |
CircGradBasedCorrMaskWhat | Mask/CircularGradient |
CircGradBasedCorrMoire | 0.000000 |
CircGradBasedCorrSaturation (1) | 0.274730 |
CircGradBasedCorrSaturation | 0.000000 |
CircGradBasedCorrShadows2012 | -0.071430 |
CircGradBasedCorrSharpness | -0.357140 |
CircGradBasedCorrTemperature | 0.642860 |
CircGradBasedCorrTint | 0.000000 |
CircGradBasedCorrWhat | Correction |
CircleOfConfusion | 0.020 mm |
Clarity2012 | 0 |
ColorComponents | 3 |
ColorNoiseReduction | 25 |
ColorNoiseReductionDetail | 50 |
ColorNoiseReductionSmoothness | 50 |
ColorSpace | sRGB |
ColorTemperature | 8000 |
ColorTransform | YCbCr |
Contrast | Normal |
Contrast2012 | 0 |
ConvertToGrayscale | False |
CreateDate | 2016:08:29 20:30:36 |
Creator | JarleKalberg |
CreatorTool | Adobe Photoshop Lightroom 6.6.1 (Windows) |
CropAngle | 1.298 |
CropBottom | 1 |
CropConstrainToWarp | 0 |
CropLeft | 0.029091 |
CropRight | 0.781443 |
CropTop | 0.326735 |
CustomRendered | Normal |
DateCreated (1) | 2016:08:29 |
DateCreated | 2016:08:29 20:30:36 |
DateTimeOriginal | 2016:08:29 20:30:36 |
DefringeGreenAmount | 0 |
DefringeGreenHueHi | 60 |
DefringeGreenHueLo | 40 |
DefringePurpleAmount | 0 |
DefringePurpleHueHi | 70 |
DefringePurpleHueLo | 30 |
Dehaze | 0 |
DOF | inf (0.49 m - inf) |
Exposure2012 | +0.75 |
ExposureCompensation | 0 |
ExposureMode | Manual |
ExposureProgram | Manual |
ExposureTime | 30 |
Flash | Off, Did not fire |
FNumber | 22.0 |
FocalLength | 17.0 mm |
FocalLength35efl | 17.0 mm (35 mm equivalent: 25.0 mm) |
FocalLengthIn35mmFormat | 25 mm |
Format | image/jpeg |
FOV | 71.5 deg |
GradientBasedCorrActive | true |
GradientBasedCorrAmount | 1.000000 |
GradientBasedCorrBrightness | 0.000000 |
GradientBasedCorrClarity2012 | -0.761900 |
GradientBasedCorrContrast2012 | 0.034480 |
GradientBasedCorrDefringe | 0.000000 |
GradientBasedCorrExposure2012 | -0.351250 |
GradientBasedCorrHighlights2012 | -0.285710 |
GradientBasedCorrHue | 240.000000 |
GradientBasedCorrLocalBlacks2012 | 0.000000 |
GradientBasedCorrLocalDehaze | 0.000000 |
GradientBasedCorrLocalWhites2012 | 0.000000 |
GradientBasedCorrLuminanceNoise | 0.000000 |
GradientBasedCorrMaskCenterWeight | 0.000000 |
GradientBasedCorrMaskFlow | 1.000000 |
GradientBasedCorrMaskFullX | 0.527160 |
GradientBasedCorrMaskFullY | 0.677648 |
GradientBasedCorrMaskRadius (1) | 0.029017 |
GradientBasedCorrMaskRadius (10) | 0.028919 |
GradientBasedCorrMaskRadius (11) | 0.028851 |
GradientBasedCorrMaskRadius (12) | 0.028806 |
GradientBasedCorrMaskRadius (13) | 0.028965 |
GradientBasedCorrMaskRadius (14) | 0.028858 |
GradientBasedCorrMaskRadius (15) | 0.028815 |
GradientBasedCorrMaskRadius (16) | 0.028785 |
GradientBasedCorrMaskRadius (17) | 0.028737 |
GradientBasedCorrMaskRadius (18) | 0.028832 |
GradientBasedCorrMaskRadius (19) | 0.028978 |
GradientBasedCorrMaskRadius (2) | 0.029002 |
GradientBasedCorrMaskRadius (20) | 0.029037 |
GradientBasedCorrMaskRadius (21) | 0.029577 |
GradientBasedCorrMaskRadius (22) | 0.028768 |
GradientBasedCorrMaskRadius (23) | 0.028744 |
GradientBasedCorrMaskRadius (24) | 0.028730 |
GradientBasedCorrMaskRadius (25) | 0.029625 |
GradientBasedCorrMaskRadius (26) | 0.028750 |
GradientBasedCorrMaskRadius (27) | 0.029435 |
GradientBasedCorrMaskRadius (28) | 0.042820 |
GradientBasedCorrMaskRadius (3) | 0.028979 |
GradientBasedCorrMaskRadius (4) | 0.029172 |
GradientBasedCorrMaskRadius (5) | 0.029095 |
GradientBasedCorrMaskRadius (6) | 0.029291 |
GradientBasedCorrMaskRadius (7) | 0.029083 |
GradientBasedCorrMaskRadius (8) | 0.029110 |
GradientBasedCorrMaskRadius (9) | 0.028971 |
GradientBasedCorrMaskRadius | 0.042980 |
GradientBasedCorrMaskValue (13) | 0.000000 |
GradientBasedCorrMaskValue | 1.000000 |
GradientBasedCorrMaskWhat (1) | Mask/Gradient |
GradientBasedCorrMaskWhat | Mask/Paint |
GradientBasedCorrMaskZeroX | 0.524880 |
GradientBasedCorrMaskZeroY | 0.822960 |
GradientBasedCorrMoire | 0.000000 |
GradientBasedCorrSaturation (1) | 0.034480 |
GradientBasedCorrSaturation | 0.000000 |
GradientBasedCorrShadows2012 | -0.309520 |
GradientBasedCorrSharpness | -0.357140 |
GradientBasedCorrTemperature | 0.000000 |
GradientBasedCorrTint | 0.000000 |
GradientBasedCorrWhat | Correction |
GrainAmount | 0 |
GreenHue | 0 |
GreenSaturation | 0 |
HasCrop | True |
HasSettings | True |
Highlights2012 | -31 |
HueAdjustmentAqua | 0 |
HueAdjustmentBlue | 0 |
HueAdjustmentGreen | 0 |
HueAdjustmentMagenta | 0 |
HueAdjustmentOrange | 0 |
HueAdjustmentPurple | 0 |
HueAdjustmentRed | 0 |
HueAdjustmentYellow | 0 |
HyperfocalDistance | 0.64 m |
ImageHeight | 2113 |
ImageSize | 3756x2113 |
ImageWidth | 3756 |
ISO | 100 |
Label | Green |
Lens | SIGMA 17-50mm F2.8 EX DC HSM |
LensID (1) | 8 25 |
LensID | Sigma 17-50mm F2.8 EX DC HSM |
LensInfo | 17-50mm f/2.8 |
LensManualDistortionAmount | 0 |
LensModel | SIGMA 17-50mm F2.8 EX DC HSM |
LensProfileChromaticAberrationScale | 100 |
LensProfileDistortionScale | 100 |
LensProfileEnable | 1 |
LensProfileFilename | PENTAX (SIGMA 17-50mm F2.8 EX DC HSM) - RAW.lcp |
LensProfileName | Adobe (SIGMA 17-50mm F2.8 EX DC HSM, PENTAX) |
LensProfileSetup | LensDefaults |
LensProfileVignettingScale | 100 |
LightValue | 4.0 |
LuminanceAdjustmentAqua | 0 |
LuminanceAdjustmentBlue | 0 |
LuminanceAdjustmentGreen | 0 |
LuminanceAdjustmentMagenta | 0 |
LuminanceAdjustmentOrange | 0 |
LuminanceAdjustmentPurple | 0 |
LuminanceAdjustmentRed | 0 |
LuminanceAdjustmentYellow | 0 |
LuminanceSmoothing | 0 |
Make | PENTAX |
Megapixels | 7.9 |
MeteringMode | Spot |
Model | PENTAX K-5 |
ModifyDate (1) | 2016:08:31 10:24:23+02:00 |
ModifyDate | 2016:08:31 10:24:23 |
ParametricDarks | +5 |
ParametricHighlights | 0 |
ParametricHighlightSplit | 75 |
ParametricLights | +7 |
ParametricMidtoneSplit | 50 |
ParametricShadows | +7 |
ParametricShadowSplit | 25 |
PerspectiveAspect | 0 |
PerspectiveHorizontal | 0 |
PerspectiveRotate | 0.0 |
PerspectiveScale | 100 |
PerspectiveUpright | 0 |
PerspectiveVertical | 0 |
PerspectiveX | 0.00 |
PerspectiveY | 0.00 |
PostCropVignetteAmount | 0 |
ProcessVersion | 6.7 |
ProfileDescription | sRGB IEC61966-2.1 |
Rating | 3 |
RedHue | 0 |
RedSaturation | 0 |
Saturation (1) | 0 |
Saturation | Normal |
SaturationAdjustmentAqua | 0 |
SaturationAdjustmentBlue | 0 |
SaturationAdjustmentGreen | 0 |
SaturationAdjustmentMagenta | 0 |
SaturationAdjustmentOrange | +60 |
SaturationAdjustmentPurple | 0 |
SaturationAdjustmentRed | +53 |
SaturationAdjustmentYellow | +60 |
ScaleFactor35efl | 1.5 |
SceneCaptureType | Standard |
SensingMethod | One-chip color area |
Shadows2012 | +49 |
ShadowTint | 0 |
SharpenDetail | 25 |
SharpenEdgeMasking | 30 |
SharpenRadius | +0.8 |
Sharpness (1) | 60 |
Sharpness | Normal |
ShutterSpeed | 30 |
ShutterSpeedValue | 30 |
Software | Adobe Photoshop Lightroom 6.6.1 (Windows) |
SplitToningBalance | 0 |
SplitToningHighlightHue | 30 |
SplitToningHighlightSaturation | 28 |
SplitToningShadowHue | 0 |
SplitToningShadowSaturation | 0 |
SubjectDistanceRange | Close |
Tint | +14 |
ToneCurve | 0, 0, 255, 255 |
ToneCurveBlue | 0, 0, 255, 255 |
ToneCurveGreen | 0, 0, 255, 255 |
ToneCurveName | Linear |
ToneCurveName2012 | Linear |
ToneCurvePV2012 | 0, 0, 255, 255 |
ToneCurvePV2012Blue | 0, 0, 255, 255 |
ToneCurvePV2012Green | 0, 0, 255, 255 |
ToneCurvePV2012Red | 0, 0, 255, 255 |
ToneCurveRed | 0, 0, 255, 255 |
ToneMapStrength | 0 |
Version | 9.6 |
Vibrance | +24 |
VignetteAmount | +30 |
VignetteMidpoint | 50 |
WhiteBalance (1) | Custom |
WhiteBalance | Auto |
Whites2012 | +35 |