Felt | Verdi |
AlreadyApplied | True |
Aperture | 7.1 |
ApertureValue | 7.1 |
Artist | Picasa |
AutoLateralCA | 1 |
AutoWhiteVersion | 134348800 |
BitsPerSample | 8 |
Blacks2012 | +31 |
BlueHue | 0 |
BlueSaturation | 0 |
BrightnessValue | 5.53 |
By-line | Picasa |
CameraProfile | Camera PROVIA/STANDARD |
CircleOfConfusion | 0.020 mm |
Clarity2012 | 0 |
ColorComponents | 3 |
ColorNoiseReduction | 25 |
ColorNoiseReductionDetail | 50 |
ColorNoiseReductionSmoothness | 50 |
ColorSpace | sRGB |
ColorTemperature | 4400 |
Contrast2012 | +25 |
ConvertToGrayscale | False |
CreateDate | 2016:06:15 17:19:15 |
Creator | Picasa |
CreatorTool | Adobe Photoshop Lightroom 6.6.1 (Windows) |
CropAngle | 0 |
CropBottom | 0.71669 |
CropConstrainToWarp | 0 |
CropLeft | 0.323365 |
CropRight | 0.700935 |
CropTop | 0.342215 |
CustomRendered | Normal |
DateCreated (1) | 2016:06:15 17:19:15 |
DateCreated | 2016:06:15 |
DateTimeOriginal | 2016:06:15 17:19:15 |
DefringeGreenAmount | 0 |
DefringeGreenHueHi | 60 |
DefringeGreenHueLo | 40 |
DefringePurpleAmount | 0 |
DefringePurpleHueHi | 70 |
DefringePurpleHueLo | 30 |
Dehaze | +36 |
ExifImageHeight | 1345 |
ExifImageWidth | 2023 |
Exposure2012 | +0.10 |
ExposureCompensation | -0.33 |
ExposureMode | Auto |
ExposureProgram | Aperture-priority AE |
ExposureTime | 1/70 |
Flash | Off, Did not fire |
FNumber | 7.1 |
FocalLength | 32.6 mm |
FocalLength35efl | 32.6 mm (35 mm equivalent: 49.0 mm) |
FocalLengthIn35mmFormat | 49 mm |
Format | image/jpeg |
FOV | 40.3 deg |
GrainAmount | 0 |
GreenHue | 0 |
GreenSaturation | 0 |
HasCrop | True |
HasSettings | True |
Highlights2012 | 0 |
HueAdjustmentAqua | 0 |
HueAdjustmentBlue | 0 |
HueAdjustmentGreen | 0 |
HueAdjustmentMagenta | 0 |
HueAdjustmentOrange | 0 |
HueAdjustmentPurple | 0 |
HueAdjustmentRed | 0 |
HueAdjustmentYellow | 0 |
HyperfocalDistance | 7.49 m |
ImageHeight | 1345 |
ImageSize | 2023x1345 |
ImageWidth | 2023 |
ISO | 400 |
Lens | XF18-135mmF3.5-5.6R LM OIS WR |
LensInfo | 18-135mm f/3.5-5.6 |
LensMake | FUJIFILM |
LensManualDistortionAmount | 0 |
LensModel | XF18-135mmF3.5-5.6R LM OIS WR |
LensProfileEnable | 0 |
LensProfileSetup | LensDefaults |
LensSerialNumber | 43A08316 |
LightSource | Unknown |
LightValue | 9.8 |
LuminanceAdjustmentAqua | 0 |
LuminanceAdjustmentBlue | 0 |
LuminanceAdjustmentGreen | 0 |
LuminanceAdjustmentMagenta | 0 |
LuminanceAdjustmentOrange | 0 |
LuminanceAdjustmentPurple | 0 |
LuminanceAdjustmentRed | 0 |
LuminanceAdjustmentYellow | 0 |
LuminanceSmoothing | 0 |
Make | FUJIFILM |
MaxApertureValue | 3.5 |
Megapixels | 2.7 |
MeteringMode | Multi-segment |
Model | X-T1 |
ModifyDate (1) | 2016:08:30 21:24:33+02:00 |
ModifyDate | 2016:08:30 21:24:33 |
ParametricDarks | 0 |
ParametricHighlights | 0 |
ParametricHighlightSplit | 75 |
ParametricLights | 0 |
ParametricMidtoneSplit | 50 |
ParametricShadows | 0 |
ParametricShadowSplit | 25 |
PerspectiveAspect | 0 |
PerspectiveHorizontal | 0 |
PerspectiveRotate | 0.0 |
PerspectiveScale | 100 |
PerspectiveUpright | 0 |
PerspectiveVertical | 0 |
PerspectiveX | 0.00 |
PerspectiveY | 0.00 |
PostCropVignetteAmount | -50 |
PostCropVignetteFeather | 50 |
PostCropVignetteHighlightContrast | 0 |
PostCropVignetteMidpoint | 50 |
PostCropVignetteRoundness | 0 |
PostCropVignetteStyle | 2 |
ProcessVersion | 6.7 |
RedHue | 0 |
RedSaturation | 0 |
RelatedImageHeight | 1323 |
RelatedImageWidth | 2001 |
Saturation | 0 |
SaturationAdjustmentAqua | 0 |
SaturationAdjustmentBlue | 0 |
SaturationAdjustmentGreen | 0 |
SaturationAdjustmentMagenta | 0 |
SaturationAdjustmentOrange | 0 |
SaturationAdjustmentPurple | 0 |
SaturationAdjustmentRed | 0 |
SaturationAdjustmentYellow | 0 |
ScaleFactor35efl | 1.5 |
SceneCaptureType | Standard |
SceneType | Directly photographed |
SensingMethod | One-chip color area |
SensitivityType | Standard Output Sensitivity |
Shadows2012 | 0 |
ShadowTint | 0 |
SharpenDetail | 100 |
SharpenEdgeMasking | 0 |
SharpenRadius | +1.0 |
Sharpness (1) | 38 |
Sharpness | Hard |
ShutterSpeed | 1/70 |
ShutterSpeedValue | 1/70 |
Software | Adobe Photoshop Lightroom 6.6.1 (Windows) |
SplitToningBalance | 0 |
SplitToningHighlightHue | 0 |
SplitToningHighlightSaturation | 0 |
SplitToningShadowHue | 0 |
SplitToningShadowSaturation | 0 |
SubjectDistanceRange | Unknown |
Tint | +20 |
ToneCurve | 0, 0, 255, 255 |
ToneCurveBlue | 0, 0, 255, 255 |
ToneCurveGreen | 0, 0, 255, 255 |
ToneCurveName | Linear |
ToneCurveName2012 | Medium Contrast |
ToneCurvePV2012 | 0, 0, 32, 22, 64, 56, 128, 128, 192, 196, 255, 255 |
ToneCurvePV2012Blue | 0, 0, 255, 255 |
ToneCurvePV2012Green | 0, 0, 255, 255 |
ToneCurvePV2012Red | 0, 0, 255, 255 |
ToneCurveRed | 0, 0, 255, 255 |
ToneMapStrength | 0 |
Version | 9.6 |
Vibrance | 0 |
VignetteAmount | 0 |
WhiteBalance (1) | As Shot |
WhiteBalance | Auto |
Whites2012 | +7 |