Felt | Verdi |
AlreadyApplied | True |
Aperture | 2.8 |
ApertureValue | 2.8 |
ApproximateFocusDistance | 2.02 |
Artist | Mikkel Nordbaek |
AutoLateralCA | 1 |
AutoWhiteVersion | 134348800 |
BitsPerSample | 8 |
Blacks2012 | -68 |
BlueHue | 0 |
BlueSaturation | 0 |
By-line | Mikkel Nordbaek |
CameraProfile | Adobe Standard |
CircGradBasedCorrActive | true |
CircGradBasedCorrAmount | 1.000000 |
CircGradBasedCorrBrightness | 0.000000 |
CircGradBasedCorrClarity2012 (9) | 0.089660 |
CircGradBasedCorrClarity2012 | 0.000000 |
CircGradBasedCorrContrast2012 (9) | 0.310340 |
CircGradBasedCorrContrast2012 | 0.000000 |
CircGradBasedCorrDefringe | 0.000000 |
CircGradBasedCorrExposure2012 (10) | -0.131000 |
CircGradBasedCorrExposure2012 (3) | 0.089750 |
CircGradBasedCorrExposure2012 (5) | 0.131000 |
CircGradBasedCorrExposure2012 (6) | 0.172500 |
CircGradBasedCorrExposure2012 (7) | 0.144750 |
CircGradBasedCorrExposure2012 | 0.000000 |
CircGradBasedCorrHighlights2012 (9) | 0.503450 |
CircGradBasedCorrHighlights2012 | 0.000000 |
CircGradBasedCorrHue (2) | 0.000000 |
CircGradBasedCorrHue | 324.000000 |
CircGradBasedCorrLocalBlacks2012 | 0.000000 |
CircGradBasedCorrLocalDehaze | 0.000000 |
CircGradBasedCorrLocalWhites2012 | 0.000000 |
CircGradBasedCorrLuminanceNoise (10) | 1.000000 |
CircGradBasedCorrLuminanceNoise (9) | 0.000000 |
CircGradBasedCorrLuminanceNoise | -1.000000 |
CircGradBasedCorrMaskAngle (2) | 6.304190 |
CircGradBasedCorrMaskAngle (4) | 43.051400 |
CircGradBasedCorrMaskAngle (6) | -38.504000 |
CircGradBasedCorrMaskAngle (8) | -3.448960 |
CircGradBasedCorrMaskAngle (9) | 26.026700 |
CircGradBasedCorrMaskAngle | 0.000000 |
CircGradBasedCorrMaskBottom (1) | 0.428449 |
CircGradBasedCorrMaskBottom (10) | 0.826594 |
CircGradBasedCorrMaskBottom (2) | 0.818903 |
CircGradBasedCorrMaskBottom (3) | 1.016650 |
CircGradBasedCorrMaskBottom (4) | 0.436793 |
CircGradBasedCorrMaskBottom (5) | 0.408440 |
CircGradBasedCorrMaskBottom (6) | 0.318820 |
CircGradBasedCorrMaskBottom (7) | 0.203228 |
CircGradBasedCorrMaskBottom (8) | 0.844966 |
CircGradBasedCorrMaskBottom (9) | 0.602956 |
CircGradBasedCorrMaskBottom | 0.926919 |
CircGradBasedCorrMaskCenterWeight (1) | 0.000000 |
CircGradBasedCorrMaskCenterWeight (6) | 1.000000 |
CircGradBasedCorrMaskCenterWeight | 0.038616 |
CircGradBasedCorrMaskFeather | +100 |
CircGradBasedCorrMaskFlipped (1) | true |
CircGradBasedCorrMaskFlipped | false |
CircGradBasedCorrMaskFlow | 1.000000 |
CircGradBasedCorrMaskLeft (1) | 0.292448 |
CircGradBasedCorrMaskLeft (10) | 0.870093 |
CircGradBasedCorrMaskLeft (2) | 0.520552 |
CircGradBasedCorrMaskLeft (3) | 0.489529 |
CircGradBasedCorrMaskLeft (4) | 0.538849 |
CircGradBasedCorrMaskLeft (5) | 0.521883 |
CircGradBasedCorrMaskLeft (6) | 0.514155 |
CircGradBasedCorrMaskLeft (7) | 0.406060 |
CircGradBasedCorrMaskLeft (8) | 0.621595 |
CircGradBasedCorrMaskLeft (9) | 0.357380 |
CircGradBasedCorrMaskLeft | 0.234610 |
CircGradBasedCorrMaskMidpoint | +50 |
CircGradBasedCorrMaskRadius (4) | 0.059100 |
CircGradBasedCorrMaskRadius (6) | 0.068003 |
CircGradBasedCorrMaskRadius | 0.089355 |
CircGradBasedCorrMaskRight (1) | 0.366269 |
CircGradBasedCorrMaskRight (10) | 0.976733 |
CircGradBasedCorrMaskRight (2) | 0.699032 |
CircGradBasedCorrMaskRight (3) | 0.668009 |
CircGradBasedCorrMaskRight (4) | 0.558583 |
CircGradBasedCorrMaskRight (5) | 0.541617 |
CircGradBasedCorrMaskRight (6) | 0.850846 |
CircGradBasedCorrMaskRight (7) | 0.742751 |
CircGradBasedCorrMaskRight (8) | 0.839384 |
CircGradBasedCorrMaskRight (9) | 0.392014 |
CircGradBasedCorrMaskRight | 0.797867 |
CircGradBasedCorrMaskRoundness | 0 |
CircGradBasedCorrMaskTop (1) | 0.360306 |
CircGradBasedCorrMaskTop (10) | 0.577961 |
CircGradBasedCorrMaskTop (2) | 0.289037 |
CircGradBasedCorrMaskTop (3) | 0.486780 |
CircGradBasedCorrMaskTop (4) | 0.232043 |
CircGradBasedCorrMaskTop (5) | 0.203690 |
CircGradBasedCorrMaskTop (6) | 0.146456 |
CircGradBasedCorrMaskTop (7) | 0.030864 |
CircGradBasedCorrMaskTop (8) | 0.210630 |
CircGradBasedCorrMaskTop (9) | 0.334869 |
CircGradBasedCorrMaskTop | -0.054525 |
CircGradBasedCorrMaskValue (8) | 1.000000 |
CircGradBasedCorrMaskValue | 0.000000 |
CircGradBasedCorrMaskVersion | +2 |
CircGradBasedCorrMaskWhat (7) | Mask/CircularGradient |
CircGradBasedCorrMaskWhat | Mask/Paint |
CircGradBasedCorrMoire | 0.000000 |
CircGradBasedCorrSaturation (21) | -1.000000 |
CircGradBasedCorrSaturation | 0.000000 |
CircGradBasedCorrShadows2012 (9) | 0.931030 |
CircGradBasedCorrShadows2012 | 0.000000 |
CircGradBasedCorrSharpness (10) | 0.000000 |
CircGradBasedCorrSharpness (9) | 0.213790 |
CircGradBasedCorrSharpness | -1.000000 |
CircGradBasedCorrTemperature | 0.000000 |
CircGradBasedCorrTint | 0.000000 |
CircGradBasedCorrWhat | Correction |
CircleOfConfusion | 0.019 mm |
Clarity2012 | 0 |
ColorComponents | 3 |
ColorNoiseReduction | 25 |
ColorNoiseReductionDetail | 50 |
ColorNoiseReductionSmoothness | 50 |
ColorSpace | sRGB |
ColorTemperature | 4350 |
ColorTransform | YCbCr |
Contrast2012 | +23 |
ConvertToGrayscale | True |
Copyright | Mikkel Nordbaek |
CopyrightNotice | Mikkel Nordbaek |
CreateDate (1) | 2016:08:28 12:52:42.00 |
CreateDate | 2016:08:28 12:52:42 |
Creator | Mikkel Nordbaek |
CreatorTool | Adobe Photoshop Lightroom 6.6.1 (Windows) |
CropAngle | 0 |
CropBottom | 0.853492 |
CropConstrainToWarp | 0 |
CropLeft | 0 |
CropRight | 1 |
CropTop | 0 |
CustomRendered | Normal |
DateCreated (1) | 2016:08:28 |
DateCreated | 2016:08:28 12:52:42.00 |
DateTimeOriginal | 2016:08:28 12:52:42 |
Dehaze | 0 |
DOF | 0.04 m (2.00 - 2.04 m) |
Exposure2012 | -0.10 |
ExposureCompensation | 0 |
ExposureMode | Auto |
ExposureProgram | Aperture-priority AE |
ExposureTime | 1/125 |
Firmware | 1.0.9 |
Flash | Off, Did not fire |
FlashCompensation | 0 |
FNumber | 2.8 |
FocalLength | 100.0 mm |
FocalLength35efl | 100.0 mm (35 mm equivalent: 157.3 mm) |
Format | image/jpeg |
FOV | 13.1 deg |
GradientBasedCorrActive | true |
GradientBasedCorrAmount | 1.000000 |
GradientBasedCorrBrightness | 0.000000 |
GradientBasedCorrClarity2012 | 0.000000 |
GradientBasedCorrContrast2012 | 0.000000 |
GradientBasedCorrDefringe | 0.000000 |
GradientBasedCorrExposure2012 (1) | 0.282750 |
GradientBasedCorrExposure2012 | -0.365500 |
GradientBasedCorrHighlights2012 | 0.000000 |
GradientBasedCorrHue | 0.000000 |
GradientBasedCorrLocalBlacks2012 | 0.000000 |
GradientBasedCorrLocalDehaze | 0.000000 |
GradientBasedCorrLocalWhites2012 | 0.000000 |
GradientBasedCorrLuminanceNoise | 1.000000 |
GradientBasedCorrMaskCenterWeight | 0.000000 |
GradientBasedCorrMaskFlow | 1.000000 |
GradientBasedCorrMaskFullX (1) | -0.018420 |
GradientBasedCorrMaskFullX (2) | 0.048473 |
GradientBasedCorrMaskFullX | 1.036360 |
GradientBasedCorrMaskFullY (1) | -0.055979 |
GradientBasedCorrMaskFullY (2) | 0.785154 |
GradientBasedCorrMaskFullY | 0.500518 |
GradientBasedCorrMaskRadius | 0.071923 |
GradientBasedCorrMaskValue (2) | 0.000000 |
GradientBasedCorrMaskValue | 1.000000 |
GradientBasedCorrMaskWhat (2) | Mask/Paint |
GradientBasedCorrMaskWhat | Mask/Gradient |
GradientBasedCorrMaskZeroX (1) | 0.345613 |
GradientBasedCorrMaskZeroX (2) | 0.257392 |
GradientBasedCorrMaskZeroX | 0.823565 |
GradientBasedCorrMaskZeroY (1) | 0.452190 |
GradientBasedCorrMaskZeroY (2) | 0.607767 |
GradientBasedCorrMaskZeroY | 0.500295 |
GradientBasedCorrMoire | 0.000000 |
GradientBasedCorrSaturation | 0.000000 |
GradientBasedCorrShadows2012 | 0.000000 |
GradientBasedCorrSharpness | 0.000000 |
GradientBasedCorrTemperature | 0.000000 |
GradientBasedCorrTint | 0.000000 |
GradientBasedCorrWhat | Correction |
GrainAmount | 0 |
GrayMixerAqua | -17 |
GrayMixerBlue | +10 |
GrayMixerGreen | -27 |
GrayMixerMagenta | +3 |
GrayMixerOrange | -19 |
GrayMixerPurple | +15 |
GrayMixerRed | -10 |
GrayMixerYellow | -23 |
GreenHue | 0 |
GreenSaturation | 0 |
HasCrop | True |
HasExtendedXMP | 3AA4D4474CA28B0A1AD308CF9CDD9F1F |
HasSettings | True |
Highlights2012 | +59 |
HyperfocalDistance | 186.94 m |
ImageHeight | 2950 |
ImageNumber | 0 |
ImageSize | 5184x2950 |
ImageWidth | 5184 |
ISO | 800 |
Lens | EF100mm f/2.8 Macro USM |
LensID (1) | 190 |
LensID | Canon EF 100mm f/2.8 Macro USM |
LensInfo | 100mm f/? |
LensManualDistortionAmount | 0 |
LensModel | EF100mm f/2.8 Macro USM |
LensProfileChromaticAberrationScale | 100 |
LensProfileDistortionScale | 100 |
LensProfileEnable | 0 |
LensProfileFilename | Canon EOS 5D Mark II (Canon EF 100mm f2.8 Macro USM) - RAW.lcp |
LensProfileName | Adobe (Canon EF 100mm f/2.8 Macro USM) |
LensProfileSetup | LensDefaults |
LensProfileVignettingScale | 100 |
LightValue | 6.9 |
LuminanceSmoothing | 0 |
Make | Canon |
MaxApertureValue | 2.8 |
Megapixels | 15.3 |
MeteringMode | Multi-segment |
Model | Canon EOS 550D |
ModifyDate (1) | 2016:09:03 01:20:12+02:00 |
ModifyDate | 2016:09:03 01:20:12 |
PaintCorrectionActive | true |
PaintCorrectionAmount | 1.000000 |
PaintCorrectionBrightness | 0.000000 |
PaintCorrectionClarity2012 (7) | 0.310340 |
PaintCorrectionClarity2012 (8) | 0.268970 |
PaintCorrectionClarity2012 (9) | 0.144830 |
PaintCorrectionClarity2012 | 0.000000 |
PaintCorrectionContrast2012 (11) | 0.420690 |
PaintCorrectionContrast2012 (7) | 0.310340 |
PaintCorrectionContrast2012 (8) | 0.255170 |
PaintCorrectionContrast2012 (9) | 0.475860 |
PaintCorrectionContrast2012 | 0.000000 |
PaintCorrectionDefringe | 0.000000 |
PaintCorrectionExposure2012 (1) | 0.117250 |
PaintCorrectionExposure2012 (2) | 0.255250 |
PaintCorrectionExposure2012 (3) | 0.213750 |
PaintCorrectionExposure2012 (4) | 0.462000 |
PaintCorrectionExposure2012 (5) | 0.310250 |
PaintCorrectionExposure2012 (6) | -0.144750 |
PaintCorrectionExposure2012 (7) | 0.144750 |
PaintCorrectionExposure2012 (8) | 0.131000 |
PaintCorrectionExposure2012 (9) | -0.020750 |
PaintCorrectionExposure2012 | 0.000000 |
PaintCorrectionHighlights2012 (11) | 0.668970 |
PaintCorrectionHighlights2012 | 0.000000 |
PaintCorrectionHue | 0.000000 |
PaintCorrectionLocalBlacks2012 | 0.000000 |
PaintCorrectionLocalDehaze | 0.000000 |
PaintCorrectionLocalWhites2012 | 0.000000 |
PaintCorrectionLuminanceNoise | 0.000000 |
PaintCorrectionMaskCenterWeight (13) | 0.000000 |
PaintCorrectionMaskCenterWeight (19) | 1.000000 |
PaintCorrectionMaskCenterWeight | 0.053714 |
PaintCorrectionMaskFlow (1) | 1.000000 |
PaintCorrectionMaskFlow | 0.508000 |
PaintCorrectionMaskRadius (1) | 0.085166 |
PaintCorrectionMaskRadius (16) | 0.033389 |
PaintCorrectionMaskRadius (20) | 0.046697 |
PaintCorrectionMaskRadius (22) | 0.017531 |
PaintCorrectionMaskRadius (3) | 0.059100 |
PaintCorrectionMaskRadius (30) | 0.035319 |
PaintCorrectionMaskRadius (31) | 0.025092 |
PaintCorrectionMaskRadius (34) | 0.006061 |
PaintCorrectionMaskRadius (37) | 0.045912 |
PaintCorrectionMaskRadius | 0.056869 |
PaintCorrectionMaskValue | 1.000000 |
PaintCorrectionMaskWhat | Mask/Paint |
PaintCorrectionMoire | 0.000000 |
PaintCorrectionSaturation | 0.000000 |
PaintCorrectionShadows2012 | 0.000000 |
PaintCorrectionSharpness (1) | 0.000000 |
PaintCorrectionSharpness (11) | 0.751720 |
PaintCorrectionSharpness (7) | 0.668970 |
PaintCorrectionSharpness (8) | 0.406900 |
PaintCorrectionSharpness (9) | 0.544830 |
PaintCorrectionSharpness | 0.724140 |
PaintCorrectionTemperature | 0.000000 |
PaintCorrectionTint | 0.000000 |
PaintCorrectionWhat | Correction |
ParametricDarks | +11 |
ParametricHighlights | +29 |
ParametricHighlightSplit | 75 |
ParametricLights | -9 |
ParametricMidtoneSplit | 50 |
ParametricShadows | -4 |
ParametricShadowSplit | 25 |
PerspectiveAspect | 0 |
PerspectiveHorizontal | 0 |
PerspectiveRotate | 0.0 |
PerspectiveScale | 100 |
PerspectiveUpright | 0 |
PerspectiveVertical | 0 |
PerspectiveX | 0.00 |
PerspectiveY | 0.00 |
PostCropVignetteAmount | -5 |
PostCropVignetteFeather | 50 |
PostCropVignetteHighlightContrast | 0 |
PostCropVignetteMidpoint | 50 |
PostCropVignetteRoundness | 0 |
PostCropVignetteStyle | 1 |
ProcessVersion | 6.7 |
ProfileDescription | sRGB IEC61966-2.1 |
RedHue | 0 |
RedSaturation | 0 |
Rights | Mikkel Nordbaek |
ScaleFactor35efl | 1.6 |
SceneCaptureType | Standard |
SerialNumber | 2933541025 |
Shadows2012 | +100 |
ShadowTint | 0 |
SharpenDetail | 25 |
SharpenEdgeMasking | 66 |
SharpenRadius | +1.0 |
Sharpness | 118 |
ShutterSpeed | 1/125 |
ShutterSpeedValue | 1/125 |
Software | Adobe Photoshop Lightroom 6.6.1 (Windows) |
SplitToningBalance | 0 |
SplitToningHighlightHue | 0 |
SplitToningHighlightSaturation | 0 |
SplitToningShadowHue | 0 |
SplitToningShadowSaturation | 0 |
Tint | +5 |
ToneCurve | 0, 0, 255, 255 |
ToneCurveBlue | 0, 0, 255, 255 |
ToneCurveGreen | 0, 0, 255, 255 |
ToneCurveName | Linear |
ToneCurveName2012 | Medium Contrast |
ToneCurvePV2012 | 0, 0, 32, 22, 64, 56, 128, 128, 192, 196, 255, 255 |
ToneCurvePV2012Blue | 0, 0, 255, 255 |
ToneCurvePV2012Green | 0, 0, 255, 255 |
ToneCurvePV2012Red | 0, 0, 255, 255 |
ToneCurveRed | 0, 0, 255, 255 |
ToneMapStrength | 0 |
Version | 9.6 |
VignetteAmount | 0 |
WhiteBalance (1) | Custom |
WhiteBalance | Auto |
Whites2012 | +48 |