Felt | Verdi |
AlreadyApplied | True |
Aperture | 8.0 |
ApertureValue | 8.0 |
AutoLateralCA | 0 |
AutoWhiteVersion | 134348800 |
BitsPerSample | 8 |
Blacks2012 | +1 |
BlueHue | 0 |
BlueSaturation | 0 |
CameraProfile | Embedded |
CFAPattern | [Red,Green][Green,Blue] |
CircleOfConfusion | 0.030 mm |
Clarity2012 | +46 |
ColorComponents | 3 |
ColorNoiseReduction | 25 |
ColorNoiseReductionDetail | 50 |
ColorNoiseReductionSmoothness | 50 |
ColorSpace | sRGB |
ColorTransform | YCbCr |
Contrast | Normal |
Contrast2012 | +33 |
ConvertToGrayscale | True |
CreateDate | 2016:09:14 21:33:15 |
CreatorTool | Adobe Photoshop Lightroom 6.0 (Macintosh) |
CustomRendered | Normal |
DateCreated (1) | 2016:09:14 21:33:15.008 |
DateCreated | 2016:09:14 |
DateTimeOriginal | 2016:09:14 21:33:15 |
DigitalZoomRatio | 1 |
Exposure2012 | +0.20 |
ExposureCompensation | 0 |
ExposureMode | Auto |
ExposureProgram | Aperture-priority AE |
ExposureTime | 1/400 |
Flash | Off, Did not fire |
FNumber | 8.0 |
FocalLength | 50.0 mm |
FocalLength35efl | 50.0 mm (35 mm equivalent: 50.0 mm) |
FocalLengthIn35mmFormat | 50 mm |
Format | image/jpeg |
FOV | 39.6 deg |
GainControl | None |
GrainAmount | 0 |
GrayMixerAqua | -14 |
GrayMixerBlue | +18 |
GrayMixerGreen | -28 |
GrayMixerMagenta | +4 |
GrayMixerOrange | -22 |
GrayMixerPurple | +21 |
GrayMixerRed | -12 |
GrayMixerYellow | -26 |
GreenHue | 0 |
GreenSaturation | 0 |
HasCrop | False |
HasSettings | True |
Highlights2012 | -33 |
HyperfocalDistance | 10.40 m |
ImageHeight | 1714 |
ImageNumber | 9914 |
ImageSize | 4344x1714 |
ImageWidth | 4344 |
IncrementalTemperature | -11 |
IncrementalTint | 0 |
ISO | 100 |
Lens | 50.0 mm f/1.4 |
LensInfo | 50mm f/1.4 |
LensManualDistortionAmount | 0 |
LensModel | 50.0 mm f/1.4 |
LensProfileEnable | 0 |
LensProfileSetup | LensDefaults |
LightSource | Unknown |
LightValue | 14.6 |
LuminanceNoiseReductionContrast | 0 |
LuminanceNoiseReductionDetail | 50 |
LuminanceSmoothing | 29 |
Make | NIKON CORPORATION |
MaxApertureValue | 1.4 |
Megapixels | 7.4 |
MeteringMode | Multi-segment |
Model | NIKON D610 |
ModifyDate (1) | 2016:09:19 10:24:40-04:00 |
ModifyDate | 2016:09:19 10:24:40 |
Orientation | Horizontal (normal) |
PaintCorrectionActive | true |
PaintCorrectionAmount | 1.000000 |
PaintCorrectionBrightness | 0.000000 |
PaintCorrectionClarity2012 | 0.000000 |
PaintCorrectionContrast2012 (1) | 0.188772 |
PaintCorrectionContrast2012 (2) | 0.230105 |
PaintCorrectionContrast2012 (3) | 0.097111 |
PaintCorrectionContrast2012 | -0.238917 |
PaintCorrectionDefringe | 0.000000 |
PaintCorrectionExposure2012 (1) | 0.119913 |
PaintCorrectionExposure2012 (2) | 0.203943 |
PaintCorrectionExposure2012 (3) | 0.025073 |
PaintCorrectionExposure2012 | -0.205396 |
PaintCorrectionHighlights2012 (1) | -0.117733 |
PaintCorrectionHighlights2012 (3) | -0.003725 |
PaintCorrectionHighlights2012 | -0.169150 |
PaintCorrectionHue | 0.000000 |
PaintCorrectionLuminanceNoise | 0.000000 |
PaintCorrectionMaskCenterWeight | 0.036378 |
PaintCorrectionMaskFlow | 1.000000 |
PaintCorrectionMaskRadius | 0.086763 |
PaintCorrectionMaskValue | 1.000000 |
PaintCorrectionMaskWhat | Mask/Paint |
PaintCorrectionMoire | 0.000000 |
PaintCorrectionSaturation | 0.000000 |
PaintCorrectionShadows2012 (1) | -0.077307 |
PaintCorrectionShadows2012 (3) | 0.527980 |
PaintCorrectionShadows2012 | 0.194222 |
PaintCorrectionSharpness | 0.000000 |
PaintCorrectionTemperature | 0.000000 |
PaintCorrectionTint | 0.000000 |
PaintCorrectionWhat | Correction |
ParametricDarks | 0 |
ParametricHighlights | 0 |
ParametricHighlightSplit | 75 |
ParametricLights | 0 |
ParametricMidtoneSplit | 50 |
ParametricShadows | 0 |
ParametricShadowSplit | 25 |
PerspectiveAspect | 0 |
PerspectiveHorizontal | 0 |
PerspectiveRotate | 0.0 |
PerspectiveScale | 100 |
PerspectiveUpright | 0 |
PerspectiveVertical | 0 |
PostCropVignetteAmount | 0 |
ProcessVersion | 6.7 |
ProfileDescription | sRGB IEC61966-2.1 |
RawFileName | DSC_0133 copy.jpg |
RedHue | 0 |
RedSaturation | 0 |
Saturation | Normal |
ScaleFactor35efl | 1.0 |
SceneCaptureType | Landscape |
SceneType | Directly photographed |
SensingMethod | One-chip color area |
SensitivityType | Recommended Exposure Index |
Shadows2012 | +49 |
ShadowTint | 0 |
SharpenDetail | 25 |
SharpenEdgeMasking | 0 |
SharpenRadius | +1.0 |
Sharpness (1) | 40 |
Sharpness | Normal |
ShutterSpeed | 1/400 |
ShutterSpeedValue | 1/400 |
Software | Adobe Photoshop Lightroom 6.0 (Macintosh) |
SplitToningBalance | 0 |
SplitToningHighlightHue | 0 |
SplitToningHighlightSaturation | 0 |
SplitToningShadowHue | 0 |
SplitToningShadowSaturation | 0 |
SubjectDistanceRange | Unknown |
ToneCurve | 0, 0, 255, 255 |
ToneCurveBlue | 0, 0, 255, 255 |
ToneCurveGreen | 0, 0, 255, 255 |
ToneCurveName | Linear |
ToneCurveName2012 | Linear |
ToneCurvePV2012 | 0, 0, 255, 255 |
ToneCurvePV2012Blue | 0, 0, 255, 255 |
ToneCurvePV2012Green | 0, 0, 255, 255 |
ToneCurvePV2012Red | 0, 0, 255, 255 |
ToneCurveRed | 0, 0, 255, 255 |
Version | 9.0 |
VignetteAmount | 0 |
WhiteBalance (1) | Custom |
WhiteBalance | Auto |
Whites2012 | +45 |